BEGIN:VCALENDAR
VERSION:2.0
PRODID:-//Voice of OC - ECPv6.15.20//NONSGML v1.0//EN
CALSCALE:GREGORIAN
METHOD:PUBLISH
X-ORIGINAL-URL:https://voiceofoc.org
X-WR-CALDESC:Events for Voice of OC
REFRESH-INTERVAL;VALUE=DURATION:PT1H
X-Robots-Tag:noindex
X-PUBLISHED-TTL:PT1H
BEGIN:VTIMEZONE
TZID:America/Los_Angeles
BEGIN:DAYLIGHT
TZOFFSETFROM:-0800
TZOFFSETTO:-0700
TZNAME:PDT
DTSTART:20230312T100000
END:DAYLIGHT
BEGIN:STANDARD
TZOFFSETFROM:-0700
TZOFFSETTO:-0800
TZNAME:PST
DTSTART:20231105T090000
END:STANDARD
BEGIN:DAYLIGHT
TZOFFSETFROM:-0800
TZOFFSETTO:-0700
TZNAME:PDT
DTSTART:20240310T100000
END:DAYLIGHT
BEGIN:STANDARD
TZOFFSETFROM:-0700
TZOFFSETTO:-0800
TZNAME:PST
DTSTART:20241103T090000
END:STANDARD
BEGIN:DAYLIGHT
TZOFFSETFROM:-0800
TZOFFSETTO:-0700
TZNAME:PDT
DTSTART:20250309T100000
END:DAYLIGHT
BEGIN:STANDARD
TZOFFSETFROM:-0700
TZOFFSETTO:-0800
TZNAME:PST
DTSTART:20251102T090000
END:STANDARD
END:VTIMEZONE
BEGIN:VEVENT
DTSTART;TZID=America/Los_Angeles:20240811T140000
DTEND;TZID=America/Los_Angeles:20240811T153000
DTSTAMP:20260424T070326
CREATED:20240724T073037Z
LAST-MODIFIED:20240726T002830Z
UID:10023107-1723384800-1723390200@voiceofoc.org
SUMMARY:Fullerton Public Library: Meditation at the Library
DESCRIPTION:The San Clemente City Council generally meets on the first and third Tuesdays of each month. This meeting schedule can change\, particularly in months with national holidays\, so be sure [...]
URL:https://voiceofoc.org/event/meditate-at-the-fullerton-public-library/2024-08-11/
LOCATION:Fullerton Public Library\, 353 W. Commonwealth Ave.\, Fullerton\, CA\, 92832\, United States
CATEGORIES:Fullerton
GEO:33.8707769;-117.9300032
X-APPLE-STRUCTURED-LOCATION;VALUE=URI;X-ADDRESS=Fullerton Public Library 353 W. Commonwealth Ave. Fullerton CA 92832 United States;X-APPLE-RADIUS=500;X-TITLE=353 W. Commonwealth Ave.:geo:-117.9300032,33.8707769
END:VEVENT
BEGIN:VEVENT
DTSTART;TZID=America/Los_Angeles:20240811T140000
DTEND;TZID=America/Los_Angeles:20240811T190000
DTSTAMP:20260424T070326
CREATED:20240730T202528Z
LAST-MODIFIED:20240730T202746Z
UID:10025138-1723384800-1723402800@voiceofoc.org
SUMMARY:Santa Ana: Chicano Heritage Festival
DESCRIPTION:The San Clemente City Council generally meets on the first and third Tuesdays of each month. This meeting schedule can change\, particularly in months with national holidays\, so be sure [...]
URL:https://voiceofoc.org/event/santa-ana-chicano-heritage-festival/
LOCATION:Centennial Park\, West Edinger Avenue\, Santa Ana\, CA\, 92704\, United States
ATTACH;FMTTYPE=image/jpeg:https://voiceofoc.org/wp-content/uploads/2022/08/chicanoheritagemonth2.jpg
GEO:33.7260283;-117.9099684
X-APPLE-STRUCTURED-LOCATION;VALUE=URI;X-ADDRESS=Centennial Park West Edinger Avenue Santa Ana CA 92704 United States;X-APPLE-RADIUS=500;X-TITLE=West Edinger Avenue:geo:-117.9099684,33.7260283
END:VEVENT
END:VCALENDAR