BEGIN:VCALENDAR
VERSION:2.0
PRODID:-//Voice of OC - ECPv6.15.20//NONSGML v1.0//EN
CALSCALE:GREGORIAN
METHOD:PUBLISH
X-WR-CALNAME:Voice of OC
X-ORIGINAL-URL:https://voiceofoc.org
X-WR-CALDESC:Events for Voice of OC
REFRESH-INTERVAL;VALUE=DURATION:PT1H
X-Robots-Tag:noindex
X-PUBLISHED-TTL:PT1H
BEGIN:VTIMEZONE
TZID:America/Los_Angeles
BEGIN:DAYLIGHT
TZOFFSETFROM:-0800
TZOFFSETTO:-0700
TZNAME:PDT
DTSTART:20230312T100000
END:DAYLIGHT
BEGIN:STANDARD
TZOFFSETFROM:-0700
TZOFFSETTO:-0800
TZNAME:PST
DTSTART:20231105T090000
END:STANDARD
BEGIN:DAYLIGHT
TZOFFSETFROM:-0800
TZOFFSETTO:-0700
TZNAME:PDT
DTSTART:20240310T100000
END:DAYLIGHT
BEGIN:STANDARD
TZOFFSETFROM:-0700
TZOFFSETTO:-0800
TZNAME:PST
DTSTART:20241103T090000
END:STANDARD
BEGIN:DAYLIGHT
TZOFFSETFROM:-0800
TZOFFSETTO:-0700
TZNAME:PDT
DTSTART:20250309T100000
END:DAYLIGHT
BEGIN:STANDARD
TZOFFSETFROM:-0700
TZOFFSETTO:-0800
TZNAME:PST
DTSTART:20251102T090000
END:STANDARD
END:VTIMEZONE
BEGIN:VEVENT
DTSTART;TZID=America/Los_Angeles:20240813T080000
DTEND;TZID=America/Los_Angeles:20240813T170000
DTSTAMP:20260423T104417
CREATED:20240726T002347Z
LAST-MODIFIED:20240726T002347Z
UID:10023274-1723536000-1723568400@voiceofoc.org
SUMMARY:Fullerton Public Library: Teen Craft Night
DESCRIPTION:The San Clemente City Council generally meets on the first and third Tuesdays of each month. This meeting schedule can change\, particularly in months with national holidays\, so be sure [...]
URL:https://voiceofoc.org/event/fullerton-public-library-teen-craft-night/2024-08-13/
LOCATION:Fullerton Public Library\, 353 W. Commonwealth Ave.\, Fullerton\, CA\, 92832\, United States
CATEGORIES:Fullerton
GEO:33.8707769;-117.9300032
X-APPLE-STRUCTURED-LOCATION;VALUE=URI;X-ADDRESS=Fullerton Public Library 353 W. Commonwealth Ave. Fullerton CA 92832 United States;X-APPLE-RADIUS=500;X-TITLE=353 W. Commonwealth Ave.:geo:-117.9300032,33.8707769
END:VEVENT
BEGIN:VEVENT
DTSTART;TZID=America/Los_Angeles:20240813T093000
DTEND;TZID=America/Los_Angeles:20240813T143000
DTSTAMP:20260423T104417
CREATED:20200914T220858Z
LAST-MODIFIED:20250107T181655Z
UID:10023793-1723541400-1723559400@voiceofoc.org
SUMMARY:Orange County Board of Supervisors Meeting
DESCRIPTION:The San Clemente City Council generally meets on the first and third Tuesdays of each month. This meeting schedule can change\, particularly in months with national holidays\, so be sure [...]
URL:https://voiceofoc.org/event/orange-county-board-of-supervisors-meeting-2020-10-13-2020-10-20/2024-08-13/
LOCATION:Board Hearing Room\, First Floor\, 400 W. Civic Center Drive Santa Ana\, California\, 400 W. Civic Center Drive\, Santa Ana\, CA\, 92701\, United States
CATEGORIES:County Government
ATTACH;FMTTYPE=image/png:https://voiceofoc.org/wp-content/uploads/2021/10/AP_6464.png
GEO:33.7512193;-117.8716335
X-APPLE-STRUCTURED-LOCATION;VALUE=URI;X-ADDRESS=Board Hearing Room First Floor 400 W. Civic Center Drive Santa Ana California 400 W. Civic Center Drive Santa Ana CA 92701 United States;X-APPLE-RADIUS=500;X-TITLE=400 W. Civic Center Drive:geo:-117.8716335,33.7512193
END:VEVENT
BEGIN:VEVENT
DTSTART;TZID=America/Los_Angeles:20240813T160000
DTEND;TZID=America/Los_Angeles:20240813T180000
DTSTAMP:20260423T104417
CREATED:20200828T223418Z
LAST-MODIFIED:20251023T230503Z
UID:10020564-1723564800-1723572000@voiceofoc.org
SUMMARY:Irvine City Council Meeting
DESCRIPTION:The San Clemente City Council generally meets on the first and third Tuesdays of each month. This meeting schedule can change\, particularly in months with national holidays\, so be sure [...]
URL:https://voiceofoc.org/event/irvine-city-council-meetings/2024-08-13/
LOCATION:City Council Chamber\, Irvine City Hall\,  1 Civic Center Plaza \, Irvine\, CA\, 92606\, United States
CATEGORIES:City Governments,Irvine
ATTACH;FMTTYPE=image/png:https://voiceofoc.org/wp-content/uploads/2020/11/IrvineCityHallEDIT.png
GEO:33.6861936;-117.8262888
X-APPLE-STRUCTURED-LOCATION;VALUE=URI;X-ADDRESS=City Council Chamber Irvine City Hall  1 Civic Center Plaza  Irvine CA 92606 United States;X-APPLE-RADIUS=500;X-TITLE=1 Civic Center Plaza:geo:-117.8262888,33.6861936
END:VEVENT
BEGIN:VEVENT
DTSTART;TZID=America/Los_Angeles:20240813T170000
DTEND;TZID=America/Los_Angeles:20240813T190000
DTSTAMP:20260423T104417
CREATED:20200909T193927Z
LAST-MODIFIED:20230822T004434Z
UID:10020804-1723568400-1723575600@voiceofoc.org
SUMMARY:Buena Park City Council Meeting
DESCRIPTION:The San Clemente City Council generally meets on the first and third Tuesdays of each month. This meeting schedule can change\, particularly in months with national holidays\, so be sure [...]
URL:https://voiceofoc.org/event/buena-park-city-council-meetings/2024-08-13/
LOCATION:Buena Park City Council Chambers\, 6650 Beach Boulevard\, Buena Park\, CA\, 90622\, United States
CATEGORIES:Buena Park,City Governments
ATTACH;FMTTYPE=image/png:https://voiceofoc.org/wp-content/uploads/2020/10/JessicaRuiz_2019-8EDIT.png
GEO:33.8639363;-117.9966338
X-APPLE-STRUCTURED-LOCATION;VALUE=URI;X-ADDRESS=Buena Park City Council Chambers 6650 Beach Boulevard Buena Park CA 90622 United States;X-APPLE-RADIUS=500;X-TITLE=6650 Beach Boulevard:geo:-117.9966338,33.8639363
END:VEVENT
BEGIN:VEVENT
DTSTART;TZID=America/Los_Angeles:20240813T170000
DTEND;TZID=America/Los_Angeles:20240813T190000
DTSTAMP:20260423T104417
CREATED:20200909T232454Z
LAST-MODIFIED:20230910T205211Z
UID:10023049-1723568400-1723575600@voiceofoc.org
SUMMARY:Laguna Beach City Council Meeting
DESCRIPTION:The San Clemente City Council generally meets on the first and third Tuesdays of each month. This meeting schedule can change\, particularly in months with national holidays\, so be sure [...]
URL:https://voiceofoc.org/event/laguna-beach-city-council-meeting/2024-08-13/
LOCATION:Laguna Beach City Council Chambers\, 505 Forest Avenue\, Laguna Beach\, CA\, 92651\, United States
CATEGORIES:City Governments,Laguna Beach
ATTACH;FMTTYPE=image/jpeg:https://voiceofoc.org/wp-content/uploads/2021/08/08.10.2021-Omar-Sanchez-1.jpg
GEO:33.5465023;-117.7813457
X-APPLE-STRUCTURED-LOCATION;VALUE=URI;X-ADDRESS=Laguna Beach City Council Chambers 505 Forest Avenue Laguna Beach CA 92651 United States;X-APPLE-RADIUS=500;X-TITLE=505 Forest Avenue:geo:-117.7813457,33.5465023
END:VEVENT
BEGIN:VEVENT
DTSTART;TZID=America/Los_Angeles:20240813T180000
DTEND;TZID=America/Los_Angeles:20240813T200000
DTSTAMP:20260423T104417
CREATED:20170719T174613Z
LAST-MODIFIED:20240715T234947Z
UID:10020337-1723572000-1723579200@voiceofoc.org
SUMMARY:Huntington Beach Union High School District Board Meeting
DESCRIPTION:The San Clemente City Council generally meets on the first and third Tuesdays of each month. This meeting schedule can change\, particularly in months with national holidays\, so be sure [...]
URL:https://voiceofoc.org/event/huntington-beach-union-high-school-district-board-meeting/2024-08-13/
LOCATION:Huntington Beach Union High School District Office\, 5832 Bolsa Avenue\, Huntington Beach\, CA\, 92649\, United States
CATEGORIES:Fountain Valley,Huntington Beach,Schools,Westminster
ATTACH;FMTTYPE=image/jpeg:https://voiceofoc.org/wp-content/uploads/2021/02/photo-1475819927685-8cad4d3b1c39-1.jpg
GEO:33.7439309;-118.0271169
X-APPLE-STRUCTURED-LOCATION;VALUE=URI;X-ADDRESS=Huntington Beach Union High School District Office 5832 Bolsa Avenue Huntington Beach CA 92649 United States;X-APPLE-RADIUS=500;X-TITLE=5832 Bolsa Avenue:geo:-118.0271169,33.7439309
END:VEVENT
BEGIN:VEVENT
DTSTART;TZID=America/Los_Angeles:20240813T180000
DTEND;TZID=America/Los_Angeles:20240813T200000
DTSTAMP:20260423T104417
CREATED:20200911T203827Z
LAST-MODIFIED:20230804T185641Z
UID:10023324-1723572000-1723579200@voiceofoc.org
SUMMARY:Newport Beach City Council Meeting
DESCRIPTION:The San Clemente City Council generally meets on the first and third Tuesdays of each month. This meeting schedule can change\, particularly in months with national holidays\, so be sure [...]
URL:https://voiceofoc.org/event/newport-beach-city-council-meeting-2020-10-13/2024-08-13/
LOCATION:Newport Beach City Council Chambers\,  100 Civic Center Drive\, Newport Beach\, CA\, United States
CATEGORIES:City Governments,Newport Beach
ATTACH;FMTTYPE=image/jpeg:https://voiceofoc.org/wp-content/uploads/2018/04/newportbeachcityhallEDIT.jpg
GEO:33.6091872;-117.8724421
X-APPLE-STRUCTURED-LOCATION;VALUE=URI;X-ADDRESS=Newport Beach City Council Chambers  100 Civic Center Drive Newport Beach CA United States;X-APPLE-RADIUS=500;X-TITLE=100 Civic Center Drive:geo:-117.8724421,33.6091872
END:VEVENT
BEGIN:VEVENT
DTSTART;TZID=America/Los_Angeles:20240813T180000
DTEND;TZID=America/Los_Angeles:20240813T200000
DTSTAMP:20260423T104417
CREATED:20200911T214052Z
LAST-MODIFIED:20250707T174831Z
UID:10023424-1723572000-1723579200@voiceofoc.org
SUMMARY:Orange City Council Meeting
DESCRIPTION:The San Clemente City Council generally meets on the first and third Tuesdays of each month. This meeting schedule can change\, particularly in months with national holidays\, so be sure [...]
URL:https://voiceofoc.org/event/orange-city-council-meeting-2/2024-08-13/
LOCATION:Orange City Hall\, 300 E Chapman AVe\, Orange\, California\, United States
CATEGORIES:City Governments,Orange
ATTACH;FMTTYPE=image/jpeg:https://voiceofoc.org/wp-content/uploads/2020/04/AP_5152.jpg
GEO:33.7873785;-117.8504659
X-APPLE-STRUCTURED-LOCATION;VALUE=URI;X-ADDRESS=Orange City Hall 300 E Chapman AVe Orange California United States;X-APPLE-RADIUS=500;X-TITLE=300 E Chapman AVe:geo:-117.8504659,33.7873785
END:VEVENT
BEGIN:VEVENT
DTSTART;TZID=America/Los_Angeles:20240813T180000
DTEND;TZID=America/Los_Angeles:20240813T200000
DTSTAMP:20260423T104417
CREATED:20200930T181442Z
LAST-MODIFIED:20240716T002004Z
UID:10023816-1723572000-1723579200@voiceofoc.org
SUMMARY:Placentia-Yorba Linda Unified School District Board Meeting
DESCRIPTION:The San Clemente City Council generally meets on the first and third Tuesdays of each month. This meeting schedule can change\, particularly in months with national holidays\, so be sure [...]
URL:https://voiceofoc.org/event/placentia-yorba-linda-unified-school-district-board-meeting-2/2024-08-13/
LOCATION:Placentia-Yorba Linda Unified School District Office\, 1301 E Orangethrope Ave\, Placentia\, CA\, United States
CATEGORIES:Placentia,Schools,Yorba Linda
ATTACH;FMTTYPE=image/jpeg:https://voiceofoc.org/wp-content/uploads/2023/05/school-busses_-4.jpg
GEO:33.8703559;-117.8380355
X-APPLE-STRUCTURED-LOCATION;VALUE=URI;X-ADDRESS=Placentia-Yorba Linda Unified School District Office 1301 E Orangethrope Ave Placentia CA United States;X-APPLE-RADIUS=500;X-TITLE=1301 E Orangethrope Ave:geo:-117.8380355,33.8703559
END:VEVENT
BEGIN:VEVENT
DTSTART;TZID=America/Los_Angeles:20240813T180000
DTEND;TZID=America/Los_Angeles:20240813T200000
DTSTAMP:20260423T104417
CREATED:20200930T183444Z
LAST-MODIFIED:20240716T002443Z
UID:10023920-1723572000-1723579200@voiceofoc.org
SUMMARY:Santa Ana Unified School District Board Meeting
DESCRIPTION:The San Clemente City Council generally meets on the first and third Tuesdays of each month. This meeting schedule can change\, particularly in months with national holidays\, so be sure [...]
URL:https://voiceofoc.org/event/santa-ana-unified-school-district-board-meeting-2/2024-08-13/
LOCATION:Santa Ana Unified School District Office\, 1600 E Chestnut Ave\, Santa Ana\, CA\, United States
CATEGORIES:Santa Ana,Schools
ATTACH;FMTTYPE=image/jpeg:https://voiceofoc.org/wp-content/uploads/2021/09/AP_2851.jpg
GEO:33.7424439;-117.8451483
X-APPLE-STRUCTURED-LOCATION;VALUE=URI;X-ADDRESS=Santa Ana Unified School District Office 1600 E Chestnut Ave Santa Ana CA United States;X-APPLE-RADIUS=500;X-TITLE=1600 E Chestnut Ave:geo:-117.8451483,33.7424439
END:VEVENT
BEGIN:VEVENT
DTSTART;TZID=America/Los_Angeles:20240813T180000
DTEND;TZID=America/Los_Angeles:20240813T200000
DTSTAMP:20260423T104417
CREATED:20230627T053113Z
LAST-MODIFIED:20240716T001238Z
UID:10021159-1723572000-1723579200@voiceofoc.org
SUMMARY:Ocean View School District Board Meeting
DESCRIPTION:The San Clemente City Council generally meets on the first and third Tuesdays of each month. This meeting schedule can change\, particularly in months with national holidays\, so be sure [...]
URL:https://voiceofoc.org/event/ocean-view-school-district-board-meeting/2024-08-13/
LOCATION:17200 Pinehurst Lane\, Huntington Beach\, CA 92647\, 17200 Pinehurst Lane\, Huntington Beach\, CA\, 92647\, United States
CATEGORIES:Huntington Beach
ATTACH;FMTTYPE=image/jpeg:https://voiceofoc.org/wp-content/uploads/2021/09/AP_6781-scaled.jpg
GEO:33.7132948;-118.0210332
X-APPLE-STRUCTURED-LOCATION;VALUE=URI;X-ADDRESS=17200 Pinehurst Lane Huntington Beach CA 92647 17200 Pinehurst Lane Huntington Beach CA 92647 United States;X-APPLE-RADIUS=500;X-TITLE=17200 Pinehurst Lane:geo:-118.0210332,33.7132948
END:VEVENT
BEGIN:VEVENT
DTSTART;TZID=America/Los_Angeles:20240813T183000
DTEND;TZID=America/Los_Angeles:20240813T203000
DTSTAMP:20260423T104417
CREATED:20200909T224325Z
LAST-MODIFIED:20230627T043000Z
UID:10022950-1723573800-1723581000@voiceofoc.org
SUMMARY:Garden Grove City Council Meeting
DESCRIPTION:The San Clemente City Council generally meets on the first and third Tuesdays of each month. This meeting schedule can change\, particularly in months with national holidays\, so be sure [...]
URL:https://voiceofoc.org/event/garden-grove-city-council-meeting-2/2024-08-13/
LOCATION:Garden Grove Community Meeting Center\, 11300 Stanford Avenue\, Garden Grove\, 92840\, United States
CATEGORIES:City Governments,Garden Grove
ATTACH;FMTTYPE=image/png:https://voiceofoc.org/wp-content/uploads/2020/10/GardenGroveCityHall_1_EDIT.png
GEO:33.7773301;-117.9356096
X-APPLE-STRUCTURED-LOCATION;VALUE=URI;X-ADDRESS=Garden Grove Community Meeting Center 11300 Stanford Avenue Garden Grove 92840 United States;X-APPLE-RADIUS=500;X-TITLE=11300 Stanford Avenue:geo:-117.9356096,33.7773301
END:VEVENT
BEGIN:VEVENT
DTSTART;TZID=America/Los_Angeles:20240813T190000
DTEND;TZID=America/Los_Angeles:20240813T210000
DTSTAMP:20260423T104417
CREATED:20170719T173557Z
LAST-MODIFIED:20240715T234801Z
UID:10020121-1723575600-1723582800@voiceofoc.org
SUMMARY:Huntington Beach City School District Board Meeting
DESCRIPTION:The San Clemente City Council generally meets on the first and third Tuesdays of each month. This meeting schedule can change\, particularly in months with national holidays\, so be sure [...]
URL:https://voiceofoc.org/event/huntington-beach-city-school-district/2024-08-13/
LOCATION:8750 Dorsett Dr. Huntington Beach\, CA 92646\, 8750 Dorsett Dr.\, Huntington Beach\, CA\, 92646\, United States
CATEGORIES:Huntington Beach,Schools
ATTACH;FMTTYPE=image/jpeg:https://voiceofoc.org/wp-content/uploads/2023/06/AP_1536-copy.jpg
GEO:33.6549804;-117.9751465
X-APPLE-STRUCTURED-LOCATION;VALUE=URI;X-ADDRESS=8750 Dorsett Dr. Huntington Beach CA 92646 8750 Dorsett Dr. Huntington Beach CA 92646 United States;X-APPLE-RADIUS=500;X-TITLE=8750 Dorsett Dr.:geo:-117.9751465,33.6549804
END:VEVENT
END:VCALENDAR