BEGIN:VCALENDAR
VERSION:2.0
PRODID:-//Voice of OC - ECPv6.15.20//NONSGML v1.0//EN
CALSCALE:GREGORIAN
METHOD:PUBLISH
X-WR-CALNAME:Voice of OC
X-ORIGINAL-URL:https://voiceofoc.org
X-WR-CALDESC:Events for Voice of OC
REFRESH-INTERVAL;VALUE=DURATION:PT1H
X-Robots-Tag:noindex
X-PUBLISHED-TTL:PT1H
BEGIN:VTIMEZONE
TZID:America/Los_Angeles
BEGIN:DAYLIGHT
TZOFFSETFROM:-0800
TZOFFSETTO:-0700
TZNAME:PDT
DTSTART:20230312T100000
END:DAYLIGHT
BEGIN:STANDARD
TZOFFSETFROM:-0700
TZOFFSETTO:-0800
TZNAME:PST
DTSTART:20231105T090000
END:STANDARD
BEGIN:DAYLIGHT
TZOFFSETFROM:-0800
TZOFFSETTO:-0700
TZNAME:PDT
DTSTART:20240310T100000
END:DAYLIGHT
BEGIN:STANDARD
TZOFFSETFROM:-0700
TZOFFSETTO:-0800
TZNAME:PST
DTSTART:20241103T090000
END:STANDARD
BEGIN:DAYLIGHT
TZOFFSETFROM:-0800
TZOFFSETTO:-0700
TZNAME:PDT
DTSTART:20250309T100000
END:DAYLIGHT
BEGIN:STANDARD
TZOFFSETFROM:-0700
TZOFFSETTO:-0800
TZNAME:PST
DTSTART:20251102T090000
END:STANDARD
END:VTIMEZONE
BEGIN:VEVENT
DTSTART;TZID=America/Los_Angeles:20241009T103000
DTEND;TZID=America/Los_Angeles:20241009T110000
DTSTAMP:20260423T164235
CREATED:20240829T041624Z
LAST-MODIFIED:20240829T041738Z
UID:10024087-1728469800-1728471600@voiceofoc.org
SUMMARY:Orange Public Library: Toddler Storytime
DESCRIPTION:The San Clemente City Council generally meets on the first and third Tuesdays of each month. This meeting schedule can change\, particularly in months with national holidays\, so be sure [...]
URL:https://voiceofoc.org/event/orange-public-library-toddler-storytime/2024-10-09/
LOCATION:Orange Public Library & History Center Community Room\, East Chapman Avenue\, Orange\, CA\, 92866\, United States
CATEGORIES:Orange
GEO:33.7882405;-117.849504
X-APPLE-STRUCTURED-LOCATION;VALUE=URI;X-ADDRESS=Orange Public Library & History Center Community Room East Chapman Avenue Orange CA 92866 United States;X-APPLE-RADIUS=500;X-TITLE=East Chapman Avenue:geo:-117.849504,33.7882405
END:VEVENT
BEGIN:VEVENT
DTSTART;TZID=America/Los_Angeles:20241009T110000
DTEND;TZID=America/Los_Angeles:20241009T170000
DTSTAMP:20260423T164235
CREATED:20240726T001313Z
LAST-MODIFIED:20240726T001433Z
UID:10023124-1728471600-1728493200@voiceofoc.org
SUMMARY:Fullerton Public Library: Baby & Toddler Stay & Play
DESCRIPTION:The San Clemente City Council generally meets on the first and third Tuesdays of each month. This meeting schedule can change\, particularly in months with national holidays\, so be sure [...]
URL:https://voiceofoc.org/event/baby-toddler-stay-play/2024-10-09/
LOCATION:Fullerton Public Library\, 353 W. Commonwealth Ave.\, Fullerton\, CA\, 92832\, United States
GEO:33.8707769;-117.9300032
X-APPLE-STRUCTURED-LOCATION;VALUE=URI;X-ADDRESS=Fullerton Public Library 353 W. Commonwealth Ave. Fullerton CA 92832 United States;X-APPLE-RADIUS=500;X-TITLE=353 W. Commonwealth Ave.:geo:-117.9300032,33.8707769
END:VEVENT
BEGIN:VEVENT
DTSTART;TZID=America/Los_Angeles:20241009T173000
DTEND;TZID=America/Los_Angeles:20241009T193000
DTSTAMP:20260423T164235
CREATED:20170719T182154Z
LAST-MODIFIED:20240715T233204Z
UID:10020443-1728495000-1728502200@voiceofoc.org
SUMMARY:Centralia Elementary School District Board Meeting
DESCRIPTION:The San Clemente City Council generally meets on the first and third Tuesdays of each month. This meeting schedule can change\, particularly in months with national holidays\, so be sure [...]
URL:https://voiceofoc.org/event/centralia-elementary-school-district-board-meeting/2024-10-09/
LOCATION:Walter Knott Education Center\, 7300 La Palma Avenue\, Buena Park\, 7300 La Palma Avenue\, Buena Park\, CA\, 90620\, United States
CATEGORIES:Anaheim,Buena Park,Cypress,La Palma,Schools
ATTACH;FMTTYPE=image/jpeg:https://voiceofoc.org/wp-content/uploads/2023/06/IMG_5482.jpg
GEO:33.8462512;-118.0053882
X-APPLE-STRUCTURED-LOCATION;VALUE=URI;X-ADDRESS=Walter Knott Education Center 7300 La Palma Avenue Buena Park 7300 La Palma Avenue Buena Park CA 90620 United States;X-APPLE-RADIUS=500;X-TITLE=7300 La Palma Avenue:geo:-118.0053882,33.8462512
END:VEVENT
BEGIN:VEVENT
DTSTART;TZID=America/Los_Angeles:20241009T183000
DTEND;TZID=America/Los_Angeles:20241009T203000
DTSTAMP:20260423T164235
CREATED:20230627T051144Z
LAST-MODIFIED:20240715T231555Z
UID:10025128-1728498600-1728505800@voiceofoc.org
SUMMARY:Anaheim Elementary School District Board Meeting
DESCRIPTION:The San Clemente City Council generally meets on the first and third Tuesdays of each month. This meeting schedule can change\, particularly in months with national holidays\, so be sure [...]
URL:https://voiceofoc.org/event/anaheim-elementary-school-district/2024-10-09/
LOCATION:1001 S. East Street\, Building B\, Anaheim\, California\, 1001 S. East Street\, Anaheim\, 92805\, United States
ATTACH;FMTTYPE=image/jpeg:https://voiceofoc.org/wp-content/uploads/2023/06/IMG_5532.jpg
GEO:33.8228554;-117.8988105
X-APPLE-STRUCTURED-LOCATION;VALUE=URI;X-ADDRESS=1001 S. East Street Building B Anaheim California 1001 S. East Street Anaheim 92805 United States;X-APPLE-RADIUS=500;X-TITLE=1001 S. East Street:geo:-117.8988105,33.8228554
END:VEVENT
BEGIN:VEVENT
DTSTART;TZID=America/Los_Angeles:20241009T190000
DTEND;TZID=America/Los_Angeles:20241009T210000
DTSTAMP:20260423T164235
CREATED:20200911T220514Z
LAST-MODIFIED:20240719T171900Z
UID:10023460-1728500400-1728507600@voiceofoc.org
SUMMARY:Rancho Santa Margarita City Council Meeting
DESCRIPTION:The San Clemente City Council generally meets on the first and third Tuesdays of each month. This meeting schedule can change\, particularly in months with national holidays\, so be sure [...]
URL:https://voiceofoc.org/event/rancho-santa-margarita-city-council-meeting-2/2024-10-09/
LOCATION:Rancho Santa Margarita City Hall\, 22112 El Paseo\, Rancho Santa Margarita \, CA\, 92688\, United States
CATEGORIES:City Governments,Rancho Santa Margarita
ATTACH;FMTTYPE=image/jpeg:https://voiceofoc.org/wp-content/uploads/2020/10/©JessicaRuiz_2019_Rancho_Santa_Margarita-6.jpg
GEO:33.6419366;-117.594582
X-APPLE-STRUCTURED-LOCATION;VALUE=URI;X-ADDRESS=Rancho Santa Margarita City Hall 22112 El Paseo Rancho Santa Margarita  CA 92688 United States;X-APPLE-RADIUS=500;X-TITLE=22112 El Paseo:geo:-117.594582,33.6419366
END:VEVENT
END:VCALENDAR