BEGIN:VCALENDAR
VERSION:2.0
PRODID:-//Voice of OC - ECPv6.15.20//NONSGML v1.0//EN
CALSCALE:GREGORIAN
METHOD:PUBLISH
X-ORIGINAL-URL:https://voiceofoc.org
X-WR-CALDESC:Events for Voice of OC
REFRESH-INTERVAL;VALUE=DURATION:PT1H
X-Robots-Tag:noindex
X-PUBLISHED-TTL:PT1H
BEGIN:VTIMEZONE
TZID:America/Los_Angeles
BEGIN:DAYLIGHT
TZOFFSETFROM:-0800
TZOFFSETTO:-0700
TZNAME:PDT
DTSTART:20230312T100000
END:DAYLIGHT
BEGIN:STANDARD
TZOFFSETFROM:-0700
TZOFFSETTO:-0800
TZNAME:PST
DTSTART:20231105T090000
END:STANDARD
BEGIN:DAYLIGHT
TZOFFSETFROM:-0800
TZOFFSETTO:-0700
TZNAME:PDT
DTSTART:20240310T100000
END:DAYLIGHT
BEGIN:STANDARD
TZOFFSETFROM:-0700
TZOFFSETTO:-0800
TZNAME:PST
DTSTART:20241103T090000
END:STANDARD
BEGIN:DAYLIGHT
TZOFFSETFROM:-0800
TZOFFSETTO:-0700
TZNAME:PDT
DTSTART:20250309T100000
END:DAYLIGHT
BEGIN:STANDARD
TZOFFSETFROM:-0700
TZOFFSETTO:-0800
TZNAME:PST
DTSTART:20251102T090000
END:STANDARD
END:VTIMEZONE
BEGIN:VEVENT
DTSTART;TZID=America/Los_Angeles:20241210T080000
DTEND;TZID=America/Los_Angeles:20241210T170000
DTSTAMP:20260425T104620
CREATED:20240726T002347Z
LAST-MODIFIED:20240726T002347Z
UID:10023278-1733817600-1733850000@voiceofoc.org
SUMMARY:Fullerton Public Library: Teen Craft Night
DESCRIPTION:The San Clemente City Council generally meets on the first and third Tuesdays of each month. This meeting schedule can change\, particularly in months with national holidays\, so be sure [...]
URL:https://voiceofoc.org/event/fullerton-public-library-teen-craft-night/2024-12-10/
LOCATION:Fullerton Public Library\, 353 W. Commonwealth Ave.\, Fullerton\, CA\, 92832\, United States
CATEGORIES:Fullerton
GEO:33.8707769;-117.9300032
X-APPLE-STRUCTURED-LOCATION;VALUE=URI;X-ADDRESS=Fullerton Public Library 353 W. Commonwealth Ave. Fullerton CA 92832 United States;X-APPLE-RADIUS=500;X-TITLE=353 W. Commonwealth Ave.:geo:-117.9300032,33.8707769
END:VEVENT
BEGIN:VEVENT
DTSTART;TZID=America/Los_Angeles:20241210T150000
DTEND;TZID=America/Los_Angeles:20241210T170000
DTSTAMP:20260425T104620
CREATED:20240829T042516Z
LAST-MODIFIED:20240829T042516Z
UID:10023748-1733842800-1733850000@voiceofoc.org
SUMMARY:Orange Public Library: Homework Center
DESCRIPTION:The San Clemente City Council generally meets on the first and third Tuesdays of each month. This meeting schedule can change\, particularly in months with national holidays\, so be sure [...]
URL:https://voiceofoc.org/event/orange-public-library-homework-center/2024-12-10/
LOCATION:Orange Public Library & History Center Community Room\, East Chapman Avenue\, Orange\, CA\, 92866\, United States
CATEGORIES:Orange
GEO:33.7882405;-117.849504
X-APPLE-STRUCTURED-LOCATION;VALUE=URI;X-ADDRESS=Orange Public Library & History Center Community Room East Chapman Avenue Orange CA 92866 United States;X-APPLE-RADIUS=500;X-TITLE=East Chapman Avenue:geo:-117.849504,33.7882405
END:VEVENT
BEGIN:VEVENT
DTSTART;TZID=America/Los_Angeles:20241210T160000
DTEND;TZID=America/Los_Angeles:20241210T180000
DTSTAMP:20260425T104620
CREATED:20200828T223418Z
LAST-MODIFIED:20251023T230503Z
UID:10020568-1733846400-1733853600@voiceofoc.org
SUMMARY:Irvine City Council Meeting
DESCRIPTION:The San Clemente City Council generally meets on the first and third Tuesdays of each month. This meeting schedule can change\, particularly in months with national holidays\, so be sure [...]
URL:https://voiceofoc.org/event/irvine-city-council-meetings/2024-12-10/
LOCATION:City Council Chamber\, Irvine City Hall\,  1 Civic Center Plaza \, Irvine\, CA\, 92606\, United States
CATEGORIES:City Governments,Irvine
ATTACH;FMTTYPE=image/png:https://voiceofoc.org/wp-content/uploads/2020/11/IrvineCityHallEDIT.png
GEO:33.6861936;-117.8262888
X-APPLE-STRUCTURED-LOCATION;VALUE=URI;X-ADDRESS=City Council Chamber Irvine City Hall  1 Civic Center Plaza  Irvine CA 92606 United States;X-APPLE-RADIUS=500;X-TITLE=1 Civic Center Plaza:geo:-117.8262888,33.6861936
END:VEVENT
BEGIN:VEVENT
DTSTART;TZID=America/Los_Angeles:20241210T170000
DTEND;TZID=America/Los_Angeles:20241210T190000
DTSTAMP:20260425T104620
CREATED:20200909T193927Z
LAST-MODIFIED:20230822T004434Z
UID:10020808-1733850000-1733857200@voiceofoc.org
SUMMARY:Buena Park City Council Meeting
DESCRIPTION:The San Clemente City Council generally meets on the first and third Tuesdays of each month. This meeting schedule can change\, particularly in months with national holidays\, so be sure [...]
URL:https://voiceofoc.org/event/buena-park-city-council-meetings/2024-12-10/
LOCATION:Buena Park City Council Chambers\, 6650 Beach Boulevard\, Buena Park\, CA\, 90622\, United States
CATEGORIES:Buena Park,City Governments
ATTACH;FMTTYPE=image/png:https://voiceofoc.org/wp-content/uploads/2020/10/JessicaRuiz_2019-8EDIT.png
GEO:33.8639363;-117.9966338
X-APPLE-STRUCTURED-LOCATION;VALUE=URI;X-ADDRESS=Buena Park City Council Chambers 6650 Beach Boulevard Buena Park CA 90622 United States;X-APPLE-RADIUS=500;X-TITLE=6650 Beach Boulevard:geo:-117.9966338,33.8639363
END:VEVENT
BEGIN:VEVENT
DTSTART;TZID=America/Los_Angeles:20241210T170000
DTEND;TZID=America/Los_Angeles:20241210T190000
DTSTAMP:20260425T104620
CREATED:20200909T232454Z
LAST-MODIFIED:20230910T205211Z
UID:10023053-1733850000-1733857200@voiceofoc.org
SUMMARY:Laguna Beach City Council Meeting
DESCRIPTION:The San Clemente City Council generally meets on the first and third Tuesdays of each month. This meeting schedule can change\, particularly in months with national holidays\, so be sure [...]
URL:https://voiceofoc.org/event/laguna-beach-city-council-meeting/2024-12-10/
LOCATION:Laguna Beach City Council Chambers\, 505 Forest Avenue\, Laguna Beach\, CA\, 92651\, United States
CATEGORIES:City Governments,Laguna Beach
ATTACH;FMTTYPE=image/jpeg:https://voiceofoc.org/wp-content/uploads/2021/08/08.10.2021-Omar-Sanchez-1.jpg
GEO:33.5465023;-117.7813457
X-APPLE-STRUCTURED-LOCATION;VALUE=URI;X-ADDRESS=Laguna Beach City Council Chambers 505 Forest Avenue Laguna Beach CA 92651 United States;X-APPLE-RADIUS=500;X-TITLE=505 Forest Avenue:geo:-117.7813457,33.5465023
END:VEVENT
BEGIN:VEVENT
DTSTART;TZID=America/Los_Angeles:20241210T180000
DTEND;TZID=America/Los_Angeles:20241210T190000
DTSTAMP:20260425T104620
CREATED:20200911T202042Z
LAST-MODIFIED:20250822T073351Z
UID:10023225-1733853600-1733857200@voiceofoc.org
SUMMARY:Mission Viejo City Council Meeting
DESCRIPTION:The San Clemente City Council generally meets on the first and third Tuesdays of each month. This meeting schedule can change\, particularly in months with national holidays\, so be sure [...]
URL:https://voiceofoc.org/event/mission-viejo-city-council-meeting/2024-12-10/
LOCATION:Mission Viejo Council Chamber at City Hall\,  200 Civic Center\, Mission Viejo\, CA\, United States
CATEGORIES:City Governments,Mission Viejo
ATTACH;FMTTYPE=image/jpeg:https://voiceofoc.org/wp-content/uploads/2020/09/Mission_Viejo.jpg
GEO:33.59632;-117.659895
X-APPLE-STRUCTURED-LOCATION;VALUE=URI;X-ADDRESS=Mission Viejo Council Chamber at City Hall  200 Civic Center Mission Viejo CA United States;X-APPLE-RADIUS=500;X-TITLE=200 Civic Center:geo:-117.659895,33.59632
END:VEVENT
BEGIN:VEVENT
DTSTART;TZID=America/Los_Angeles:20241210T180000
DTEND;TZID=America/Los_Angeles:20241210T200000
DTSTAMP:20260425T104620
CREATED:20200911T203827Z
LAST-MODIFIED:20230804T185641Z
UID:10023328-1733853600-1733860800@voiceofoc.org
SUMMARY:Newport Beach City Council Meeting
DESCRIPTION:The San Clemente City Council generally meets on the first and third Tuesdays of each month. This meeting schedule can change\, particularly in months with national holidays\, so be sure [...]
URL:https://voiceofoc.org/event/newport-beach-city-council-meeting-2020-10-13/2024-12-10/
LOCATION:Newport Beach City Council Chambers\,  100 Civic Center Drive\, Newport Beach\, CA\, United States
CATEGORIES:City Governments,Newport Beach
ATTACH;FMTTYPE=image/jpeg:https://voiceofoc.org/wp-content/uploads/2018/04/newportbeachcityhallEDIT.jpg
GEO:33.6091872;-117.8724421
X-APPLE-STRUCTURED-LOCATION;VALUE=URI;X-ADDRESS=Newport Beach City Council Chambers  100 Civic Center Drive Newport Beach CA United States;X-APPLE-RADIUS=500;X-TITLE=100 Civic Center Drive:geo:-117.8724421,33.6091872
END:VEVENT
BEGIN:VEVENT
DTSTART;TZID=America/Los_Angeles:20241210T180000
DTEND;TZID=America/Los_Angeles:20241210T200000
DTSTAMP:20260425T104620
CREATED:20200911T214052Z
LAST-MODIFIED:20250707T174831Z
UID:10023428-1733853600-1733860800@voiceofoc.org
SUMMARY:Orange City Council Meeting
DESCRIPTION:The San Clemente City Council generally meets on the first and third Tuesdays of each month. This meeting schedule can change\, particularly in months with national holidays\, so be sure [...]
URL:https://voiceofoc.org/event/orange-city-council-meeting-2/2024-12-10/
LOCATION:Orange City Hall\, 300 E Chapman AVe\, Orange\, California\, United States
CATEGORIES:City Governments,Orange
ATTACH;FMTTYPE=image/jpeg:https://voiceofoc.org/wp-content/uploads/2020/04/AP_5152.jpg
GEO:33.7873785;-117.8504659
X-APPLE-STRUCTURED-LOCATION;VALUE=URI;X-ADDRESS=Orange City Hall 300 E Chapman AVe Orange California United States;X-APPLE-RADIUS=500;X-TITLE=300 E Chapman AVe:geo:-117.8504659,33.7873785
END:VEVENT
BEGIN:VEVENT
DTSTART;TZID=America/Los_Angeles:20241210T180000
DTEND;TZID=America/Los_Angeles:20241210T200000
DTSTAMP:20260425T104620
CREATED:20200930T200835Z
LAST-MODIFIED:20240715T234119Z
UID:10023981-1733853600-1733860800@voiceofoc.org
SUMMARY:Fullerton Joint Union High School District Board Meeting
DESCRIPTION:The San Clemente City Council generally meets on the first and third Tuesdays of each month. This meeting schedule can change\, particularly in months with national holidays\, so be sure [...]
URL:https://voiceofoc.org/event/fullerton-joint-union-high-school-district-board-meeting-2/2024-12-10/
LOCATION:Fullerton Education Center Board Room\, 1051 West Bastanchury Road\, Fullerton\, CA\, United States
CATEGORIES:Fullerton,Schools
ATTACH;FMTTYPE=image/jpeg:https://voiceofoc.org/wp-content/uploads/2020/02/Blackhistoryparade.2020.EDIT-4.jpg
GEO:33.8886705;-117.944259
X-APPLE-STRUCTURED-LOCATION;VALUE=URI;X-ADDRESS=Fullerton Education Center Board Room 1051 West Bastanchury Road Fullerton CA United States;X-APPLE-RADIUS=500;X-TITLE=1051 West Bastanchury Road:geo:-117.944259,33.8886705
END:VEVENT
BEGIN:VEVENT
DTSTART;TZID=America/Los_Angeles:20241210T180000
DTEND;TZID=America/Los_Angeles:20241210T200000
DTSTAMP:20260425T104620
CREATED:20230627T053113Z
LAST-MODIFIED:20240716T001238Z
UID:10021165-1733853600-1733860800@voiceofoc.org
SUMMARY:Ocean View School District Board Meeting
DESCRIPTION:The San Clemente City Council generally meets on the first and third Tuesdays of each month. This meeting schedule can change\, particularly in months with national holidays\, so be sure [...]
URL:https://voiceofoc.org/event/ocean-view-school-district-board-meeting/2024-12-10/
LOCATION:17200 Pinehurst Lane\, Huntington Beach\, CA 92647\, 17200 Pinehurst Lane\, Huntington Beach\, CA\, 92647\, United States
CATEGORIES:Huntington Beach
ATTACH;FMTTYPE=image/jpeg:https://voiceofoc.org/wp-content/uploads/2021/09/AP_6781-scaled.jpg
GEO:33.7132948;-118.0210332
X-APPLE-STRUCTURED-LOCATION;VALUE=URI;X-ADDRESS=17200 Pinehurst Lane Huntington Beach CA 92647 17200 Pinehurst Lane Huntington Beach CA 92647 United States;X-APPLE-RADIUS=500;X-TITLE=17200 Pinehurst Lane:geo:-118.0210332,33.7132948
END:VEVENT
BEGIN:VEVENT
DTSTART;TZID=America/Los_Angeles:20241210T183000
DTEND;TZID=America/Los_Angeles:20241210T193000
DTSTAMP:20260425T104620
CREATED:20200914T182147Z
LAST-MODIFIED:20240812T194546Z
UID:10023594-1733855400-1733859000@voiceofoc.org
SUMMARY:Stanton City Council Meeting
DESCRIPTION:The San Clemente City Council generally meets on the first and third Tuesdays of each month. This meeting schedule can change\, particularly in months with national holidays\, so be sure [...]
URL:https://voiceofoc.org/event/stanton-city-council-meeting-2/2024-12-10/
LOCATION:Stanton City Council Chambers\, 7800 Katella Avenue\, Stanton \, CA\, United States
CATEGORIES:City Governments,Stanton
ATTACH;FMTTYPE=image/jpeg:https://voiceofoc.org/wp-content/uploads/2019/07/JessicaRuiz_2019_Stanton-5-2-e1564512648849.jpeg
GEO:33.8018173;-117.9963757
X-APPLE-STRUCTURED-LOCATION;VALUE=URI;X-ADDRESS=Stanton City Council Chambers 7800 Katella Avenue Stanton  CA United States;X-APPLE-RADIUS=500;X-TITLE=7800 Katella Avenue:geo:-117.9963757,33.8018173
END:VEVENT
BEGIN:VEVENT
DTSTART;TZID=America/Los_Angeles:20241210T183000
DTEND;TZID=America/Los_Angeles:20241210T203000
DTSTAMP:20260425T104620
CREATED:20200909T224325Z
LAST-MODIFIED:20230627T043000Z
UID:10022954-1733855400-1733862600@voiceofoc.org
SUMMARY:Garden Grove City Council Meeting
DESCRIPTION:The San Clemente City Council generally meets on the first and third Tuesdays of each month. This meeting schedule can change\, particularly in months with national holidays\, so be sure [...]
URL:https://voiceofoc.org/event/garden-grove-city-council-meeting-2/2024-12-10/
LOCATION:Garden Grove Community Meeting Center\, 11300 Stanford Avenue\, Garden Grove\, 92840\, United States
CATEGORIES:City Governments,Garden Grove
ATTACH;FMTTYPE=image/png:https://voiceofoc.org/wp-content/uploads/2020/10/GardenGroveCityHall_1_EDIT.png
GEO:33.7773301;-117.9356096
X-APPLE-STRUCTURED-LOCATION;VALUE=URI;X-ADDRESS=Garden Grove Community Meeting Center 11300 Stanford Avenue Garden Grove 92840 United States;X-APPLE-RADIUS=500;X-TITLE=11300 Stanford Avenue:geo:-117.9356096,33.7773301
END:VEVENT
BEGIN:VEVENT
DTSTART;TZID=America/Los_Angeles:20241210T190000
DTEND;TZID=America/Los_Angeles:20241210T200000
DTSTAMP:20260425T104620
CREATED:20200909T231018Z
LAST-MODIFIED:20260105T173907Z
UID:10027019-1733857200-1733860800@voiceofoc.org
SUMMARY:La Palma City Council Meeting
DESCRIPTION:The San Clemente City Council generally meets on the first and third Tuesdays of each month. This meeting schedule can change\, particularly in months with national holidays\, so be sure [...]
URL:https://voiceofoc.org/event/la-palma-city-council-meeting-2/2024-12-10/
LOCATION:La Palma City Council Chambers\, 7822 Walker Street\, La Palma\, CA\, United States
CATEGORIES:City Governments,La Palma
ATTACH;FMTTYPE=image/png:https://voiceofoc.org/wp-content/uploads/2020/09/La_Palma-15.png
GEO:33.8489493;-118.0364761
X-APPLE-STRUCTURED-LOCATION;VALUE=URI;X-ADDRESS=La Palma City Council Chambers 7822 Walker Street La Palma CA United States;X-APPLE-RADIUS=500;X-TITLE=7822 Walker Street:geo:-118.0364761,33.8489493
END:VEVENT
BEGIN:VEVENT
DTSTART;TZID=America/Los_Angeles:20241210T190000
DTEND;TZID=America/Los_Angeles:20241210T210000
DTSTAMP:20260425T104620
CREATED:20200909T234232Z
LAST-MODIFIED:20241112T180946Z
UID:10023147-1733857200-1733864400@voiceofoc.org
SUMMARY:Laguna Hills City Council Meeting
DESCRIPTION:The San Clemente City Council generally meets on the first and third Tuesdays of each month. This meeting schedule can change\, particularly in months with national holidays\, so be sure [...]
URL:https://voiceofoc.org/event/laguna-hills-city-council-meeting-2-2/2024-12-10/
LOCATION:Laguna Hills City Council Chambers\, 24035 El Toro Road\, Laguna Hills\, CA\, 92653\, United States
CATEGORIES:City Governments,Laguna Hills
ATTACH;FMTTYPE=image/jpeg:https://voiceofoc.org/wp-content/uploads/2019/12/LagunaHillsFoothillsEDIT.jpg
GEO:33.6132359;-117.7117707
X-APPLE-STRUCTURED-LOCATION;VALUE=URI;X-ADDRESS=Laguna Hills City Council Chambers 24035 El Toro Road Laguna Hills CA 92653 United States;X-APPLE-RADIUS=500;X-TITLE=24035 El Toro Road:geo:-117.7117707,33.6132359
END:VEVENT
END:VCALENDAR