BEGIN:VCALENDAR
VERSION:2.0
PRODID:-//Voice of OC - ECPv6.15.20//NONSGML v1.0//EN
CALSCALE:GREGORIAN
METHOD:PUBLISH
X-ORIGINAL-URL:https://voiceofoc.org
X-WR-CALDESC:Events for Voice of OC
REFRESH-INTERVAL;VALUE=DURATION:PT1H
X-Robots-Tag:noindex
X-PUBLISHED-TTL:PT1H
BEGIN:VTIMEZONE
TZID:America/Los_Angeles
BEGIN:DAYLIGHT
TZOFFSETFROM:-0800
TZOFFSETTO:-0700
TZNAME:PDT
DTSTART:20230312T100000
END:DAYLIGHT
BEGIN:STANDARD
TZOFFSETFROM:-0700
TZOFFSETTO:-0800
TZNAME:PST
DTSTART:20231105T090000
END:STANDARD
BEGIN:DAYLIGHT
TZOFFSETFROM:-0800
TZOFFSETTO:-0700
TZNAME:PDT
DTSTART:20240310T100000
END:DAYLIGHT
BEGIN:STANDARD
TZOFFSETFROM:-0700
TZOFFSETTO:-0800
TZNAME:PST
DTSTART:20241103T090000
END:STANDARD
BEGIN:DAYLIGHT
TZOFFSETFROM:-0800
TZOFFSETTO:-0700
TZNAME:PDT
DTSTART:20250309T100000
END:DAYLIGHT
BEGIN:STANDARD
TZOFFSETFROM:-0700
TZOFFSETTO:-0800
TZNAME:PST
DTSTART:20251102T090000
END:STANDARD
END:VTIMEZONE
BEGIN:VEVENT
DTSTART;TZID=America/Los_Angeles:20241216T170000
DTEND;TZID=America/Los_Angeles:20241216T190000
DTSTAMP:20260421T135112
CREATED:20170718T202854Z
LAST-MODIFIED:20240715T232458Z
UID:10019844-1734368400-1734375600@voiceofoc.org
SUMMARY:Buena Park School District Board Meeting
DESCRIPTION:The San Clemente City Council generally meets on the first and third Tuesdays of each month. This meeting schedule can change\, particularly in months with national holidays\, so be sure [...]
URL:https://voiceofoc.org/event/buena-park-elementary-school-district-board-meeting/2024-12-16/
LOCATION:Buena Park District Office Board Room\, 6885 Orangethorpe Ave\, Buena Park\, CA\, 90620\, United States
CATEGORIES:Buena Park,Fullerton,La Palma,Schools
ATTACH;FMTTYPE=image/jpeg:https://voiceofoc.org/wp-content/uploads/2023/03/2M1A4442.jpg
GEO:33.8592459;-118.0145004
X-APPLE-STRUCTURED-LOCATION;VALUE=URI;X-ADDRESS=Buena Park District Office Board Room 6885 Orangethorpe Ave Buena Park CA 90620 United States;X-APPLE-RADIUS=500;X-TITLE=6885 Orangethorpe Ave:geo:-118.0145004,33.8592459
END:VEVENT
BEGIN:VEVENT
DTSTART;TZID=America/Los_Angeles:20241216T180000
DTEND;TZID=America/Los_Angeles:20241216T200000
DTSTAMP:20260421T135112
CREATED:20200928T175414Z
LAST-MODIFIED:20240715T235510Z
UID:10023907-1734372000-1734379200@voiceofoc.org
SUMMARY:Laguna Beach Unified School District Board Meeting
DESCRIPTION:The San Clemente City Council generally meets on the first and third Tuesdays of each month. This meeting schedule can change\, particularly in months with national holidays\, so be sure [...]
URL:https://voiceofoc.org/event/laguna-beach-unified-school-district-meeting/2024-12-16/
LOCATION:Thurston Middle School Library\, 2100 Park Avenue\, Laguna Beach 92651\, 2100 Park Avenue\, Laguna Beach\, CA\, 92651\, United States
CATEGORIES:Laguna Beach,Schools
ATTACH;FMTTYPE=image/jpeg:https://voiceofoc.org/wp-content/uploads/2020/07/IMG_7445.jpeg
GEO:33.5502693;-117.7647556
X-APPLE-STRUCTURED-LOCATION;VALUE=URI;X-ADDRESS=Thurston Middle School Library 2100 Park Avenue Laguna Beach 92651 2100 Park Avenue Laguna Beach CA 92651 United States;X-APPLE-RADIUS=500;X-TITLE=2100 Park Avenue:geo:-117.7647556,33.5502693
END:VEVENT
BEGIN:VEVENT
DTSTART;TZID=America/Los_Angeles:20241216T180000
DTEND;TZID=America/Los_Angeles:20241216T200000
DTSTAMP:20260421T135112
CREATED:20200930T182308Z
LAST-MODIFIED:20240716T002209Z
UID:10023769-1734372000-1734379200@voiceofoc.org
SUMMARY:Saddleback Valley Unified School District Board Meeting
DESCRIPTION:The San Clemente City Council generally meets on the first and third Tuesdays of each month. This meeting schedule can change\, particularly in months with national holidays\, so be sure [...]
URL:https://voiceofoc.org/event/saddleback-valley-unified-school-district-board-meeting/2024-12-16/
LOCATION:Saddleback Valley Unified School District Education Center\, 25631 Peter A. Hartman Way\, Mission Viejo\, CA\, 92691\, United States
CATEGORIES:Aliso Viejo,Laguna Hills,Laguna Niguel,Laguna Woods,Mission Viejo,Schools
ATTACH;FMTTYPE=image/jpeg:https://voiceofoc.org/wp-content/uploads/2022/01/AP_6720.jpg
GEO:33.6215929;-117.6839092
X-APPLE-STRUCTURED-LOCATION;VALUE=URI;X-ADDRESS=Saddleback Valley Unified School District Education Center 25631 Peter A. Hartman Way Mission Viejo CA 92691 United States;X-APPLE-RADIUS=500;X-TITLE=25631 Peter A. Hartman Way:geo:-117.6839092,33.6215929
END:VEVENT
BEGIN:VEVENT
DTSTART;TZID=America/Los_Angeles:20241216T180000
DTEND;TZID=America/Los_Angeles:20241216T200000
DTSTAMP:20260421T135112
CREATED:20230627T052329Z
LAST-MODIFIED:20240715T233907Z
UID:10021104-1734372000-1734379200@voiceofoc.org
SUMMARY:Fullerton School District Board Meeting
DESCRIPTION:The San Clemente City Council generally meets on the first and third Tuesdays of each month. This meeting schedule can change\, particularly in months with national holidays\, so be sure [...]
URL:https://voiceofoc.org/event/fullerton-school-district-board-meeting/2024-12-16/
LOCATION:District Administration Offices\, ELC Room\, 1401 W. Valencia Drive\, Fullerton\, California\, 1401 W. Valencia Drive\, Fullerton\, CA\, 92833\, United States
ATTACH;FMTTYPE=image/jpeg:https://voiceofoc.org/wp-content/uploads/2020/06/Ladera.jpg
GEO:33.8669293;-117.9511866
X-APPLE-STRUCTURED-LOCATION;VALUE=URI;X-ADDRESS=District Administration Offices ELC Room 1401 W. Valencia Drive Fullerton California 1401 W. Valencia Drive Fullerton CA 92833 United States;X-APPLE-RADIUS=500;X-TITLE=1401 W. Valencia Drive:geo:-117.9511866,33.8669293
END:VEVENT
BEGIN:VEVENT
DTSTART;TZID=America/Los_Angeles:20241216T183000
DTEND;TZID=America/Los_Angeles:20241216T203000
DTSTAMP:20260421T135112
CREATED:20200921T212419Z
LAST-MODIFIED:20240715T232210Z
UID:10023837-1734373800-1734381000@voiceofoc.org
SUMMARY:Brea Olinda Unified School District Board Meeting
DESCRIPTION:The San Clemente City Council generally meets on the first and third Tuesdays of each month. This meeting schedule can change\, particularly in months with national holidays\, so be sure [...]
URL:https://voiceofoc.org/event/brea-olinda-unified-school-district-board-meeting/2024-12-16/
LOCATION:Brea Civic & Cultural Center\, City Council Chambers\, 1 Civic Center Circle\, Brea\, CA\, United States
CATEGORIES:Brea,Schools
ATTACH;FMTTYPE=image/png:https://voiceofoc.org/wp-content/uploads/2022/02/Screen-Shot-2022-01-25-at-2.36.57-PM.png
GEO:33.9170664;-117.8889229
X-APPLE-STRUCTURED-LOCATION;VALUE=URI;X-ADDRESS=Brea Civic & Cultural Center City Council Chambers 1 Civic Center Circle Brea CA United States;X-APPLE-RADIUS=500;X-TITLE=1 Civic Center Circle:geo:-117.8889229,33.9170664
END:VEVENT
BEGIN:VEVENT
DTSTART;TZID=America/Los_Angeles:20241216T183000
DTEND;TZID=America/Los_Angeles:20241216T203000
DTSTAMP:20260421T135112
CREATED:20241007T225002Z
LAST-MODIFIED:20241007T225002Z
UID:10024148-1734373800-1734381000@voiceofoc.org
SUMMARY:La Habra City Council Meeting
DESCRIPTION:The San Clemente City Council generally meets on the first and third Tuesdays of each month. This meeting schedule can change\, particularly in months with national holidays\, so be sure [...]
URL:https://voiceofoc.org/event/la-habra-city-council-meeting-3/2024-12-16/
LOCATION:La Habra City Council Chambers\, 201 E. La Habra Blvd\, La Habra \, CA\, 90633\, United States
CATEGORIES:City Governments,La Habra
ATTACH;FMTTYPE=image/jpeg:https://voiceofoc.org/wp-content/uploads/2020/10/©JessicaRuiz_2019_La_Habra.jpg
GEO:33.9324492;-117.9447637
X-APPLE-STRUCTURED-LOCATION;VALUE=URI;X-ADDRESS=La Habra City Council Chambers 201 E. La Habra Blvd La Habra  CA 90633 United States;X-APPLE-RADIUS=500;X-TITLE=201 E. La Habra Blvd:geo:-117.9447637,33.9324492
END:VEVENT
BEGIN:VEVENT
DTSTART;TZID=America/Los_Angeles:20241216T190000
DTEND;TZID=America/Los_Angeles:20241216T210000
DTSTAMP:20260421T135112
CREATED:20170718T215621Z
LAST-MODIFIED:20240715T233424Z
UID:10019957-1734375600-1734382800@voiceofoc.org
SUMMARY:Cypress School District Board Meeting
DESCRIPTION:The San Clemente City Council generally meets on the first and third Tuesdays of each month. This meeting schedule can change\, particularly in months with national holidays\, so be sure [...]
URL:https://voiceofoc.org/event/cypress-school-district-board-meeting/2024-12-16/
LOCATION:Board Room\, 5816 Corporate Avenue\, Cypress\, CA 90630\, 5816 Corporate Avenue\, Cypress\, CA\, 90630\, United States
CATEGORIES:Buena Park,Cypress,La Palma,Schools
ATTACH;FMTTYPE=image/jpeg:https://voiceofoc.org/wp-content/uploads/2023/06/IMG_5429.jpg
GEO:33.8073081;-118.0317153
X-APPLE-STRUCTURED-LOCATION;VALUE=URI;X-ADDRESS=Board Room 5816 Corporate Avenue Cypress CA 90630 5816 Corporate Avenue Cypress CA 90630 United States;X-APPLE-RADIUS=500;X-TITLE=5816 Corporate Avenue:geo:-118.0317153,33.8073081
END:VEVENT
BEGIN:VEVENT
DTSTART;TZID=America/Los_Angeles:20241216T190000
DTEND;TZID=America/Los_Angeles:20241216T210000
DTSTAMP:20260421T135112
CREATED:20200930T180749Z
LAST-MODIFIED:20240716T001652Z
UID:10023849-1734375600-1734382800@voiceofoc.org
SUMMARY:Orange Unified School District Board Meeting
DESCRIPTION:The San Clemente City Council generally meets on the first and third Tuesdays of each month. This meeting schedule can change\, particularly in months with national holidays\, so be sure [...]
URL:https://voiceofoc.org/event/orange-unified-school-district-board-meeting-2/2024-12-16/
LOCATION:1401 N. Handy Street\, Bldg. H\, Orange\, CA 92867\, 1401 N. Handy Street\, Bldg. H\, Orange\, CA\, 92867\, United States
CATEGORIES:Orange,Schools
ATTACH;FMTTYPE=image/jpeg:https://voiceofoc.org/wp-content/uploads/2023/05/AP_2046-copy.jpg
GEO:33.8110401;-117.8268854
X-APPLE-STRUCTURED-LOCATION;VALUE=URI;X-ADDRESS=1401 N. Handy Street Bldg. H Orange CA 92867 1401 N. Handy Street Bldg. H Orange CA 92867 United States;X-APPLE-RADIUS=500;X-TITLE=1401 N. Handy Street\, Bldg. H:geo:-117.8268854,33.8110401
END:VEVENT
BEGIN:VEVENT
DTSTART;TZID=America/Los_Angeles:20241216T193000
DTEND;TZID=America/Los_Angeles:20241216T213000
DTSTAMP:20260421T135112
CREATED:20230627T052920Z
LAST-MODIFIED:20240716T000323Z
UID:10021120-1734377400-1734384600@voiceofoc.org
SUMMARY:Lowell Joint School District Board Meeting
DESCRIPTION:The San Clemente City Council generally meets on the first and third Tuesdays of each month. This meeting schedule can change\, particularly in months with national holidays\, so be sure [...]
URL:https://voiceofoc.org/event/lowell-joint-school-district-board-meeting/2024-12-16/
LOCATION:11019 Valley Home Avenue\, Whittier\, CA 90603\, 11019 Valley Home Avenue\, Whittier\, CA\, 90603\, United States
ATTACH;FMTTYPE=image/jpeg:https://voiceofoc.org/wp-content/uploads/2022/10/school-busses_.jpg
GEO:33.9328791;-117.9768569
X-APPLE-STRUCTURED-LOCATION;VALUE=URI;X-ADDRESS=11019 Valley Home Avenue Whittier CA 90603 11019 Valley Home Avenue Whittier CA 90603 United States;X-APPLE-RADIUS=500;X-TITLE=11019 Valley Home Avenue:geo:-117.9768569,33.9328791
END:VEVENT
END:VCALENDAR