BEGIN:VCALENDAR
VERSION:2.0
PRODID:-//Voice of OC - ECPv6.15.20//NONSGML v1.0//EN
CALSCALE:GREGORIAN
METHOD:PUBLISH
X-WR-CALNAME:Voice of OC
X-ORIGINAL-URL:https://voiceofoc.org
X-WR-CALDESC:Events for Voice of OC
REFRESH-INTERVAL;VALUE=DURATION:PT1H
X-Robots-Tag:noindex
X-PUBLISHED-TTL:PT1H
BEGIN:VTIMEZONE
TZID:America/Los_Angeles
BEGIN:DAYLIGHT
TZOFFSETFROM:-0800
TZOFFSETTO:-0700
TZNAME:PDT
DTSTART:20250309T100000
END:DAYLIGHT
BEGIN:STANDARD
TZOFFSETFROM:-0700
TZOFFSETTO:-0800
TZNAME:PST
DTSTART:20251102T090000
END:STANDARD
BEGIN:DAYLIGHT
TZOFFSETFROM:-0800
TZOFFSETTO:-0700
TZNAME:PDT
DTSTART:20260308T100000
END:DAYLIGHT
BEGIN:STANDARD
TZOFFSETFROM:-0700
TZOFFSETTO:-0800
TZNAME:PST
DTSTART:20261101T090000
END:STANDARD
BEGIN:DAYLIGHT
TZOFFSETFROM:-0800
TZOFFSETTO:-0700
TZNAME:PDT
DTSTART:20270314T100000
END:DAYLIGHT
BEGIN:STANDARD
TZOFFSETFROM:-0700
TZOFFSETTO:-0800
TZNAME:PST
DTSTART:20271107T090000
END:STANDARD
END:VTIMEZONE
BEGIN:VEVENT
DTSTART;TZID=America/Los_Angeles:20260421T160000
DTEND;TZID=America/Los_Angeles:20260421T180000
DTSTAMP:20260421T200247
CREATED:20260126T203430Z
LAST-MODIFIED:20260126T203635Z
UID:10028695-1776787200-1776794400@voiceofoc.org
SUMMARY:Irvine City Council Meeting
DESCRIPTION:The San Clemente City Council generally meets on the first and third Tuesdays of each month. This meeting schedule can change\, particularly in months with national holidays\, so be sure [...]
URL:https://voiceofoc.org/event/irvine-city-council-meetings-3/2026-04-21/
LOCATION:City Council Chamber\, Irvine City Hall\,  1 Civic Center Plaza \, Irvine\, CA\, 92606\, United States
CATEGORIES:City Governments,Irvine
ATTACH;FMTTYPE=image/png:https://voiceofoc.org/wp-content/uploads/2020/11/IrvineCityHallEDIT.png
GEO:33.6861936;-117.8262888
X-APPLE-STRUCTURED-LOCATION;VALUE=URI;X-ADDRESS=City Council Chamber Irvine City Hall  1 Civic Center Plaza  Irvine CA 92606 United States;X-APPLE-RADIUS=500;X-TITLE=1 Civic Center Plaza:geo:-117.8262888,33.6861936
END:VEVENT
BEGIN:VEVENT
DTSTART;TZID=America/Los_Angeles:20260421T170000
DTEND;TZID=America/Los_Angeles:20260421T190000
DTSTAMP:20260421T200247
CREATED:20210316T012338Z
LAST-MODIFIED:20241101T172210Z
UID:10026447-1776790800-1776798000@voiceofoc.org
SUMMARY:San Juan Capistrano City Council Meeting
DESCRIPTION:The San Clemente City Council generally meets on the first and third Tuesdays of each month. This meeting schedule can change\, particularly in months with national holidays\, so be sure [...]
URL:https://voiceofoc.org/event/san-juan-capistrano-city-council-meeting-3/2026-04-21/
LOCATION:San Juan Capistrano City Hall\, 32400 Paseo Adelanto\, San Juan Capistrano\, CA\, United States
CATEGORIES:City Governments,San Juan Capistrano
ATTACH;FMTTYPE=image/png:https://voiceofoc.org/wp-content/uploads/2020/10/San_Juan_Capistrano-8EDIT.png
GEO:33.4929293;-117.6649745
X-APPLE-STRUCTURED-LOCATION;VALUE=URI;X-ADDRESS=San Juan Capistrano City Hall 32400 Paseo Adelanto San Juan Capistrano CA United States;X-APPLE-RADIUS=500;X-TITLE=32400 Paseo Adelanto:geo:-117.6649745,33.4929293
END:VEVENT
BEGIN:VEVENT
DTSTART;TZID=America/Los_Angeles:20260421T174500
DTEND;TZID=America/Los_Angeles:20260421T194500
DTSTAMP:20260421T200247
CREATED:20241101T194413Z
LAST-MODIFIED:20241101T194449Z
UID:10026862-1776793500-1776800700@voiceofoc.org
SUMMARY:Santa Ana City Council Meeting
DESCRIPTION:The San Clemente City Council generally meets on the first and third Tuesdays of each month. This meeting schedule can change\, particularly in months with national holidays\, so be sure [...]
URL:https://voiceofoc.org/event/santa-ana-city-council-meeting-3-2-2/2026-04-21/
LOCATION:Santa Ana City Council Chambers\, 22 Civic Center Plaza\, Santa Ana\, CA\, United States
CATEGORIES:City Governments,Santa Ana
ATTACH;FMTTYPE=image/jpeg:https://voiceofoc.org/wp-content/uploads/2020/05/RECALLCECI.2020.05.EDIT-9.jpg
GEO:33.7499444;-117.8733502
X-APPLE-STRUCTURED-LOCATION;VALUE=URI;X-ADDRESS=Santa Ana City Council Chambers 22 Civic Center Plaza Santa Ana CA United States;X-APPLE-RADIUS=500;X-TITLE=22 Civic Center Plaza:geo:-117.8733502,33.7499444
END:VEVENT
BEGIN:VEVENT
DTSTART;TZID=America/Los_Angeles:20260421T180000
DTEND;TZID=America/Los_Angeles:20260421T200000
DTSTAMP:20260421T200247
CREATED:20210316T013421Z
LAST-MODIFIED:20251104T212356Z
UID:10027424-1776794400-1776801600@voiceofoc.org
SUMMARY:San Clemente City Council Meeting
DESCRIPTION:The San Clemente City Council generally meets on the first and third Tuesdays of each month. This meeting schedule can change\, particularly in months with national holidays\, so be sure [...]
URL:https://voiceofoc.org/event/san-clemente-city-council-meeting-3/2026-04-21/
LOCATION:San Clemente City Hall\, 100 Avenida Presidio\, San Clemente\, CA\, United States
CATEGORIES:City Governments,San Clemente
ATTACH;FMTTYPE=image/jpeg:https://voiceofoc.org/wp-content/uploads/2020/11/©JessicaRuiz_2019_San_Clemente-8.jpg
GEO:33.4279886;-117.6089651
X-APPLE-STRUCTURED-LOCATION;VALUE=URI;X-ADDRESS=San Clemente City Hall 100 Avenida Presidio San Clemente CA United States;X-APPLE-RADIUS=500;X-TITLE=100 Avenida Presidio:geo:-117.6089651,33.4279886
END:VEVENT
BEGIN:VEVENT
DTSTART;TZID=America/Los_Angeles:20260421T190000
DTEND;TZID=America/Los_Angeles:20260421T210000
DTSTAMP:20260421T200247
CREATED:20210316T020427Z
LAST-MODIFIED:20250121T194336Z
UID:10027471-1776798000-1776805200@voiceofoc.org
SUMMARY:Placentia City Council Meeting
DESCRIPTION:The San Clemente City Council generally meets on the first and third Tuesdays of each month. This meeting schedule can change\, particularly in months with national holidays\, so be sure [...]
URL:https://voiceofoc.org/event/placentia-city-council-meeting-3/2026-04-21/
LOCATION:Placentia City Hall\, 401 East Chapman Avenue\, Placentia\, CA\, 92870\, United States
CATEGORIES:City Governments,Placentia
ATTACH;FMTTYPE=image/jpeg:https://voiceofoc.org/wp-content/uploads/2020/12/JessicaRuiz_2019_Placentia-7.jpg
GEO:33.871581;-117.8620038
X-APPLE-STRUCTURED-LOCATION;VALUE=URI;X-ADDRESS=Placentia City Hall 401 East Chapman Avenue Placentia CA 92870 United States;X-APPLE-RADIUS=500;X-TITLE=401 East Chapman Avenue:geo:-117.8620038,33.871581
END:VEVENT
END:VCALENDAR