BEGIN:VCALENDAR
VERSION:2.0
PRODID:-//Voice of OC - ECPv6.15.20//NONSGML v1.0//EN
CALSCALE:GREGORIAN
METHOD:PUBLISH
X-WR-CALNAME:Voice of OC
X-ORIGINAL-URL:https://voiceofoc.org
X-WR-CALDESC:Events for Voice of OC
REFRESH-INTERVAL;VALUE=DURATION:PT1H
X-Robots-Tag:noindex
X-PUBLISHED-TTL:PT1H
BEGIN:VTIMEZONE
TZID:America/Los_Angeles
BEGIN:DAYLIGHT
TZOFFSETFROM:-0800
TZOFFSETTO:-0700
TZNAME:PDT
DTSTART:20220313T100000
END:DAYLIGHT
BEGIN:STANDARD
TZOFFSETFROM:-0700
TZOFFSETTO:-0800
TZNAME:PST
DTSTART:20221106T090000
END:STANDARD
BEGIN:DAYLIGHT
TZOFFSETFROM:-0800
TZOFFSETTO:-0700
TZNAME:PDT
DTSTART:20230312T100000
END:DAYLIGHT
BEGIN:STANDARD
TZOFFSETFROM:-0700
TZOFFSETTO:-0800
TZNAME:PST
DTSTART:20231105T090000
END:STANDARD
BEGIN:DAYLIGHT
TZOFFSETFROM:-0800
TZOFFSETTO:-0700
TZNAME:PDT
DTSTART:20240310T100000
END:DAYLIGHT
BEGIN:STANDARD
TZOFFSETFROM:-0700
TZOFFSETTO:-0800
TZNAME:PST
DTSTART:20241103T090000
END:STANDARD
END:VTIMEZONE
BEGIN:VEVENT
DTSTART;TZID=America/Los_Angeles:20231024T180000
DTEND;TZID=America/Los_Angeles:20231024T200000
DTSTAMP:20260421T094318
CREATED:20210316T013545Z
LAST-MODIFIED:20240716T000819Z
UID:10024431-1698170400-1698177600@voiceofoc.org
SUMMARY:Newport-Mesa Unified School District Board Meeting
DESCRIPTION:The Costa Mesa City Council generally meets on the first and third Tuesday of each month. This meeting schedule can change\, particularly in months with national holidays\, so be sure [...]
URL:https://voiceofoc.org/event/newport-mesa-unified-school-district-board-meeting-3/2023-10-24/
LOCATION:District Education Center\, Roderick H. MacMillian Board Room\, 2985 Bear Street\, Bldg. A\, Costa Mesa\, California 92626\, 2985 Bear Street\, Bldg. A\, Costa Mesa\, CA\, 92626\, United States
CATEGORIES:Costa Mesa,Newport Beach,Schools
ATTACH;FMTTYPE=image/jpeg:https://voiceofoc.org/wp-content/uploads/2020/09/Sshools.2020.09.EDIT-5.jpg
GEO:33.6791062;-117.8949653
X-APPLE-STRUCTURED-LOCATION;VALUE=URI;X-ADDRESS=District Education Center Roderick H. MacMillian Board Room 2985 Bear Street Bldg. A Costa Mesa California 92626 2985 Bear Street Bldg. A Costa Mesa CA 92626 United States;X-APPLE-RADIUS=500;X-TITLE=2985 Bear Street\, Bldg. A:geo:-117.8949653,33.6791062
END:VEVENT
END:VCALENDAR