BEGIN:VCALENDAR
VERSION:2.0
PRODID:-//Voice of OC - ECPv6.15.20//NONSGML v1.0//EN
CALSCALE:GREGORIAN
METHOD:PUBLISH
X-ORIGINAL-URL:https://voiceofoc.org
X-WR-CALDESC:Events for Voice of OC
REFRESH-INTERVAL;VALUE=DURATION:PT1H
X-Robots-Tag:noindex
X-PUBLISHED-TTL:PT1H
BEGIN:VTIMEZONE
TZID:America/Los_Angeles
BEGIN:DAYLIGHT
TZOFFSETFROM:-0800
TZOFFSETTO:-0700
TZNAME:PDT
DTSTART:20240310T100000
END:DAYLIGHT
BEGIN:STANDARD
TZOFFSETFROM:-0700
TZOFFSETTO:-0800
TZNAME:PST
DTSTART:20241103T090000
END:STANDARD
BEGIN:DAYLIGHT
TZOFFSETFROM:-0800
TZOFFSETTO:-0700
TZNAME:PDT
DTSTART:20250309T100000
END:DAYLIGHT
BEGIN:STANDARD
TZOFFSETFROM:-0700
TZOFFSETTO:-0800
TZNAME:PST
DTSTART:20251102T090000
END:STANDARD
BEGIN:DAYLIGHT
TZOFFSETFROM:-0800
TZOFFSETTO:-0700
TZNAME:PDT
DTSTART:20260308T100000
END:DAYLIGHT
BEGIN:STANDARD
TZOFFSETFROM:-0700
TZOFFSETTO:-0800
TZNAME:PST
DTSTART:20261101T090000
END:STANDARD
BEGIN:DAYLIGHT
TZOFFSETFROM:-0800
TZOFFSETTO:-0700
TZNAME:PDT
DTSTART:20270314T100000
END:DAYLIGHT
BEGIN:STANDARD
TZOFFSETFROM:-0700
TZOFFSETTO:-0800
TZNAME:PST
DTSTART:20271107T090000
END:STANDARD
END:VTIMEZONE
BEGIN:VEVENT
DTSTART;TZID=America/Los_Angeles:20251013T180000
DTEND;TZID=America/Los_Angeles:20251013T200000
DTSTAMP:20260422T230444
CREATED:20200909T202856Z
LAST-MODIFIED:20240812T195033Z
UID:10022835-1760378400-1760385600@voiceofoc.org
SUMMARY:Cypress City Council Meeting
DESCRIPTION:The Cypress School District Board generally meets on the second Thursday of each month. This meeting schedule can change\, particularly in months with national holidays\, so be sure to check the status of a meeting at the agenda link below. Make sure to check the agency's website also for the latest protocols on in-person and/or [...]
URL:https://voiceofoc.org/event/cypress-city-council-meetings/2025-10-13/
LOCATION:Cypress City Council Chambers\, 5275 Orange Avenue\, Cypress\, CA\, United States
CATEGORIES:City Governments,Cypress
ATTACH;FMTTYPE=image/jpeg:https://voiceofoc.org/wp-content/uploads/2019/11/©JessicaRuiz_2019_Cypress-12.jpg
GEO:33.8248312;-118.0405931
X-APPLE-STRUCTURED-LOCATION;VALUE=URI;X-ADDRESS=Cypress City Council Chambers 5275 Orange Avenue Cypress CA United States;X-APPLE-RADIUS=500;X-TITLE=5275 Orange Avenue:geo:-118.0405931,33.8248312
END:VEVENT
BEGIN:VEVENT
DTSTART;TZID=America/Los_Angeles:20251110T180000
DTEND;TZID=America/Los_Angeles:20251110T200000
DTSTAMP:20260422T230444
CREATED:20200909T202856Z
LAST-MODIFIED:20240812T195033Z
UID:10022836-1762797600-1762804800@voiceofoc.org
SUMMARY:Cypress City Council Meeting
DESCRIPTION:The Cypress School District Board generally meets on the second Thursday of each month. This meeting schedule can change\, particularly in months with national holidays\, so be sure to check the status of a meeting at the agenda link below. Make sure to check the agency's website also for the latest protocols on in-person and/or [...]
URL:https://voiceofoc.org/event/cypress-city-council-meetings/2025-11-10/
LOCATION:Cypress City Council Chambers\, 5275 Orange Avenue\, Cypress\, CA\, United States
CATEGORIES:City Governments,Cypress
ATTACH;FMTTYPE=image/jpeg:https://voiceofoc.org/wp-content/uploads/2019/11/©JessicaRuiz_2019_Cypress-12.jpg
GEO:33.8248312;-118.0405931
X-APPLE-STRUCTURED-LOCATION;VALUE=URI;X-ADDRESS=Cypress City Council Chambers 5275 Orange Avenue Cypress CA United States;X-APPLE-RADIUS=500;X-TITLE=5275 Orange Avenue:geo:-118.0405931,33.8248312
END:VEVENT
BEGIN:VEVENT
DTSTART;TZID=America/Los_Angeles:20251208T180000
DTEND;TZID=America/Los_Angeles:20251208T200000
DTSTAMP:20260422T230444
CREATED:20200909T202856Z
LAST-MODIFIED:20240812T195033Z
UID:10022837-1765216800-1765224000@voiceofoc.org
SUMMARY:Cypress City Council Meeting
DESCRIPTION:The Cypress School District Board generally meets on the second Thursday of each month. This meeting schedule can change\, particularly in months with national holidays\, so be sure to check the status of a meeting at the agenda link below. Make sure to check the agency's website also for the latest protocols on in-person and/or [...]
URL:https://voiceofoc.org/event/cypress-city-council-meetings/2025-12-08/
LOCATION:Cypress City Council Chambers\, 5275 Orange Avenue\, Cypress\, CA\, United States
CATEGORIES:City Governments,Cypress
ATTACH;FMTTYPE=image/jpeg:https://voiceofoc.org/wp-content/uploads/2019/11/©JessicaRuiz_2019_Cypress-12.jpg
GEO:33.8248312;-118.0405931
X-APPLE-STRUCTURED-LOCATION;VALUE=URI;X-ADDRESS=Cypress City Council Chambers 5275 Orange Avenue Cypress CA United States;X-APPLE-RADIUS=500;X-TITLE=5275 Orange Avenue:geo:-118.0405931,33.8248312
END:VEVENT
BEGIN:VEVENT
DTSTART;TZID=America/Los_Angeles:20260112T180000
DTEND;TZID=America/Los_Angeles:20260112T200000
DTSTAMP:20260422T230444
CREATED:20200909T202856Z
LAST-MODIFIED:20240812T195033Z
UID:10022838-1768240800-1768248000@voiceofoc.org
SUMMARY:Cypress City Council Meeting
DESCRIPTION:The Cypress School District Board generally meets on the second Thursday of each month. This meeting schedule can change\, particularly in months with national holidays\, so be sure to check the status of a meeting at the agenda link below. Make sure to check the agency's website also for the latest protocols on in-person and/or [...]
URL:https://voiceofoc.org/event/cypress-city-council-meetings/2026-01-12/
LOCATION:Cypress City Council Chambers\, 5275 Orange Avenue\, Cypress\, CA\, United States
CATEGORIES:City Governments,Cypress
ATTACH;FMTTYPE=image/jpeg:https://voiceofoc.org/wp-content/uploads/2019/11/©JessicaRuiz_2019_Cypress-12.jpg
GEO:33.8248312;-118.0405931
X-APPLE-STRUCTURED-LOCATION;VALUE=URI;X-ADDRESS=Cypress City Council Chambers 5275 Orange Avenue Cypress CA United States;X-APPLE-RADIUS=500;X-TITLE=5275 Orange Avenue:geo:-118.0405931,33.8248312
END:VEVENT
BEGIN:VEVENT
DTSTART;TZID=America/Los_Angeles:20260209T180000
DTEND;TZID=America/Los_Angeles:20260209T200000
DTSTAMP:20260422T230444
CREATED:20200909T202856Z
LAST-MODIFIED:20240812T195033Z
UID:10022839-1770660000-1770667200@voiceofoc.org
SUMMARY:Cypress City Council Meeting
DESCRIPTION:The Cypress School District Board generally meets on the second Thursday of each month. This meeting schedule can change\, particularly in months with national holidays\, so be sure to check the status of a meeting at the agenda link below. Make sure to check the agency's website also for the latest protocols on in-person and/or [...]
URL:https://voiceofoc.org/event/cypress-city-council-meetings/2026-02-09/
LOCATION:Cypress City Council Chambers\, 5275 Orange Avenue\, Cypress\, CA\, United States
CATEGORIES:City Governments,Cypress
ATTACH;FMTTYPE=image/jpeg:https://voiceofoc.org/wp-content/uploads/2019/11/©JessicaRuiz_2019_Cypress-12.jpg
GEO:33.8248312;-118.0405931
X-APPLE-STRUCTURED-LOCATION;VALUE=URI;X-ADDRESS=Cypress City Council Chambers 5275 Orange Avenue Cypress CA United States;X-APPLE-RADIUS=500;X-TITLE=5275 Orange Avenue:geo:-118.0405931,33.8248312
END:VEVENT
BEGIN:VEVENT
DTSTART;TZID=America/Los_Angeles:20260309T180000
DTEND;TZID=America/Los_Angeles:20260309T200000
DTSTAMP:20260422T230444
CREATED:20200909T202856Z
LAST-MODIFIED:20240812T195033Z
UID:10022840-1773079200-1773086400@voiceofoc.org
SUMMARY:Cypress City Council Meeting
DESCRIPTION:The Cypress School District Board generally meets on the second Thursday of each month. This meeting schedule can change\, particularly in months with national holidays\, so be sure to check the status of a meeting at the agenda link below. Make sure to check the agency's website also for the latest protocols on in-person and/or [...]
URL:https://voiceofoc.org/event/cypress-city-council-meetings/2026-03-09/
LOCATION:Cypress City Council Chambers\, 5275 Orange Avenue\, Cypress\, CA\, United States
CATEGORIES:City Governments,Cypress
ATTACH;FMTTYPE=image/jpeg:https://voiceofoc.org/wp-content/uploads/2019/11/©JessicaRuiz_2019_Cypress-12.jpg
GEO:33.8248312;-118.0405931
X-APPLE-STRUCTURED-LOCATION;VALUE=URI;X-ADDRESS=Cypress City Council Chambers 5275 Orange Avenue Cypress CA United States;X-APPLE-RADIUS=500;X-TITLE=5275 Orange Avenue:geo:-118.0405931,33.8248312
END:VEVENT
END:VCALENDAR