BEGIN:VCALENDAR
VERSION:2.0
PRODID:-//Voice of OC - ECPv6.15.20//NONSGML v1.0//EN
CALSCALE:GREGORIAN
METHOD:PUBLISH
X-ORIGINAL-URL:https://voiceofoc.org
X-WR-CALDESC:Events for Voice of OC
REFRESH-INTERVAL;VALUE=DURATION:PT1H
X-Robots-Tag:noindex
X-PUBLISHED-TTL:PT1H
BEGIN:VTIMEZONE
TZID:America/Los_Angeles
BEGIN:DAYLIGHT
TZOFFSETFROM:-0800
TZOFFSETTO:-0700
TZNAME:PDT
DTSTART:20250309T100000
END:DAYLIGHT
BEGIN:STANDARD
TZOFFSETFROM:-0700
TZOFFSETTO:-0800
TZNAME:PST
DTSTART:20251102T090000
END:STANDARD
BEGIN:DAYLIGHT
TZOFFSETFROM:-0800
TZOFFSETTO:-0700
TZNAME:PDT
DTSTART:20260308T100000
END:DAYLIGHT
BEGIN:STANDARD
TZOFFSETFROM:-0700
TZOFFSETTO:-0800
TZNAME:PST
DTSTART:20261101T090000
END:STANDARD
BEGIN:DAYLIGHT
TZOFFSETFROM:-0800
TZOFFSETTO:-0700
TZNAME:PDT
DTSTART:20270314T100000
END:DAYLIGHT
BEGIN:STANDARD
TZOFFSETFROM:-0700
TZOFFSETTO:-0800
TZNAME:PST
DTSTART:20271107T090000
END:STANDARD
END:VTIMEZONE
BEGIN:VEVENT
DTSTART;TZID=America/Los_Angeles:20260407T180000
DTEND;TZID=America/Los_Angeles:20260407T200000
DTSTAMP:20260423T140957
CREATED:20200909T205524Z
LAST-MODIFIED:20260105T173233Z
UID:10022903-1775584800-1775592000@voiceofoc.org
SUMMARY:Dana Point City Council Meeting
DESCRIPTION:The Dana Point City Council generally meets on the first and third Tuesday of each month. This meeting schedule can change\, particularly in months with national holidays\, so be sure to check the status of a meeting at the agenda link below. Make sure to check the agency's website also for the latest protocols on [...]
URL:https://voiceofoc.org/event/dana-point-city-council-meeting-2-2/2026-04-07/
LOCATION:Dana Point Council Chamber\, City Hall\, 33282 Golden Lantern\, Dana Point\, CA\, United States
CATEGORIES:City Governments,Dana Point
ATTACH;FMTTYPE=image/jpeg:https://voiceofoc.org/wp-content/uploads/2020/10/©JessicaRuiz_2019_Dana_Point-2.jpg
GEO:33.4795139;-117.6973862
X-APPLE-STRUCTURED-LOCATION;VALUE=URI;X-ADDRESS=Dana Point Council Chamber City Hall 33282 Golden Lantern Dana Point CA United States;X-APPLE-RADIUS=500;X-TITLE=33282 Golden Lantern:geo:-117.6973862,33.4795139
END:VEVENT
END:VCALENDAR