BEGIN:VCALENDAR
VERSION:2.0
PRODID:-//Voice of OC - ECPv6.15.20//NONSGML v1.0//EN
CALSCALE:GREGORIAN
METHOD:PUBLISH
X-ORIGINAL-URL:https://voiceofoc.org
X-WR-CALDESC:Events for Voice of OC
REFRESH-INTERVAL;VALUE=DURATION:PT1H
X-Robots-Tag:noindex
X-PUBLISHED-TTL:PT1H
BEGIN:VTIMEZONE
TZID:America/Los_Angeles
BEGIN:DAYLIGHT
TZOFFSETFROM:-0800
TZOFFSETTO:-0700
TZNAME:PDT
DTSTART:20220313T100000
END:DAYLIGHT
BEGIN:STANDARD
TZOFFSETFROM:-0700
TZOFFSETTO:-0800
TZNAME:PST
DTSTART:20221106T090000
END:STANDARD
BEGIN:DAYLIGHT
TZOFFSETFROM:-0800
TZOFFSETTO:-0700
TZNAME:PDT
DTSTART:20230312T100000
END:DAYLIGHT
BEGIN:STANDARD
TZOFFSETFROM:-0700
TZOFFSETTO:-0800
TZNAME:PST
DTSTART:20231105T090000
END:STANDARD
BEGIN:DAYLIGHT
TZOFFSETFROM:-0800
TZOFFSETTO:-0700
TZNAME:PDT
DTSTART:20240310T100000
END:DAYLIGHT
BEGIN:STANDARD
TZOFFSETFROM:-0700
TZOFFSETTO:-0800
TZNAME:PST
DTSTART:20241103T090000
END:STANDARD
END:VTIMEZONE
BEGIN:VEVENT
DTSTART;TZID=America/Los_Angeles:20231205T180000
DTEND;TZID=America/Los_Angeles:20231205T200000
DTSTAMP:20260424T135156
CREATED:20210316T013304Z
LAST-MODIFIED:20260105T173725Z
UID:10024523-1701799200-1701806400@voiceofoc.org
SUMMARY:Fountain Valley City Council Meeting
DESCRIPTION:The Fountain Valley City Council generally meets on the first and third Tuesday of each month. This meeting schedule can change\, particularly in months with national holidays\, so be sure to check the status of a meeting at the agenda link below. Make sure to check the agency's website also for the latest protocols on [...]
URL:https://voiceofoc.org/event/fountain-valley-city-council-meeting-3-2/2023-12-05/
LOCATION:Fountain Valley City Hall\, 10200 Slater Avenue\, Fountain Valley \, CA\, 92507\, United States
CATEGORIES:City Governments,Fountain Valley
ATTACH;FMTTYPE=image/jpeg:https://voiceofoc.org/wp-content/uploads/2020/10/©JessicaRuiz_2019_Fountain_Valley-6.jpg
GEO:33.7085053;-117.9507745
X-APPLE-STRUCTURED-LOCATION;VALUE=URI;X-ADDRESS=Fountain Valley City Hall 10200 Slater Avenue Fountain Valley  CA 92507 United States;X-APPLE-RADIUS=500;X-TITLE=10200 Slater Avenue:geo:-117.9507745,33.7085053
END:VEVENT
END:VCALENDAR