BEGIN:VCALENDAR
VERSION:2.0
PRODID:-//Voice of OC - ECPv6.15.20//NONSGML v1.0//EN
CALSCALE:GREGORIAN
METHOD:PUBLISH
X-ORIGINAL-URL:https://voiceofoc.org
X-WR-CALDESC:Events for Voice of OC
REFRESH-INTERVAL;VALUE=DURATION:PT1H
X-Robots-Tag:noindex
X-PUBLISHED-TTL:PT1H
BEGIN:VTIMEZONE
TZID:America/Los_Angeles
BEGIN:DAYLIGHT
TZOFFSETFROM:-0800
TZOFFSETTO:-0700
TZNAME:PDT
DTSTART:20290311T100000
END:DAYLIGHT
BEGIN:STANDARD
TZOFFSETFROM:-0700
TZOFFSETTO:-0800
TZNAME:PST
DTSTART:20291104T090000
END:STANDARD
BEGIN:DAYLIGHT
TZOFFSETFROM:-0800
TZOFFSETTO:-0700
TZNAME:PDT
DTSTART:20300310T100000
END:DAYLIGHT
BEGIN:STANDARD
TZOFFSETFROM:-0700
TZOFFSETTO:-0800
TZNAME:PST
DTSTART:20301103T090000
END:STANDARD
BEGIN:DAYLIGHT
TZOFFSETFROM:-0800
TZOFFSETTO:-0700
TZNAME:PDT
DTSTART:20310309T100000
END:DAYLIGHT
BEGIN:STANDARD
TZOFFSETFROM:-0700
TZOFFSETTO:-0800
TZNAME:PST
DTSTART:20311102T090000
END:STANDARD
END:VTIMEZONE
BEGIN:VEVENT
DTSTART;TZID=America/Los_Angeles:20300702T190000
DTEND;TZID=America/Los_Angeles:20300702T200000
DTSTAMP:20260424T002140
CREATED:20200909T231018Z
LAST-MODIFIED:20260105T173907Z
UID:10028600-1909249200-1909252800@voiceofoc.org
SUMMARY:La Palma City Council Meeting
DESCRIPTION:The La Palma City Council generally meets on the first Tuesday of each month. This meeting schedule can change\, particularly in months with national holidays\, so be sure to check [...]
URL:https://voiceofoc.org/event/la-palma-city-council-meeting-2/2030-07-02/
LOCATION:La Palma City Council Chambers\, 7822 Walker Street\, La Palma\, CA\, United States
CATEGORIES:City Governments,La Palma
ATTACH;FMTTYPE=image/png:https://voiceofoc.org/wp-content/uploads/2020/09/La_Palma-15.png
GEO:33.8489493;-118.0364761
X-APPLE-STRUCTURED-LOCATION;VALUE=URI;X-ADDRESS=La Palma City Council Chambers 7822 Walker Street La Palma CA United States;X-APPLE-RADIUS=500;X-TITLE=7822 Walker Street:geo:-118.0364761,33.8489493
END:VEVENT
BEGIN:VEVENT
DTSTART;TZID=America/Los_Angeles:20300806T190000
DTEND;TZID=America/Los_Angeles:20300806T200000
DTSTAMP:20260424T002140
CREATED:20200909T231018Z
LAST-MODIFIED:20260105T173907Z
UID:10028601-1912273200-1912276800@voiceofoc.org
SUMMARY:La Palma City Council Meeting
DESCRIPTION:The La Palma City Council generally meets on the first Tuesday of each month. This meeting schedule can change\, particularly in months with national holidays\, so be sure to check [...]
URL:https://voiceofoc.org/event/la-palma-city-council-meeting-2/2030-08-06/
LOCATION:La Palma City Council Chambers\, 7822 Walker Street\, La Palma\, CA\, United States
CATEGORIES:City Governments,La Palma
ATTACH;FMTTYPE=image/png:https://voiceofoc.org/wp-content/uploads/2020/09/La_Palma-15.png
GEO:33.8489493;-118.0364761
X-APPLE-STRUCTURED-LOCATION;VALUE=URI;X-ADDRESS=La Palma City Council Chambers 7822 Walker Street La Palma CA United States;X-APPLE-RADIUS=500;X-TITLE=7822 Walker Street:geo:-118.0364761,33.8489493
END:VEVENT
BEGIN:VEVENT
DTSTART;TZID=America/Los_Angeles:20300903T190000
DTEND;TZID=America/Los_Angeles:20300903T200000
DTSTAMP:20260424T002140
CREATED:20200909T231018Z
LAST-MODIFIED:20260105T173907Z
UID:10028602-1914692400-1914696000@voiceofoc.org
SUMMARY:La Palma City Council Meeting
DESCRIPTION:The La Palma City Council generally meets on the first Tuesday of each month. This meeting schedule can change\, particularly in months with national holidays\, so be sure to check [...]
URL:https://voiceofoc.org/event/la-palma-city-council-meeting-2/2030-09-03/
LOCATION:La Palma City Council Chambers\, 7822 Walker Street\, La Palma\, CA\, United States
CATEGORIES:City Governments,La Palma
ATTACH;FMTTYPE=image/png:https://voiceofoc.org/wp-content/uploads/2020/09/La_Palma-15.png
GEO:33.8489493;-118.0364761
X-APPLE-STRUCTURED-LOCATION;VALUE=URI;X-ADDRESS=La Palma City Council Chambers 7822 Walker Street La Palma CA United States;X-APPLE-RADIUS=500;X-TITLE=7822 Walker Street:geo:-118.0364761,33.8489493
END:VEVENT
BEGIN:VEVENT
DTSTART;TZID=America/Los_Angeles:20301001T190000
DTEND;TZID=America/Los_Angeles:20301001T200000
DTSTAMP:20260424T002140
CREATED:20200909T231018Z
LAST-MODIFIED:20260105T173907Z
UID:10028603-1917111600-1917115200@voiceofoc.org
SUMMARY:La Palma City Council Meeting
DESCRIPTION:The La Palma City Council generally meets on the first Tuesday of each month. This meeting schedule can change\, particularly in months with national holidays\, so be sure to check [...]
URL:https://voiceofoc.org/event/la-palma-city-council-meeting-2/2030-10-01/
LOCATION:La Palma City Council Chambers\, 7822 Walker Street\, La Palma\, CA\, United States
CATEGORIES:City Governments,La Palma
ATTACH;FMTTYPE=image/png:https://voiceofoc.org/wp-content/uploads/2020/09/La_Palma-15.png
GEO:33.8489493;-118.0364761
X-APPLE-STRUCTURED-LOCATION;VALUE=URI;X-ADDRESS=La Palma City Council Chambers 7822 Walker Street La Palma CA United States;X-APPLE-RADIUS=500;X-TITLE=7822 Walker Street:geo:-118.0364761,33.8489493
END:VEVENT
BEGIN:VEVENT
DTSTART;TZID=America/Los_Angeles:20301105T190000
DTEND;TZID=America/Los_Angeles:20301105T200000
DTSTAMP:20260424T002140
CREATED:20200909T231018Z
LAST-MODIFIED:20260105T173907Z
UID:10028604-1920135600-1920139200@voiceofoc.org
SUMMARY:La Palma City Council Meeting
DESCRIPTION:The La Palma City Council generally meets on the first Tuesday of each month. This meeting schedule can change\, particularly in months with national holidays\, so be sure to check [...]
URL:https://voiceofoc.org/event/la-palma-city-council-meeting-2/2030-11-05/
LOCATION:La Palma City Council Chambers\, 7822 Walker Street\, La Palma\, CA\, United States
CATEGORIES:City Governments,La Palma
ATTACH;FMTTYPE=image/png:https://voiceofoc.org/wp-content/uploads/2020/09/La_Palma-15.png
GEO:33.8489493;-118.0364761
X-APPLE-STRUCTURED-LOCATION;VALUE=URI;X-ADDRESS=La Palma City Council Chambers 7822 Walker Street La Palma CA United States;X-APPLE-RADIUS=500;X-TITLE=7822 Walker Street:geo:-118.0364761,33.8489493
END:VEVENT
BEGIN:VEVENT
DTSTART;TZID=America/Los_Angeles:20301203T190000
DTEND;TZID=America/Los_Angeles:20301203T200000
DTSTAMP:20260424T002140
CREATED:20200909T231018Z
LAST-MODIFIED:20260105T173907Z
UID:10028605-1922554800-1922558400@voiceofoc.org
SUMMARY:La Palma City Council Meeting
DESCRIPTION:The La Palma City Council generally meets on the first Tuesday of each month. This meeting schedule can change\, particularly in months with national holidays\, so be sure to check [...]
URL:https://voiceofoc.org/event/la-palma-city-council-meeting-2/2030-12-03/
LOCATION:La Palma City Council Chambers\, 7822 Walker Street\, La Palma\, CA\, United States
CATEGORIES:City Governments,La Palma
ATTACH;FMTTYPE=image/png:https://voiceofoc.org/wp-content/uploads/2020/09/La_Palma-15.png
GEO:33.8489493;-118.0364761
X-APPLE-STRUCTURED-LOCATION;VALUE=URI;X-ADDRESS=La Palma City Council Chambers 7822 Walker Street La Palma CA United States;X-APPLE-RADIUS=500;X-TITLE=7822 Walker Street:geo:-118.0364761,33.8489493
END:VEVENT
END:VCALENDAR