BEGIN:VCALENDAR
VERSION:2.0
PRODID:-//Voice of OC - ECPv6.15.20//NONSGML v1.0//EN
CALSCALE:GREGORIAN
METHOD:PUBLISH
X-ORIGINAL-URL:https://voiceofoc.org
X-WR-CALDESC:Events for Voice of OC
REFRESH-INTERVAL;VALUE=DURATION:PT1H
X-Robots-Tag:noindex
X-PUBLISHED-TTL:PT1H
BEGIN:VTIMEZONE
TZID:America/Los_Angeles
BEGIN:DAYLIGHT
TZOFFSETFROM:-0800
TZOFFSETTO:-0700
TZNAME:PDT
DTSTART:20290311T100000
END:DAYLIGHT
BEGIN:STANDARD
TZOFFSETFROM:-0700
TZOFFSETTO:-0800
TZNAME:PST
DTSTART:20291104T090000
END:STANDARD
BEGIN:DAYLIGHT
TZOFFSETFROM:-0800
TZOFFSETTO:-0700
TZNAME:PDT
DTSTART:20300310T100000
END:DAYLIGHT
BEGIN:STANDARD
TZOFFSETFROM:-0700
TZOFFSETTO:-0800
TZNAME:PST
DTSTART:20301103T090000
END:STANDARD
BEGIN:DAYLIGHT
TZOFFSETFROM:-0800
TZOFFSETTO:-0700
TZNAME:PDT
DTSTART:20310309T100000
END:DAYLIGHT
BEGIN:STANDARD
TZOFFSETFROM:-0700
TZOFFSETTO:-0800
TZNAME:PST
DTSTART:20311102T090000
END:STANDARD
BEGIN:DAYLIGHT
TZOFFSETFROM:-0800
TZOFFSETTO:-0700
TZNAME:PDT
DTSTART:20320314T100000
END:DAYLIGHT
BEGIN:STANDARD
TZOFFSETFROM:-0700
TZOFFSETTO:-0800
TZNAME:PST
DTSTART:20321107T090000
END:STANDARD
END:VTIMEZONE
BEGIN:VEVENT
DTSTART;TZID=America/Los_Angeles:20300617T180000
DTEND;TZID=America/Los_Angeles:20300617T200000
DTSTAMP:20260420T115255
CREATED:20260126T204008Z
LAST-MODIFIED:20260126T204212Z
UID:10028812-1907949600-1907956800@voiceofoc.org
SUMMARY:Los Alamitos City Council Meeting
DESCRIPTION:The Los Alamitos City Council generally meets on the third Monday of each month. This meeting schedule can change\, particularly in months with national holidays\, so be sure to check the status of a meeting at the agenda link below. Make sure to check the agency's website also for the latest protocols on in-person and/or [...]
URL:https://voiceofoc.org/event/los-alamitos-city-council-meeting-3-2-2/2030-06-17/
LOCATION:Los Alamitos City Council Chambers\, 3191 Katella Avenue\, Los Alamitos \, CA\, 90720\, United States
CATEGORIES:City Governments,Los Alamitos
ATTACH;FMTTYPE=image/jpeg:https://voiceofoc.org/wp-content/uploads/2020/10/©JessicaRuiz_2019_Los_Alamitos-10-1.jpg
GEO:33.8035531;-118.0769189
X-APPLE-STRUCTURED-LOCATION;VALUE=URI;X-ADDRESS=Los Alamitos City Council Chambers 3191 Katella Avenue Los Alamitos  CA 90720 United States;X-APPLE-RADIUS=500;X-TITLE=3191 Katella Avenue:geo:-118.0769189,33.8035531
END:VEVENT
BEGIN:VEVENT
DTSTART;TZID=America/Los_Angeles:20300715T180000
DTEND;TZID=America/Los_Angeles:20300715T200000
DTSTAMP:20260420T115255
CREATED:20260126T204008Z
LAST-MODIFIED:20260126T204212Z
UID:10028813-1910368800-1910376000@voiceofoc.org
SUMMARY:Los Alamitos City Council Meeting
DESCRIPTION:The Los Alamitos City Council generally meets on the third Monday of each month. This meeting schedule can change\, particularly in months with national holidays\, so be sure to check the status of a meeting at the agenda link below. Make sure to check the agency's website also for the latest protocols on in-person and/or [...]
URL:https://voiceofoc.org/event/los-alamitos-city-council-meeting-3-2-2/2030-07-15/
LOCATION:Los Alamitos City Council Chambers\, 3191 Katella Avenue\, Los Alamitos \, CA\, 90720\, United States
CATEGORIES:City Governments,Los Alamitos
ATTACH;FMTTYPE=image/jpeg:https://voiceofoc.org/wp-content/uploads/2020/10/©JessicaRuiz_2019_Los_Alamitos-10-1.jpg
GEO:33.8035531;-118.0769189
X-APPLE-STRUCTURED-LOCATION;VALUE=URI;X-ADDRESS=Los Alamitos City Council Chambers 3191 Katella Avenue Los Alamitos  CA 90720 United States;X-APPLE-RADIUS=500;X-TITLE=3191 Katella Avenue:geo:-118.0769189,33.8035531
END:VEVENT
BEGIN:VEVENT
DTSTART;TZID=America/Los_Angeles:20300819T180000
DTEND;TZID=America/Los_Angeles:20300819T200000
DTSTAMP:20260420T115255
CREATED:20260126T204008Z
LAST-MODIFIED:20260126T204212Z
UID:10028814-1913392800-1913400000@voiceofoc.org
SUMMARY:Los Alamitos City Council Meeting
DESCRIPTION:The Los Alamitos City Council generally meets on the third Monday of each month. This meeting schedule can change\, particularly in months with national holidays\, so be sure to check the status of a meeting at the agenda link below. Make sure to check the agency's website also for the latest protocols on in-person and/or [...]
URL:https://voiceofoc.org/event/los-alamitos-city-council-meeting-3-2-2/2030-08-19/
LOCATION:Los Alamitos City Council Chambers\, 3191 Katella Avenue\, Los Alamitos \, CA\, 90720\, United States
CATEGORIES:City Governments,Los Alamitos
ATTACH;FMTTYPE=image/jpeg:https://voiceofoc.org/wp-content/uploads/2020/10/©JessicaRuiz_2019_Los_Alamitos-10-1.jpg
GEO:33.8035531;-118.0769189
X-APPLE-STRUCTURED-LOCATION;VALUE=URI;X-ADDRESS=Los Alamitos City Council Chambers 3191 Katella Avenue Los Alamitos  CA 90720 United States;X-APPLE-RADIUS=500;X-TITLE=3191 Katella Avenue:geo:-118.0769189,33.8035531
END:VEVENT
BEGIN:VEVENT
DTSTART;TZID=America/Los_Angeles:20300916T180000
DTEND;TZID=America/Los_Angeles:20300916T200000
DTSTAMP:20260420T115255
CREATED:20260126T204008Z
LAST-MODIFIED:20260126T204212Z
UID:10028815-1915812000-1915819200@voiceofoc.org
SUMMARY:Los Alamitos City Council Meeting
DESCRIPTION:The Los Alamitos City Council generally meets on the third Monday of each month. This meeting schedule can change\, particularly in months with national holidays\, so be sure to check the status of a meeting at the agenda link below. Make sure to check the agency's website also for the latest protocols on in-person and/or [...]
URL:https://voiceofoc.org/event/los-alamitos-city-council-meeting-3-2-2/2030-09-16/
LOCATION:Los Alamitos City Council Chambers\, 3191 Katella Avenue\, Los Alamitos \, CA\, 90720\, United States
CATEGORIES:City Governments,Los Alamitos
ATTACH;FMTTYPE=image/jpeg:https://voiceofoc.org/wp-content/uploads/2020/10/©JessicaRuiz_2019_Los_Alamitos-10-1.jpg
GEO:33.8035531;-118.0769189
X-APPLE-STRUCTURED-LOCATION;VALUE=URI;X-ADDRESS=Los Alamitos City Council Chambers 3191 Katella Avenue Los Alamitos  CA 90720 United States;X-APPLE-RADIUS=500;X-TITLE=3191 Katella Avenue:geo:-118.0769189,33.8035531
END:VEVENT
BEGIN:VEVENT
DTSTART;TZID=America/Los_Angeles:20301021T180000
DTEND;TZID=America/Los_Angeles:20301021T200000
DTSTAMP:20260420T115255
CREATED:20260126T204008Z
LAST-MODIFIED:20260126T204212Z
UID:10028816-1918836000-1918843200@voiceofoc.org
SUMMARY:Los Alamitos City Council Meeting
DESCRIPTION:The Los Alamitos City Council generally meets on the third Monday of each month. This meeting schedule can change\, particularly in months with national holidays\, so be sure to check the status of a meeting at the agenda link below. Make sure to check the agency's website also for the latest protocols on in-person and/or [...]
URL:https://voiceofoc.org/event/los-alamitos-city-council-meeting-3-2-2/2030-10-21/
LOCATION:Los Alamitos City Council Chambers\, 3191 Katella Avenue\, Los Alamitos \, CA\, 90720\, United States
CATEGORIES:City Governments,Los Alamitos
ATTACH;FMTTYPE=image/jpeg:https://voiceofoc.org/wp-content/uploads/2020/10/©JessicaRuiz_2019_Los_Alamitos-10-1.jpg
GEO:33.8035531;-118.0769189
X-APPLE-STRUCTURED-LOCATION;VALUE=URI;X-ADDRESS=Los Alamitos City Council Chambers 3191 Katella Avenue Los Alamitos  CA 90720 United States;X-APPLE-RADIUS=500;X-TITLE=3191 Katella Avenue:geo:-118.0769189,33.8035531
END:VEVENT
BEGIN:VEVENT
DTSTART;TZID=America/Los_Angeles:20301118T180000
DTEND;TZID=America/Los_Angeles:20301118T200000
DTSTAMP:20260420T115255
CREATED:20260126T204008Z
LAST-MODIFIED:20260126T204212Z
UID:10028817-1921255200-1921262400@voiceofoc.org
SUMMARY:Los Alamitos City Council Meeting
DESCRIPTION:The Los Alamitos City Council generally meets on the third Monday of each month. This meeting schedule can change\, particularly in months with national holidays\, so be sure to check the status of a meeting at the agenda link below. Make sure to check the agency's website also for the latest protocols on in-person and/or [...]
URL:https://voiceofoc.org/event/los-alamitos-city-council-meeting-3-2-2/2030-11-18/
LOCATION:Los Alamitos City Council Chambers\, 3191 Katella Avenue\, Los Alamitos \, CA\, 90720\, United States
CATEGORIES:City Governments,Los Alamitos
ATTACH;FMTTYPE=image/jpeg:https://voiceofoc.org/wp-content/uploads/2020/10/©JessicaRuiz_2019_Los_Alamitos-10-1.jpg
GEO:33.8035531;-118.0769189
X-APPLE-STRUCTURED-LOCATION;VALUE=URI;X-ADDRESS=Los Alamitos City Council Chambers 3191 Katella Avenue Los Alamitos  CA 90720 United States;X-APPLE-RADIUS=500;X-TITLE=3191 Katella Avenue:geo:-118.0769189,33.8035531
END:VEVENT
BEGIN:VEVENT
DTSTART;TZID=America/Los_Angeles:20301216T180000
DTEND;TZID=America/Los_Angeles:20301216T200000
DTSTAMP:20260420T115255
CREATED:20260126T204008Z
LAST-MODIFIED:20260126T204212Z
UID:10028818-1923674400-1923681600@voiceofoc.org
SUMMARY:Los Alamitos City Council Meeting
DESCRIPTION:The Los Alamitos City Council generally meets on the third Monday of each month. This meeting schedule can change\, particularly in months with national holidays\, so be sure to check the status of a meeting at the agenda link below. Make sure to check the agency's website also for the latest protocols on in-person and/or [...]
URL:https://voiceofoc.org/event/los-alamitos-city-council-meeting-3-2-2/2030-12-16/
LOCATION:Los Alamitos City Council Chambers\, 3191 Katella Avenue\, Los Alamitos \, CA\, 90720\, United States
CATEGORIES:City Governments,Los Alamitos
ATTACH;FMTTYPE=image/jpeg:https://voiceofoc.org/wp-content/uploads/2020/10/©JessicaRuiz_2019_Los_Alamitos-10-1.jpg
GEO:33.8035531;-118.0769189
X-APPLE-STRUCTURED-LOCATION;VALUE=URI;X-ADDRESS=Los Alamitos City Council Chambers 3191 Katella Avenue Los Alamitos  CA 90720 United States;X-APPLE-RADIUS=500;X-TITLE=3191 Katella Avenue:geo:-118.0769189,33.8035531
END:VEVENT
BEGIN:VEVENT
DTSTART;TZID=America/Los_Angeles:20310120T180000
DTEND;TZID=America/Los_Angeles:20310120T200000
DTSTAMP:20260420T115255
CREATED:20260126T204008Z
LAST-MODIFIED:20260126T204212Z
UID:10028819-1926698400-1926705600@voiceofoc.org
SUMMARY:Los Alamitos City Council Meeting
DESCRIPTION:The Los Alamitos City Council generally meets on the third Monday of each month. This meeting schedule can change\, particularly in months with national holidays\, so be sure to check the status of a meeting at the agenda link below. Make sure to check the agency's website also for the latest protocols on in-person and/or [...]
URL:https://voiceofoc.org/event/los-alamitos-city-council-meeting-3-2-2/2031-01-20/
LOCATION:Los Alamitos City Council Chambers\, 3191 Katella Avenue\, Los Alamitos \, CA\, 90720\, United States
CATEGORIES:City Governments,Los Alamitos
ATTACH;FMTTYPE=image/jpeg:https://voiceofoc.org/wp-content/uploads/2020/10/©JessicaRuiz_2019_Los_Alamitos-10-1.jpg
GEO:33.8035531;-118.0769189
X-APPLE-STRUCTURED-LOCATION;VALUE=URI;X-ADDRESS=Los Alamitos City Council Chambers 3191 Katella Avenue Los Alamitos  CA 90720 United States;X-APPLE-RADIUS=500;X-TITLE=3191 Katella Avenue:geo:-118.0769189,33.8035531
END:VEVENT
END:VCALENDAR