BEGIN:VCALENDAR
VERSION:2.0
PRODID:-//Voice of OC - ECPv6.15.20//NONSGML v1.0//EN
CALSCALE:GREGORIAN
METHOD:PUBLISH
X-WR-CALNAME:Voice of OC
X-ORIGINAL-URL:https://voiceofoc.org
X-WR-CALDESC:Events for Voice of OC
REFRESH-INTERVAL;VALUE=DURATION:PT1H
X-Robots-Tag:noindex
X-PUBLISHED-TTL:PT1H
BEGIN:VTIMEZONE
TZID:America/Los_Angeles
BEGIN:DAYLIGHT
TZOFFSETFROM:-0800
TZOFFSETTO:-0700
TZNAME:PDT
DTSTART:20280312T100000
END:DAYLIGHT
BEGIN:STANDARD
TZOFFSETFROM:-0700
TZOFFSETTO:-0800
TZNAME:PST
DTSTART:20281105T090000
END:STANDARD
BEGIN:DAYLIGHT
TZOFFSETFROM:-0800
TZOFFSETTO:-0700
TZNAME:PDT
DTSTART:20290311T100000
END:DAYLIGHT
BEGIN:STANDARD
TZOFFSETFROM:-0700
TZOFFSETTO:-0800
TZNAME:PST
DTSTART:20291104T090000
END:STANDARD
BEGIN:DAYLIGHT
TZOFFSETFROM:-0800
TZOFFSETTO:-0700
TZNAME:PDT
DTSTART:20300310T100000
END:DAYLIGHT
BEGIN:STANDARD
TZOFFSETFROM:-0700
TZOFFSETTO:-0800
TZNAME:PST
DTSTART:20301103T090000
END:STANDARD
BEGIN:DAYLIGHT
TZOFFSETFROM:-0800
TZOFFSETTO:-0700
TZNAME:PDT
DTSTART:20310309T100000
END:DAYLIGHT
BEGIN:STANDARD
TZOFFSETFROM:-0700
TZOFFSETTO:-0800
TZNAME:PST
DTSTART:20311102T090000
END:STANDARD
END:VTIMEZONE
BEGIN:VEVENT
DTSTART;TZID=America/Los_Angeles:20290828T180000
DTEND;TZID=America/Los_Angeles:20290828T190000
DTSTAMP:20260423T061354
CREATED:20241007T224939Z
LAST-MODIFIED:20250822T073934Z
UID:10027843-1882634400-1882638000@voiceofoc.org
SUMMARY:Mission Viejo City Council Meeting
DESCRIPTION:The Mission Viejo City Council generally meets on the second and fourth Tuesday of each month. This meeting schedule can change\, particularly in months with national holidays\, so be sure to check [...]
URL:https://voiceofoc.org/event/mission-viejo-city-council-meeting-2/2029-08-28/
LOCATION:Mission Viejo Council Chamber at City Hall\,  200 Civic Center\, Mission Viejo\, CA\, United States
CATEGORIES:City Governments,Mission Viejo
ATTACH;FMTTYPE=image/jpeg:https://voiceofoc.org/wp-content/uploads/2020/09/Mission_Viejo.jpg
GEO:33.59632;-117.659895
X-APPLE-STRUCTURED-LOCATION;VALUE=URI;X-ADDRESS=Mission Viejo Council Chamber at City Hall  200 Civic Center Mission Viejo CA United States;X-APPLE-RADIUS=500;X-TITLE=200 Civic Center:geo:-117.659895,33.59632
END:VEVENT
BEGIN:VEVENT
DTSTART;TZID=America/Los_Angeles:20290911T180000
DTEND;TZID=America/Los_Angeles:20290911T190000
DTSTAMP:20260423T061355
CREATED:20250822T073418Z
LAST-MODIFIED:20250822T073440Z
UID:10028393-1883844000-1883847600@voiceofoc.org
SUMMARY:Mission Viejo City Council Meeting
DESCRIPTION:The Mission Viejo City Council generally meets on the second and fourth Tuesday of each month. This meeting schedule can change\, particularly in months with national holidays\, so be sure to check [...]
URL:https://voiceofoc.org/event/mission-viejo-city-council-meeting-3/2029-09-11/
LOCATION:Mission Viejo Council Chamber at City Hall\,  200 Civic Center\, Mission Viejo\, CA\, United States
CATEGORIES:City Governments,Mission Viejo
ATTACH;FMTTYPE=image/jpeg:https://voiceofoc.org/wp-content/uploads/2020/09/Mission_Viejo.jpg
GEO:33.59632;-117.659895
X-APPLE-STRUCTURED-LOCATION;VALUE=URI;X-ADDRESS=Mission Viejo Council Chamber at City Hall  200 Civic Center Mission Viejo CA United States;X-APPLE-RADIUS=500;X-TITLE=200 Civic Center:geo:-117.659895,33.59632
END:VEVENT
BEGIN:VEVENT
DTSTART;TZID=America/Los_Angeles:20290925T180000
DTEND;TZID=America/Los_Angeles:20290925T190000
DTSTAMP:20260423T061355
CREATED:20241007T224939Z
LAST-MODIFIED:20250822T073934Z
UID:10027844-1885053600-1885057200@voiceofoc.org
SUMMARY:Mission Viejo City Council Meeting
DESCRIPTION:The Mission Viejo City Council generally meets on the second and fourth Tuesday of each month. This meeting schedule can change\, particularly in months with national holidays\, so be sure to check [...]
URL:https://voiceofoc.org/event/mission-viejo-city-council-meeting-2/2029-09-25/
LOCATION:Mission Viejo Council Chamber at City Hall\,  200 Civic Center\, Mission Viejo\, CA\, United States
CATEGORIES:City Governments,Mission Viejo
ATTACH;FMTTYPE=image/jpeg:https://voiceofoc.org/wp-content/uploads/2020/09/Mission_Viejo.jpg
GEO:33.59632;-117.659895
X-APPLE-STRUCTURED-LOCATION;VALUE=URI;X-ADDRESS=Mission Viejo Council Chamber at City Hall  200 Civic Center Mission Viejo CA United States;X-APPLE-RADIUS=500;X-TITLE=200 Civic Center:geo:-117.659895,33.59632
END:VEVENT
BEGIN:VEVENT
DTSTART;TZID=America/Los_Angeles:20291009T180000
DTEND;TZID=America/Los_Angeles:20291009T190000
DTSTAMP:20260423T061355
CREATED:20250822T073418Z
LAST-MODIFIED:20250822T073440Z
UID:10028394-1886263200-1886266800@voiceofoc.org
SUMMARY:Mission Viejo City Council Meeting
DESCRIPTION:The Mission Viejo City Council generally meets on the second and fourth Tuesday of each month. This meeting schedule can change\, particularly in months with national holidays\, so be sure to check [...]
URL:https://voiceofoc.org/event/mission-viejo-city-council-meeting-3/2029-10-09/
LOCATION:Mission Viejo Council Chamber at City Hall\,  200 Civic Center\, Mission Viejo\, CA\, United States
CATEGORIES:City Governments,Mission Viejo
ATTACH;FMTTYPE=image/jpeg:https://voiceofoc.org/wp-content/uploads/2020/09/Mission_Viejo.jpg
GEO:33.59632;-117.659895
X-APPLE-STRUCTURED-LOCATION;VALUE=URI;X-ADDRESS=Mission Viejo Council Chamber at City Hall  200 Civic Center Mission Viejo CA United States;X-APPLE-RADIUS=500;X-TITLE=200 Civic Center:geo:-117.659895,33.59632
END:VEVENT
BEGIN:VEVENT
DTSTART;TZID=America/Los_Angeles:20291023T180000
DTEND;TZID=America/Los_Angeles:20291023T190000
DTSTAMP:20260423T061355
CREATED:20241007T224939Z
LAST-MODIFIED:20250822T073934Z
UID:10027845-1887472800-1887476400@voiceofoc.org
SUMMARY:Mission Viejo City Council Meeting
DESCRIPTION:The Mission Viejo City Council generally meets on the second and fourth Tuesday of each month. This meeting schedule can change\, particularly in months with national holidays\, so be sure to check [...]
URL:https://voiceofoc.org/event/mission-viejo-city-council-meeting-2/2029-10-23/
LOCATION:Mission Viejo Council Chamber at City Hall\,  200 Civic Center\, Mission Viejo\, CA\, United States
CATEGORIES:City Governments,Mission Viejo
ATTACH;FMTTYPE=image/jpeg:https://voiceofoc.org/wp-content/uploads/2020/09/Mission_Viejo.jpg
GEO:33.59632;-117.659895
X-APPLE-STRUCTURED-LOCATION;VALUE=URI;X-ADDRESS=Mission Viejo Council Chamber at City Hall  200 Civic Center Mission Viejo CA United States;X-APPLE-RADIUS=500;X-TITLE=200 Civic Center:geo:-117.659895,33.59632
END:VEVENT
BEGIN:VEVENT
DTSTART;TZID=America/Los_Angeles:20291113T180000
DTEND;TZID=America/Los_Angeles:20291113T190000
DTSTAMP:20260423T061355
CREATED:20250822T073418Z
LAST-MODIFIED:20250822T073440Z
UID:10028395-1889287200-1889290800@voiceofoc.org
SUMMARY:Mission Viejo City Council Meeting
DESCRIPTION:The Mission Viejo City Council generally meets on the second and fourth Tuesday of each month. This meeting schedule can change\, particularly in months with national holidays\, so be sure to check [...]
URL:https://voiceofoc.org/event/mission-viejo-city-council-meeting-3/2029-11-13/
LOCATION:Mission Viejo Council Chamber at City Hall\,  200 Civic Center\, Mission Viejo\, CA\, United States
CATEGORIES:City Governments,Mission Viejo
ATTACH;FMTTYPE=image/jpeg:https://voiceofoc.org/wp-content/uploads/2020/09/Mission_Viejo.jpg
GEO:33.59632;-117.659895
X-APPLE-STRUCTURED-LOCATION;VALUE=URI;X-ADDRESS=Mission Viejo Council Chamber at City Hall  200 Civic Center Mission Viejo CA United States;X-APPLE-RADIUS=500;X-TITLE=200 Civic Center:geo:-117.659895,33.59632
END:VEVENT
BEGIN:VEVENT
DTSTART;TZID=America/Los_Angeles:20291127T180000
DTEND;TZID=America/Los_Angeles:20291127T190000
DTSTAMP:20260423T061355
CREATED:20241007T224939Z
LAST-MODIFIED:20250822T073934Z
UID:10027846-1890496800-1890500400@voiceofoc.org
SUMMARY:Mission Viejo City Council Meeting
DESCRIPTION:The Mission Viejo City Council generally meets on the second and fourth Tuesday of each month. This meeting schedule can change\, particularly in months with national holidays\, so be sure to check [...]
URL:https://voiceofoc.org/event/mission-viejo-city-council-meeting-2/2029-11-27/
LOCATION:Mission Viejo Council Chamber at City Hall\,  200 Civic Center\, Mission Viejo\, CA\, United States
CATEGORIES:City Governments,Mission Viejo
ATTACH;FMTTYPE=image/jpeg:https://voiceofoc.org/wp-content/uploads/2020/09/Mission_Viejo.jpg
GEO:33.59632;-117.659895
X-APPLE-STRUCTURED-LOCATION;VALUE=URI;X-ADDRESS=Mission Viejo Council Chamber at City Hall  200 Civic Center Mission Viejo CA United States;X-APPLE-RADIUS=500;X-TITLE=200 Civic Center:geo:-117.659895,33.59632
END:VEVENT
BEGIN:VEVENT
DTSTART;TZID=America/Los_Angeles:20291211T180000
DTEND;TZID=America/Los_Angeles:20291211T190000
DTSTAMP:20260423T061355
CREATED:20250822T073418Z
LAST-MODIFIED:20250822T073440Z
UID:10028396-1891706400-1891710000@voiceofoc.org
SUMMARY:Mission Viejo City Council Meeting
DESCRIPTION:The Mission Viejo City Council generally meets on the second and fourth Tuesday of each month. This meeting schedule can change\, particularly in months with national holidays\, so be sure to check [...]
URL:https://voiceofoc.org/event/mission-viejo-city-council-meeting-3/2029-12-11/
LOCATION:Mission Viejo Council Chamber at City Hall\,  200 Civic Center\, Mission Viejo\, CA\, United States
CATEGORIES:City Governments,Mission Viejo
ATTACH;FMTTYPE=image/jpeg:https://voiceofoc.org/wp-content/uploads/2020/09/Mission_Viejo.jpg
GEO:33.59632;-117.659895
X-APPLE-STRUCTURED-LOCATION;VALUE=URI;X-ADDRESS=Mission Viejo Council Chamber at City Hall  200 Civic Center Mission Viejo CA United States;X-APPLE-RADIUS=500;X-TITLE=200 Civic Center:geo:-117.659895,33.59632
END:VEVENT
BEGIN:VEVENT
DTSTART;TZID=America/Los_Angeles:20291225T180000
DTEND;TZID=America/Los_Angeles:20291225T190000
DTSTAMP:20260423T061355
CREATED:20241007T224939Z
LAST-MODIFIED:20250822T073934Z
UID:10027847-1892916000-1892919600@voiceofoc.org
SUMMARY:Mission Viejo City Council Meeting
DESCRIPTION:The Mission Viejo City Council generally meets on the second and fourth Tuesday of each month. This meeting schedule can change\, particularly in months with national holidays\, so be sure to check [...]
URL:https://voiceofoc.org/event/mission-viejo-city-council-meeting-2/2029-12-25/
LOCATION:Mission Viejo Council Chamber at City Hall\,  200 Civic Center\, Mission Viejo\, CA\, United States
CATEGORIES:City Governments,Mission Viejo
ATTACH;FMTTYPE=image/jpeg:https://voiceofoc.org/wp-content/uploads/2020/09/Mission_Viejo.jpg
GEO:33.59632;-117.659895
X-APPLE-STRUCTURED-LOCATION;VALUE=URI;X-ADDRESS=Mission Viejo Council Chamber at City Hall  200 Civic Center Mission Viejo CA United States;X-APPLE-RADIUS=500;X-TITLE=200 Civic Center:geo:-117.659895,33.59632
END:VEVENT
BEGIN:VEVENT
DTSTART;TZID=America/Los_Angeles:20300108T180000
DTEND;TZID=America/Los_Angeles:20300108T190000
DTSTAMP:20260423T061355
CREATED:20250822T073418Z
LAST-MODIFIED:20250822T073440Z
UID:10028397-1894125600-1894129200@voiceofoc.org
SUMMARY:Mission Viejo City Council Meeting
DESCRIPTION:The Mission Viejo City Council generally meets on the second and fourth Tuesday of each month. This meeting schedule can change\, particularly in months with national holidays\, so be sure to check [...]
URL:https://voiceofoc.org/event/mission-viejo-city-council-meeting-3/2030-01-08/
LOCATION:Mission Viejo Council Chamber at City Hall\,  200 Civic Center\, Mission Viejo\, CA\, United States
CATEGORIES:City Governments,Mission Viejo
ATTACH;FMTTYPE=image/jpeg:https://voiceofoc.org/wp-content/uploads/2020/09/Mission_Viejo.jpg
GEO:33.59632;-117.659895
X-APPLE-STRUCTURED-LOCATION;VALUE=URI;X-ADDRESS=Mission Viejo Council Chamber at City Hall  200 Civic Center Mission Viejo CA United States;X-APPLE-RADIUS=500;X-TITLE=200 Civic Center:geo:-117.659895,33.59632
END:VEVENT
BEGIN:VEVENT
DTSTART;TZID=America/Los_Angeles:20300122T180000
DTEND;TZID=America/Los_Angeles:20300122T190000
DTSTAMP:20260423T061355
CREATED:20241007T224939Z
LAST-MODIFIED:20250822T073934Z
UID:10027848-1895335200-1895338800@voiceofoc.org
SUMMARY:Mission Viejo City Council Meeting
DESCRIPTION:The Mission Viejo City Council generally meets on the second and fourth Tuesday of each month. This meeting schedule can change\, particularly in months with national holidays\, so be sure to check [...]
URL:https://voiceofoc.org/event/mission-viejo-city-council-meeting-2/2030-01-22/
LOCATION:Mission Viejo Council Chamber at City Hall\,  200 Civic Center\, Mission Viejo\, CA\, United States
CATEGORIES:City Governments,Mission Viejo
ATTACH;FMTTYPE=image/jpeg:https://voiceofoc.org/wp-content/uploads/2020/09/Mission_Viejo.jpg
GEO:33.59632;-117.659895
X-APPLE-STRUCTURED-LOCATION;VALUE=URI;X-ADDRESS=Mission Viejo Council Chamber at City Hall  200 Civic Center Mission Viejo CA United States;X-APPLE-RADIUS=500;X-TITLE=200 Civic Center:geo:-117.659895,33.59632
END:VEVENT
BEGIN:VEVENT
DTSTART;TZID=America/Los_Angeles:20300212T180000
DTEND;TZID=America/Los_Angeles:20300212T190000
DTSTAMP:20260423T061355
CREATED:20250822T073418Z
LAST-MODIFIED:20250822T073440Z
UID:10028398-1897149600-1897153200@voiceofoc.org
SUMMARY:Mission Viejo City Council Meeting
DESCRIPTION:The Mission Viejo City Council generally meets on the second and fourth Tuesday of each month. This meeting schedule can change\, particularly in months with national holidays\, so be sure to check [...]
URL:https://voiceofoc.org/event/mission-viejo-city-council-meeting-3/2030-02-12/
LOCATION:Mission Viejo Council Chamber at City Hall\,  200 Civic Center\, Mission Viejo\, CA\, United States
CATEGORIES:City Governments,Mission Viejo
ATTACH;FMTTYPE=image/jpeg:https://voiceofoc.org/wp-content/uploads/2020/09/Mission_Viejo.jpg
GEO:33.59632;-117.659895
X-APPLE-STRUCTURED-LOCATION;VALUE=URI;X-ADDRESS=Mission Viejo Council Chamber at City Hall  200 Civic Center Mission Viejo CA United States;X-APPLE-RADIUS=500;X-TITLE=200 Civic Center:geo:-117.659895,33.59632
END:VEVENT
BEGIN:VEVENT
DTSTART;TZID=America/Los_Angeles:20300226T180000
DTEND;TZID=America/Los_Angeles:20300226T190000
DTSTAMP:20260423T061355
CREATED:20241007T224939Z
LAST-MODIFIED:20250822T073934Z
UID:10027849-1898359200-1898362800@voiceofoc.org
SUMMARY:Mission Viejo City Council Meeting
DESCRIPTION:The Mission Viejo City Council generally meets on the second and fourth Tuesday of each month. This meeting schedule can change\, particularly in months with national holidays\, so be sure to check [...]
URL:https://voiceofoc.org/event/mission-viejo-city-council-meeting-2/2030-02-26/
LOCATION:Mission Viejo Council Chamber at City Hall\,  200 Civic Center\, Mission Viejo\, CA\, United States
CATEGORIES:City Governments,Mission Viejo
ATTACH;FMTTYPE=image/jpeg:https://voiceofoc.org/wp-content/uploads/2020/09/Mission_Viejo.jpg
GEO:33.59632;-117.659895
X-APPLE-STRUCTURED-LOCATION;VALUE=URI;X-ADDRESS=Mission Viejo Council Chamber at City Hall  200 Civic Center Mission Viejo CA United States;X-APPLE-RADIUS=500;X-TITLE=200 Civic Center:geo:-117.659895,33.59632
END:VEVENT
BEGIN:VEVENT
DTSTART;TZID=America/Los_Angeles:20300312T180000
DTEND;TZID=America/Los_Angeles:20300312T190000
DTSTAMP:20260423T061355
CREATED:20250822T073418Z
LAST-MODIFIED:20250822T073440Z
UID:10028399-1899568800-1899572400@voiceofoc.org
SUMMARY:Mission Viejo City Council Meeting
DESCRIPTION:The Mission Viejo City Council generally meets on the second and fourth Tuesday of each month. This meeting schedule can change\, particularly in months with national holidays\, so be sure to check [...]
URL:https://voiceofoc.org/event/mission-viejo-city-council-meeting-3/2030-03-12/
LOCATION:Mission Viejo Council Chamber at City Hall\,  200 Civic Center\, Mission Viejo\, CA\, United States
CATEGORIES:City Governments,Mission Viejo
ATTACH;FMTTYPE=image/jpeg:https://voiceofoc.org/wp-content/uploads/2020/09/Mission_Viejo.jpg
GEO:33.59632;-117.659895
X-APPLE-STRUCTURED-LOCATION;VALUE=URI;X-ADDRESS=Mission Viejo Council Chamber at City Hall  200 Civic Center Mission Viejo CA United States;X-APPLE-RADIUS=500;X-TITLE=200 Civic Center:geo:-117.659895,33.59632
END:VEVENT
BEGIN:VEVENT
DTSTART;TZID=America/Los_Angeles:20300326T180000
DTEND;TZID=America/Los_Angeles:20300326T190000
DTSTAMP:20260423T061355
CREATED:20241007T224939Z
LAST-MODIFIED:20250822T073934Z
UID:10028119-1900778400-1900782000@voiceofoc.org
SUMMARY:Mission Viejo City Council Meeting
DESCRIPTION:The Mission Viejo City Council generally meets on the second and fourth Tuesday of each month. This meeting schedule can change\, particularly in months with national holidays\, so be sure to check [...]
URL:https://voiceofoc.org/event/mission-viejo-city-council-meeting-2/2030-03-26/
LOCATION:Mission Viejo Council Chamber at City Hall\,  200 Civic Center\, Mission Viejo\, CA\, United States
CATEGORIES:City Governments,Mission Viejo
ATTACH;FMTTYPE=image/jpeg:https://voiceofoc.org/wp-content/uploads/2020/09/Mission_Viejo.jpg
GEO:33.59632;-117.659895
X-APPLE-STRUCTURED-LOCATION;VALUE=URI;X-ADDRESS=Mission Viejo Council Chamber at City Hall  200 Civic Center Mission Viejo CA United States;X-APPLE-RADIUS=500;X-TITLE=200 Civic Center:geo:-117.659895,33.59632
END:VEVENT
BEGIN:VEVENT
DTSTART;TZID=America/Los_Angeles:20300409T180000
DTEND;TZID=America/Los_Angeles:20300409T190000
DTSTAMP:20260423T061355
CREATED:20250822T073418Z
LAST-MODIFIED:20250822T073440Z
UID:10028400-1901988000-1901991600@voiceofoc.org
SUMMARY:Mission Viejo City Council Meeting
DESCRIPTION:The Mission Viejo City Council generally meets on the second and fourth Tuesday of each month. This meeting schedule can change\, particularly in months with national holidays\, so be sure to check [...]
URL:https://voiceofoc.org/event/mission-viejo-city-council-meeting-3/2030-04-09/
LOCATION:Mission Viejo Council Chamber at City Hall\,  200 Civic Center\, Mission Viejo\, CA\, United States
CATEGORIES:City Governments,Mission Viejo
ATTACH;FMTTYPE=image/jpeg:https://voiceofoc.org/wp-content/uploads/2020/09/Mission_Viejo.jpg
GEO:33.59632;-117.659895
X-APPLE-STRUCTURED-LOCATION;VALUE=URI;X-ADDRESS=Mission Viejo Council Chamber at City Hall  200 Civic Center Mission Viejo CA United States;X-APPLE-RADIUS=500;X-TITLE=200 Civic Center:geo:-117.659895,33.59632
END:VEVENT
BEGIN:VEVENT
DTSTART;TZID=America/Los_Angeles:20300423T180000
DTEND;TZID=America/Los_Angeles:20300423T190000
DTSTAMP:20260423T061355
CREATED:20241007T224939Z
LAST-MODIFIED:20250822T073934Z
UID:10028120-1903197600-1903201200@voiceofoc.org
SUMMARY:Mission Viejo City Council Meeting
DESCRIPTION:The Mission Viejo City Council generally meets on the second and fourth Tuesday of each month. This meeting schedule can change\, particularly in months with national holidays\, so be sure to check [...]
URL:https://voiceofoc.org/event/mission-viejo-city-council-meeting-2/2030-04-23/
LOCATION:Mission Viejo Council Chamber at City Hall\,  200 Civic Center\, Mission Viejo\, CA\, United States
CATEGORIES:City Governments,Mission Viejo
ATTACH;FMTTYPE=image/jpeg:https://voiceofoc.org/wp-content/uploads/2020/09/Mission_Viejo.jpg
GEO:33.59632;-117.659895
X-APPLE-STRUCTURED-LOCATION;VALUE=URI;X-ADDRESS=Mission Viejo Council Chamber at City Hall  200 Civic Center Mission Viejo CA United States;X-APPLE-RADIUS=500;X-TITLE=200 Civic Center:geo:-117.659895,33.59632
END:VEVENT
BEGIN:VEVENT
DTSTART;TZID=America/Los_Angeles:20300514T180000
DTEND;TZID=America/Los_Angeles:20300514T190000
DTSTAMP:20260423T061355
CREATED:20250822T073418Z
LAST-MODIFIED:20250822T073440Z
UID:10028401-1905012000-1905015600@voiceofoc.org
SUMMARY:Mission Viejo City Council Meeting
DESCRIPTION:The Mission Viejo City Council generally meets on the second and fourth Tuesday of each month. This meeting schedule can change\, particularly in months with national holidays\, so be sure to check [...]
URL:https://voiceofoc.org/event/mission-viejo-city-council-meeting-3/2030-05-14/
LOCATION:Mission Viejo Council Chamber at City Hall\,  200 Civic Center\, Mission Viejo\, CA\, United States
CATEGORIES:City Governments,Mission Viejo
ATTACH;FMTTYPE=image/jpeg:https://voiceofoc.org/wp-content/uploads/2020/09/Mission_Viejo.jpg
GEO:33.59632;-117.659895
X-APPLE-STRUCTURED-LOCATION;VALUE=URI;X-ADDRESS=Mission Viejo Council Chamber at City Hall  200 Civic Center Mission Viejo CA United States;X-APPLE-RADIUS=500;X-TITLE=200 Civic Center:geo:-117.659895,33.59632
END:VEVENT
BEGIN:VEVENT
DTSTART;TZID=America/Los_Angeles:20300528T180000
DTEND;TZID=America/Los_Angeles:20300528T190000
DTSTAMP:20260423T061355
CREATED:20241007T224939Z
LAST-MODIFIED:20250822T073934Z
UID:10028121-1906221600-1906225200@voiceofoc.org
SUMMARY:Mission Viejo City Council Meeting
DESCRIPTION:The Mission Viejo City Council generally meets on the second and fourth Tuesday of each month. This meeting schedule can change\, particularly in months with national holidays\, so be sure to check [...]
URL:https://voiceofoc.org/event/mission-viejo-city-council-meeting-2/2030-05-28/
LOCATION:Mission Viejo Council Chamber at City Hall\,  200 Civic Center\, Mission Viejo\, CA\, United States
CATEGORIES:City Governments,Mission Viejo
ATTACH;FMTTYPE=image/jpeg:https://voiceofoc.org/wp-content/uploads/2020/09/Mission_Viejo.jpg
GEO:33.59632;-117.659895
X-APPLE-STRUCTURED-LOCATION;VALUE=URI;X-ADDRESS=Mission Viejo Council Chamber at City Hall  200 Civic Center Mission Viejo CA United States;X-APPLE-RADIUS=500;X-TITLE=200 Civic Center:geo:-117.659895,33.59632
END:VEVENT
BEGIN:VEVENT
DTSTART;TZID=America/Los_Angeles:20300611T180000
DTEND;TZID=America/Los_Angeles:20300611T190000
DTSTAMP:20260423T061355
CREATED:20250822T073418Z
LAST-MODIFIED:20250822T073440Z
UID:10028402-1907431200-1907434800@voiceofoc.org
SUMMARY:Mission Viejo City Council Meeting
DESCRIPTION:The Mission Viejo City Council generally meets on the second and fourth Tuesday of each month. This meeting schedule can change\, particularly in months with national holidays\, so be sure to check [...]
URL:https://voiceofoc.org/event/mission-viejo-city-council-meeting-3/2030-06-11/
LOCATION:Mission Viejo Council Chamber at City Hall\,  200 Civic Center\, Mission Viejo\, CA\, United States
CATEGORIES:City Governments,Mission Viejo
ATTACH;FMTTYPE=image/jpeg:https://voiceofoc.org/wp-content/uploads/2020/09/Mission_Viejo.jpg
GEO:33.59632;-117.659895
X-APPLE-STRUCTURED-LOCATION;VALUE=URI;X-ADDRESS=Mission Viejo Council Chamber at City Hall  200 Civic Center Mission Viejo CA United States;X-APPLE-RADIUS=500;X-TITLE=200 Civic Center:geo:-117.659895,33.59632
END:VEVENT
BEGIN:VEVENT
DTSTART;TZID=America/Los_Angeles:20300625T180000
DTEND;TZID=America/Los_Angeles:20300625T190000
DTSTAMP:20260423T061355
CREATED:20241007T224939Z
LAST-MODIFIED:20250822T073934Z
UID:10028122-1908640800-1908644400@voiceofoc.org
SUMMARY:Mission Viejo City Council Meeting
DESCRIPTION:The Mission Viejo City Council generally meets on the second and fourth Tuesday of each month. This meeting schedule can change\, particularly in months with national holidays\, so be sure to check [...]
URL:https://voiceofoc.org/event/mission-viejo-city-council-meeting-2/2030-06-25/
LOCATION:Mission Viejo Council Chamber at City Hall\,  200 Civic Center\, Mission Viejo\, CA\, United States
CATEGORIES:City Governments,Mission Viejo
ATTACH;FMTTYPE=image/jpeg:https://voiceofoc.org/wp-content/uploads/2020/09/Mission_Viejo.jpg
GEO:33.59632;-117.659895
X-APPLE-STRUCTURED-LOCATION;VALUE=URI;X-ADDRESS=Mission Viejo Council Chamber at City Hall  200 Civic Center Mission Viejo CA United States;X-APPLE-RADIUS=500;X-TITLE=200 Civic Center:geo:-117.659895,33.59632
END:VEVENT
BEGIN:VEVENT
DTSTART;TZID=America/Los_Angeles:20300709T180000
DTEND;TZID=America/Los_Angeles:20300709T190000
DTSTAMP:20260423T061355
CREATED:20250822T073418Z
LAST-MODIFIED:20250822T073440Z
UID:10028403-1909850400-1909854000@voiceofoc.org
SUMMARY:Mission Viejo City Council Meeting
DESCRIPTION:The Mission Viejo City Council generally meets on the second and fourth Tuesday of each month. This meeting schedule can change\, particularly in months with national holidays\, so be sure to check [...]
URL:https://voiceofoc.org/event/mission-viejo-city-council-meeting-3/2030-07-09/
LOCATION:Mission Viejo Council Chamber at City Hall\,  200 Civic Center\, Mission Viejo\, CA\, United States
CATEGORIES:City Governments,Mission Viejo
ATTACH;FMTTYPE=image/jpeg:https://voiceofoc.org/wp-content/uploads/2020/09/Mission_Viejo.jpg
GEO:33.59632;-117.659895
X-APPLE-STRUCTURED-LOCATION;VALUE=URI;X-ADDRESS=Mission Viejo Council Chamber at City Hall  200 Civic Center Mission Viejo CA United States;X-APPLE-RADIUS=500;X-TITLE=200 Civic Center:geo:-117.659895,33.59632
END:VEVENT
BEGIN:VEVENT
DTSTART;TZID=America/Los_Angeles:20300723T180000
DTEND;TZID=America/Los_Angeles:20300723T190000
DTSTAMP:20260423T061355
CREATED:20241007T224939Z
LAST-MODIFIED:20250822T073934Z
UID:10028405-1911060000-1911063600@voiceofoc.org
SUMMARY:Mission Viejo City Council Meeting
DESCRIPTION:The Mission Viejo City Council generally meets on the second and fourth Tuesday of each month. This meeting schedule can change\, particularly in months with national holidays\, so be sure to check [...]
URL:https://voiceofoc.org/event/mission-viejo-city-council-meeting-2/2030-07-23/
LOCATION:Mission Viejo Council Chamber at City Hall\,  200 Civic Center\, Mission Viejo\, CA\, United States
CATEGORIES:City Governments,Mission Viejo
ATTACH;FMTTYPE=image/jpeg:https://voiceofoc.org/wp-content/uploads/2020/09/Mission_Viejo.jpg
GEO:33.59632;-117.659895
X-APPLE-STRUCTURED-LOCATION;VALUE=URI;X-ADDRESS=Mission Viejo Council Chamber at City Hall  200 Civic Center Mission Viejo CA United States;X-APPLE-RADIUS=500;X-TITLE=200 Civic Center:geo:-117.659895,33.59632
END:VEVENT
BEGIN:VEVENT
DTSTART;TZID=America/Los_Angeles:20300813T180000
DTEND;TZID=America/Los_Angeles:20300813T190000
DTSTAMP:20260423T061355
CREATED:20250822T073418Z
LAST-MODIFIED:20250822T073440Z
UID:10028404-1912874400-1912878000@voiceofoc.org
SUMMARY:Mission Viejo City Council Meeting
DESCRIPTION:The Mission Viejo City Council generally meets on the second and fourth Tuesday of each month. This meeting schedule can change\, particularly in months with national holidays\, so be sure to check [...]
URL:https://voiceofoc.org/event/mission-viejo-city-council-meeting-3/2030-08-13/
LOCATION:Mission Viejo Council Chamber at City Hall\,  200 Civic Center\, Mission Viejo\, CA\, United States
CATEGORIES:City Governments,Mission Viejo
ATTACH;FMTTYPE=image/jpeg:https://voiceofoc.org/wp-content/uploads/2020/09/Mission_Viejo.jpg
GEO:33.59632;-117.659895
X-APPLE-STRUCTURED-LOCATION;VALUE=URI;X-ADDRESS=Mission Viejo Council Chamber at City Hall  200 Civic Center Mission Viejo CA United States;X-APPLE-RADIUS=500;X-TITLE=200 Civic Center:geo:-117.659895,33.59632
END:VEVENT
END:VCALENDAR