BEGIN:VCALENDAR
VERSION:2.0
PRODID:-//Voice of OC - ECPv6.15.20//NONSGML v1.0//EN
CALSCALE:GREGORIAN
METHOD:PUBLISH
X-ORIGINAL-URL:https://voiceofoc.org
X-WR-CALDESC:Events for Voice of OC
REFRESH-INTERVAL;VALUE=DURATION:PT1H
X-Robots-Tag:noindex
X-PUBLISHED-TTL:PT1H
BEGIN:VTIMEZONE
TZID:America/Los_Angeles
BEGIN:DAYLIGHT
TZOFFSETFROM:-0800
TZOFFSETTO:-0700
TZNAME:PDT
DTSTART:20300310T100000
END:DAYLIGHT
BEGIN:STANDARD
TZOFFSETFROM:-0700
TZOFFSETTO:-0800
TZNAME:PST
DTSTART:20301103T090000
END:STANDARD
BEGIN:DAYLIGHT
TZOFFSETFROM:-0800
TZOFFSETTO:-0700
TZNAME:PDT
DTSTART:20310309T100000
END:DAYLIGHT
BEGIN:STANDARD
TZOFFSETFROM:-0700
TZOFFSETTO:-0800
TZNAME:PST
DTSTART:20311102T090000
END:STANDARD
BEGIN:DAYLIGHT
TZOFFSETFROM:-0800
TZOFFSETTO:-0700
TZNAME:PDT
DTSTART:20320314T100000
END:DAYLIGHT
BEGIN:STANDARD
TZOFFSETFROM:-0700
TZOFFSETTO:-0800
TZNAME:PST
DTSTART:20321107T090000
END:STANDARD
END:VTIMEZONE
BEGIN:VEVENT
DTSTART;TZID=America/Los_Angeles:20310415T180000
DTEND;TZID=America/Los_Angeles:20310415T200000
DTSTAMP:20260420T024916
CREATED:20260416T205025Z
LAST-MODIFIED:20260416T205026Z
UID:10028825-1934042400-1934049600@voiceofoc.org
SUMMARY:San Clemente City Council Meeting
DESCRIPTION:The San Clemente City Council generally meets on the first and third Tuesdays of each month. This meeting schedule can change\, particularly in months with national holidays\, so be sure [...]
URL:https://voiceofoc.org/event/san-clemente-city-council-meeting-3-3/2031-04-15/
LOCATION:San Clemente City Hall\, 100 Avenida Presidio\, San Clemente\, CA\, United States
CATEGORIES:City Governments,San Clemente
ATTACH;FMTTYPE=image/jpeg:https://voiceofoc.org/wp-content/uploads/2020/11/©JessicaRuiz_2019_San_Clemente-8.jpg
GEO:33.4279886;-117.6089651
X-APPLE-STRUCTURED-LOCATION;VALUE=URI;X-ADDRESS=San Clemente City Hall 100 Avenida Presidio San Clemente CA United States;X-APPLE-RADIUS=500;X-TITLE=100 Avenida Presidio:geo:-117.6089651,33.4279886
END:VEVENT
END:VCALENDAR