BEGIN:VCALENDAR
VERSION:2.0
PRODID:-//Voice of OC - ECPv6.15.20//NONSGML v1.0//EN
CALSCALE:GREGORIAN
METHOD:PUBLISH
X-ORIGINAL-URL:https://voiceofoc.org
X-WR-CALDESC:Events for Voice of OC
REFRESH-INTERVAL;VALUE=DURATION:PT1H
X-Robots-Tag:noindex
X-PUBLISHED-TTL:PT1H
BEGIN:VTIMEZONE
TZID:America/Los_Angeles
BEGIN:DAYLIGHT
TZOFFSETFROM:-0800
TZOFFSETTO:-0700
TZNAME:PDT
DTSTART:20220313T100000
END:DAYLIGHT
BEGIN:STANDARD
TZOFFSETFROM:-0700
TZOFFSETTO:-0800
TZNAME:PST
DTSTART:20221106T090000
END:STANDARD
BEGIN:DAYLIGHT
TZOFFSETFROM:-0800
TZOFFSETTO:-0700
TZNAME:PDT
DTSTART:20230312T100000
END:DAYLIGHT
BEGIN:STANDARD
TZOFFSETFROM:-0700
TZOFFSETTO:-0800
TZNAME:PST
DTSTART:20231105T090000
END:STANDARD
BEGIN:DAYLIGHT
TZOFFSETFROM:-0800
TZOFFSETTO:-0700
TZNAME:PDT
DTSTART:20240310T100000
END:DAYLIGHT
BEGIN:STANDARD
TZOFFSETFROM:-0700
TZOFFSETTO:-0800
TZNAME:PST
DTSTART:20241103T090000
END:STANDARD
END:VTIMEZONE
BEGIN:VEVENT
DTSTART;TZID=America/Los_Angeles:20230822T170000
DTEND;TZID=America/Los_Angeles:20230822T190000
DTSTAMP:20260421T151010
CREATED:20241007T224930Z
LAST-MODIFIED:20241223T181521Z
UID:10023071-1692723600-1692730800@voiceofoc.org
SUMMARY:Laguna Beach City Council Meeting
DESCRIPTION:The San Clemente City Council generally meets on the first and third Tuesdays of each month. This meeting schedule can change\, particularly in months with national holidays\, so be sure [...]
URL:https://voiceofoc.org/event/laguna-beach-city-council-meeting-2/2023-08-22/
LOCATION:Laguna Beach City Council Chambers\, 505 Forest Avenue\, Laguna Beach\, CA\, 92651\, United States
CATEGORIES:City Governments,Laguna Beach
ATTACH;FMTTYPE=image/jpeg:https://voiceofoc.org/wp-content/uploads/2021/08/08.10.2021-Omar-Sanchez-1.jpg
GEO:33.5465023;-117.7813457
X-APPLE-STRUCTURED-LOCATION;VALUE=URI;X-ADDRESS=Laguna Beach City Council Chambers 505 Forest Avenue Laguna Beach CA 92651 United States;X-APPLE-RADIUS=500;X-TITLE=505 Forest Avenue:geo:-117.7813457,33.5465023
END:VEVENT
BEGIN:VEVENT
DTSTART;TZID=America/Los_Angeles:20230822T180000
DTEND;TZID=America/Los_Angeles:20230822T190000
DTSTAMP:20260421T151010
CREATED:20241007T224939Z
LAST-MODIFIED:20250822T073934Z
UID:10027771-1692727200-1692730800@voiceofoc.org
SUMMARY:Mission Viejo City Council Meeting
DESCRIPTION:The San Clemente City Council generally meets on the first and third Tuesdays of each month. This meeting schedule can change\, particularly in months with national holidays\, so be sure [...]
URL:https://voiceofoc.org/event/mission-viejo-city-council-meeting-2/2023-08-22/
LOCATION:Mission Viejo Council Chamber at City Hall\,  200 Civic Center\, Mission Viejo\, CA\, United States
CATEGORIES:City Governments,Mission Viejo
ATTACH;FMTTYPE=image/jpeg:https://voiceofoc.org/wp-content/uploads/2020/09/Mission_Viejo.jpg
GEO:33.59632;-117.659895
X-APPLE-STRUCTURED-LOCATION;VALUE=URI;X-ADDRESS=Mission Viejo Council Chamber at City Hall  200 Civic Center Mission Viejo CA United States;X-APPLE-RADIUS=500;X-TITLE=200 Civic Center:geo:-117.659895,33.59632
END:VEVENT
BEGIN:VEVENT
DTSTART;TZID=America/Los_Angeles:20230822T180000
DTEND;TZID=America/Los_Angeles:20230822T200000
DTSTAMP:20260421T151010
CREATED:20241007T224940Z
LAST-MODIFIED:20241223T182059Z
UID:10023379-1692727200-1692734400@voiceofoc.org
SUMMARY:Newport Beach City Council Meeting
DESCRIPTION:The San Clemente City Council generally meets on the first and third Tuesdays of each month. This meeting schedule can change\, particularly in months with national holidays\, so be sure [...]
URL:https://voiceofoc.org/event/newport-beach-city-council-meeting-2020-10-13-2/2023-08-22/
LOCATION:Newport Beach City Council Chambers\,  100 Civic Center Drive\, Newport Beach\, CA\, United States
CATEGORIES:City Governments,Newport Beach
ATTACH;FMTTYPE=image/jpeg:https://voiceofoc.org/wp-content/uploads/2018/04/newportbeachcityhallEDIT.jpg
GEO:33.6091872;-117.8724421
X-APPLE-STRUCTURED-LOCATION;VALUE=URI;X-ADDRESS=Newport Beach City Council Chambers  100 Civic Center Drive Newport Beach CA United States;X-APPLE-RADIUS=500;X-TITLE=100 Civic Center Drive:geo:-117.8724421,33.6091872
END:VEVENT
BEGIN:VEVENT
DTSTART;TZID=America/Los_Angeles:20230822T183000
DTEND;TZID=America/Los_Angeles:20230822T203000
DTSTAMP:20260421T151010
CREATED:20200914T183623Z
LAST-MODIFIED:20241223T182332Z
UID:10023645-1692729000-1692736200@voiceofoc.org
SUMMARY:Villa Park City Council Meeting
DESCRIPTION:The San Clemente City Council generally meets on the first and third Tuesdays of each month. This meeting schedule can change\, particularly in months with national holidays\, so be sure [...]
URL:https://voiceofoc.org/event/villa-park-city-council-meeting-2/2023-08-22/
LOCATION:Villa Park City Council Chambers\, 17855 Santiago Boulevard\, Villa Park \, CA\, 92861\, United States
CATEGORIES:City Governments,Villa Park
ATTACH;FMTTYPE=image/jpeg:https://voiceofoc.org/wp-content/uploads/2020/09/Villa_Park_CivicCenter1EDIT.jpg
GEO:33.8150422;-117.8204917
X-APPLE-STRUCTURED-LOCATION;VALUE=URI;X-ADDRESS=Villa Park City Council Chambers 17855 Santiago Boulevard Villa Park  CA 92861 United States;X-APPLE-RADIUS=500;X-TITLE=17855 Santiago Boulevard:geo:-117.8204917,33.8150422
END:VEVENT
BEGIN:VEVENT
DTSTART;TZID=America/Los_Angeles:20230822T183000
DTEND;TZID=America/Los_Angeles:20230822T203000
DTSTAMP:20260421T151010
CREATED:20241007T224927Z
LAST-MODIFIED:20241223T182436Z
UID:10022972-1692729000-1692736200@voiceofoc.org
SUMMARY:Garden Grove City Council Meeting
DESCRIPTION:The San Clemente City Council generally meets on the first and third Tuesdays of each month. This meeting schedule can change\, particularly in months with national holidays\, so be sure [...]
URL:https://voiceofoc.org/event/garden-grove-city-council-meeting-2-2/2023-08-22/
LOCATION:Garden Grove Community Meeting Center\, 11300 Stanford Avenue\, Garden Grove\, 92840\, United States
CATEGORIES:City Governments,Garden Grove
ATTACH;FMTTYPE=image/png:https://voiceofoc.org/wp-content/uploads/2020/10/GardenGroveCityHall_1_EDIT.png
GEO:33.7773301;-117.9356096
X-APPLE-STRUCTURED-LOCATION;VALUE=URI;X-ADDRESS=Garden Grove Community Meeting Center 11300 Stanford Avenue Garden Grove 92840 United States;X-APPLE-RADIUS=500;X-TITLE=11300 Stanford Avenue:geo:-117.9356096,33.7773301
END:VEVENT
END:VCALENDAR