BEGIN:VCALENDAR
VERSION:2.0
PRODID:-//Voice of OC - ECPv6.15.20//NONSGML v1.0//EN
CALSCALE:GREGORIAN
METHOD:PUBLISH
X-ORIGINAL-URL:https://voiceofoc.org
X-WR-CALDESC:Events for Voice of OC
REFRESH-INTERVAL;VALUE=DURATION:PT1H
X-Robots-Tag:noindex
X-PUBLISHED-TTL:PT1H
BEGIN:VTIMEZONE
TZID:America/Los_Angeles
BEGIN:DAYLIGHT
TZOFFSETFROM:-0800
TZOFFSETTO:-0700
TZNAME:PDT
DTSTART:20220313T100000
END:DAYLIGHT
BEGIN:STANDARD
TZOFFSETFROM:-0700
TZOFFSETTO:-0800
TZNAME:PST
DTSTART:20221106T090000
END:STANDARD
BEGIN:DAYLIGHT
TZOFFSETFROM:-0800
TZOFFSETTO:-0700
TZNAME:PDT
DTSTART:20230312T100000
END:DAYLIGHT
BEGIN:STANDARD
TZOFFSETFROM:-0700
TZOFFSETTO:-0800
TZNAME:PST
DTSTART:20231105T090000
END:STANDARD
BEGIN:DAYLIGHT
TZOFFSETFROM:-0800
TZOFFSETTO:-0700
TZNAME:PDT
DTSTART:20240310T100000
END:DAYLIGHT
BEGIN:STANDARD
TZOFFSETFROM:-0700
TZOFFSETTO:-0800
TZNAME:PST
DTSTART:20241103T090000
END:STANDARD
END:VTIMEZONE
BEGIN:VEVENT
DTSTART;TZID=America/Los_Angeles:20231213T173000
DTEND;TZID=America/Los_Angeles:20231213T193000
DTSTAMP:20260419T131451
CREATED:20170719T182154Z
LAST-MODIFIED:20240715T233204Z
UID:10020440-1702488600-1702495800@voiceofoc.org
SUMMARY:Centralia Elementary School District Board Meeting
DESCRIPTION:The San Clemente City Council generally meets on the first and third Tuesdays of each month. This meeting schedule can change\, particularly in months with national holidays\, so be sure [...]
URL:https://voiceofoc.org/event/centralia-elementary-school-district-board-meeting/2023-12-13/
LOCATION:Walter Knott Education Center\, 7300 La Palma Avenue\, Buena Park\, 7300 La Palma Avenue\, Buena Park\, CA\, 90620\, United States
CATEGORIES:Anaheim,Buena Park,Cypress,La Palma,Schools
ATTACH;FMTTYPE=image/jpeg:https://voiceofoc.org/wp-content/uploads/2023/06/IMG_5482.jpg
GEO:33.8462512;-118.0053882
X-APPLE-STRUCTURED-LOCATION;VALUE=URI;X-ADDRESS=Walter Knott Education Center 7300 La Palma Avenue Buena Park 7300 La Palma Avenue Buena Park CA 90620 United States;X-APPLE-RADIUS=500;X-TITLE=7300 La Palma Avenue:geo:-118.0053882,33.8462512
END:VEVENT
BEGIN:VEVENT
DTSTART;TZID=America/Los_Angeles:20231213T190000
DTEND;TZID=America/Los_Angeles:20231213T210000
DTSTAMP:20260419T131451
CREATED:20200911T220514Z
LAST-MODIFIED:20240719T171900Z
UID:10023450-1702494000-1702501200@voiceofoc.org
SUMMARY:Rancho Santa Margarita City Council Meeting
DESCRIPTION:The San Clemente City Council generally meets on the first and third Tuesdays of each month. This meeting schedule can change\, particularly in months with national holidays\, so be sure [...]
URL:https://voiceofoc.org/event/rancho-santa-margarita-city-council-meeting-2/2023-12-13/
LOCATION:Rancho Santa Margarita City Hall\, 22112 El Paseo\, Rancho Santa Margarita \, CA\, 92688\, United States
CATEGORIES:City Governments,Rancho Santa Margarita
ATTACH;FMTTYPE=image/jpeg:https://voiceofoc.org/wp-content/uploads/2020/10/©JessicaRuiz_2019_Rancho_Santa_Margarita-6.jpg
GEO:33.6419366;-117.594582
X-APPLE-STRUCTURED-LOCATION;VALUE=URI;X-ADDRESS=Rancho Santa Margarita City Hall 22112 El Paseo Rancho Santa Margarita  CA 92688 United States;X-APPLE-RADIUS=500;X-TITLE=22112 El Paseo:geo:-117.594582,33.6419366
END:VEVENT
BEGIN:VEVENT
DTSTART;TZID=America/Los_Angeles:20231213T190000
DTEND;TZID=America/Los_Angeles:20231213T210000
DTSTAMP:20260419T131451
CREATED:20200930T180749Z
LAST-MODIFIED:20240716T001652Z
UID:10023843-1702494000-1702501200@voiceofoc.org
SUMMARY:Orange Unified School District Board Meeting
DESCRIPTION:The San Clemente City Council generally meets on the first and third Tuesdays of each month. This meeting schedule can change\, particularly in months with national holidays\, so be sure [...]
URL:https://voiceofoc.org/event/orange-unified-school-district-board-meeting-2/2023-12-13/
LOCATION:1401 N. Handy Street\, Bldg. H\, Orange\, CA 92867\, 1401 N. Handy Street\, Bldg. H\, Orange\, CA\, 92867\, United States
CATEGORIES:Orange,Schools
ATTACH;FMTTYPE=image/jpeg:https://voiceofoc.org/wp-content/uploads/2023/05/AP_2046-copy.jpg
GEO:33.8110401;-117.8268854
X-APPLE-STRUCTURED-LOCATION;VALUE=URI;X-ADDRESS=1401 N. Handy Street Bldg. H Orange CA 92867 1401 N. Handy Street Bldg. H Orange CA 92867 United States;X-APPLE-RADIUS=500;X-TITLE=1401 N. Handy Street\, Bldg. H:geo:-117.8268854,33.8110401
END:VEVENT
END:VCALENDAR