BEGIN:VCALENDAR
VERSION:2.0
PRODID:-//Voice of OC - ECPv6.15.20//NONSGML v1.0//EN
CALSCALE:GREGORIAN
METHOD:PUBLISH
X-WR-CALNAME:Voice of OC
X-ORIGINAL-URL:https://voiceofoc.org
X-WR-CALDESC:Events for Voice of OC
REFRESH-INTERVAL;VALUE=DURATION:PT1H
X-Robots-Tag:noindex
X-PUBLISHED-TTL:PT1H
BEGIN:VTIMEZONE
TZID:America/Los_Angeles
BEGIN:DAYLIGHT
TZOFFSETFROM:-0800
TZOFFSETTO:-0700
TZNAME:PDT
DTSTART:20240310T100000
END:DAYLIGHT
BEGIN:STANDARD
TZOFFSETFROM:-0700
TZOFFSETTO:-0800
TZNAME:PST
DTSTART:20241103T090000
END:STANDARD
BEGIN:DAYLIGHT
TZOFFSETFROM:-0800
TZOFFSETTO:-0700
TZNAME:PDT
DTSTART:20250309T100000
END:DAYLIGHT
BEGIN:STANDARD
TZOFFSETFROM:-0700
TZOFFSETTO:-0800
TZNAME:PST
DTSTART:20251102T090000
END:STANDARD
BEGIN:DAYLIGHT
TZOFFSETFROM:-0800
TZOFFSETTO:-0700
TZNAME:PDT
DTSTART:20260308T100000
END:DAYLIGHT
BEGIN:STANDARD
TZOFFSETFROM:-0700
TZOFFSETTO:-0800
TZNAME:PST
DTSTART:20261101T090000
END:STANDARD
END:VTIMEZONE
BEGIN:VEVENT
DTSTART;TZID=America/Los_Angeles:20250121T170000
DTEND;TZID=America/Los_Angeles:20250121T190000
DTSTAMP:20260421T192926
CREATED:20210316T012338Z
LAST-MODIFIED:20241101T172210Z
UID:10024667-1737478800-1737486000@voiceofoc.org
SUMMARY:San Juan Capistrano City Council Meeting
DESCRIPTION:The San Clemente City Council generally meets on the first and third Tuesdays of each month. This meeting schedule can change\, particularly in months with national holidays\, so be sure [...]
URL:https://voiceofoc.org/event/san-juan-capistrano-city-council-meeting-3/2025-01-21/
LOCATION:San Juan Capistrano City Hall\, 32400 Paseo Adelanto\, San Juan Capistrano\, CA\, United States
CATEGORIES:City Governments,San Juan Capistrano
ATTACH;FMTTYPE=image/png:https://voiceofoc.org/wp-content/uploads/2020/10/San_Juan_Capistrano-8EDIT.png
GEO:33.4929293;-117.6649745
X-APPLE-STRUCTURED-LOCATION;VALUE=URI;X-ADDRESS=San Juan Capistrano City Hall 32400 Paseo Adelanto San Juan Capistrano CA United States;X-APPLE-RADIUS=500;X-TITLE=32400 Paseo Adelanto:geo:-117.6649745,33.4929293
END:VEVENT
BEGIN:VEVENT
DTSTART;TZID=America/Los_Angeles:20250121T173000
DTEND;TZID=America/Los_Angeles:20250121T193000
DTSTAMP:20260421T192926
CREATED:20241007T225005Z
LAST-MODIFIED:20241007T225005Z
UID:10024412-1737480600-1737487800@voiceofoc.org
SUMMARY:Fullerton City Council Meeting
DESCRIPTION:The San Clemente City Council generally meets on the first and third Tuesdays of each month. This meeting schedule can change\, particularly in months with national holidays\, so be sure [...]
URL:https://voiceofoc.org/event/fullerton-city-council-meeting-3/2025-01-21/
LOCATION:Fullerton City Council\, 303 W. Commonwealth Ave.\, Fullerton\, CA\, United States
CATEGORIES:City Governments,Fullerton
ATTACH;FMTTYPE=image/jpeg:https://voiceofoc.org/wp-content/uploads/2018/06/FullertonCityHallEDIT.jpg
GEO:33.8707767;-117.9294312
X-APPLE-STRUCTURED-LOCATION;VALUE=URI;X-ADDRESS=Fullerton City Council 303 W. Commonwealth Ave. Fullerton CA United States;X-APPLE-RADIUS=500;X-TITLE=303 W. Commonwealth Ave.:geo:-117.9294312,33.8707767
END:VEVENT
BEGIN:VEVENT
DTSTART;TZID=America/Los_Angeles:20250121T174500
DTEND;TZID=America/Los_Angeles:20250121T194500
DTSTAMP:20260421T192926
CREATED:20241101T194413Z
LAST-MODIFIED:20241101T194449Z
UID:10026847-1737481500-1737488700@voiceofoc.org
SUMMARY:Santa Ana City Council Meeting
DESCRIPTION:The San Clemente City Council generally meets on the first and third Tuesdays of each month. This meeting schedule can change\, particularly in months with national holidays\, so be sure [...]
URL:https://voiceofoc.org/event/santa-ana-city-council-meeting-3-2-2/2025-01-21/
LOCATION:Santa Ana City Council Chambers\, 22 Civic Center Plaza\, Santa Ana\, CA\, United States
CATEGORIES:City Governments,Santa Ana
ATTACH;FMTTYPE=image/jpeg:https://voiceofoc.org/wp-content/uploads/2020/05/RECALLCECI.2020.05.EDIT-9.jpg
GEO:33.7499444;-117.8733502
X-APPLE-STRUCTURED-LOCATION;VALUE=URI;X-ADDRESS=Santa Ana City Council Chambers 22 Civic Center Plaza Santa Ana CA United States;X-APPLE-RADIUS=500;X-TITLE=22 Civic Center Plaza:geo:-117.8733502,33.7499444
END:VEVENT
BEGIN:VEVENT
DTSTART;TZID=America/Los_Angeles:20250121T180000
DTEND;TZID=America/Los_Angeles:20250121T200000
DTSTAMP:20260421T192926
CREATED:20210315T053502Z
LAST-MODIFIED:20250724T214106Z
UID:10027657-1737482400-1737489600@voiceofoc.org
SUMMARY:Los Alamitos City Council Meeting
DESCRIPTION:The San Clemente City Council generally meets on the first and third Tuesdays of each month. This meeting schedule can change\, particularly in months with national holidays\, so be sure [...]
URL:https://voiceofoc.org/event/los-alamitos-city-council-meeting-3/2025-01-21/
LOCATION:Los Alamitos City Council Chambers\, 3191 Katella Avenue\, Los Alamitos \, CA\, 90720\, United States
CATEGORIES:City Governments,Los Alamitos
ATTACH;FMTTYPE=image/jpeg:https://voiceofoc.org/wp-content/uploads/2020/10/©JessicaRuiz_2019_Los_Alamitos-10-1.jpg
GEO:33.8035531;-118.0769189
X-APPLE-STRUCTURED-LOCATION;VALUE=URI;X-ADDRESS=Los Alamitos City Council Chambers 3191 Katella Avenue Los Alamitos  CA 90720 United States;X-APPLE-RADIUS=500;X-TITLE=3191 Katella Avenue:geo:-118.0769189,33.8035531
END:VEVENT
BEGIN:VEVENT
DTSTART;TZID=America/Los_Angeles:20250121T180000
DTEND;TZID=America/Los_Angeles:20250121T200000
DTSTAMP:20260421T192926
CREATED:20210316T013545Z
LAST-MODIFIED:20240716T000819Z
UID:10024448-1737482400-1737489600@voiceofoc.org
SUMMARY:Newport-Mesa Unified School District Board Meeting
DESCRIPTION:The San Clemente City Council generally meets on the first and third Tuesdays of each month. This meeting schedule can change\, particularly in months with national holidays\, so be sure [...]
URL:https://voiceofoc.org/event/newport-mesa-unified-school-district-board-meeting-3/2025-01-21/
LOCATION:District Education Center\, Roderick H. MacMillian Board Room\, 2985 Bear Street\, Bldg. A\, Costa Mesa\, California 92626\, 2985 Bear Street\, Bldg. A\, Costa Mesa\, CA\, 92626\, United States
CATEGORIES:Costa Mesa,Newport Beach,Schools
ATTACH;FMTTYPE=image/jpeg:https://voiceofoc.org/wp-content/uploads/2020/09/Sshools.2020.09.EDIT-5.jpg
GEO:33.6791062;-117.8949653
X-APPLE-STRUCTURED-LOCATION;VALUE=URI;X-ADDRESS=District Education Center Roderick H. MacMillian Board Room 2985 Bear Street Bldg. A Costa Mesa California 92626 2985 Bear Street Bldg. A Costa Mesa CA 92626 United States;X-APPLE-RADIUS=500;X-TITLE=2985 Bear Street\, Bldg. A:geo:-117.8949653,33.6791062
END:VEVENT
BEGIN:VEVENT
DTSTART;TZID=America/Los_Angeles:20250121T180000
DTEND;TZID=America/Los_Angeles:20250121T200000
DTSTAMP:20260421T192926
CREATED:20241007T224926Z
LAST-MODIFIED:20241007T224926Z
UID:10022921-1737482400-1737489600@voiceofoc.org
SUMMARY:Dana Point City Council Meeting
DESCRIPTION:The San Clemente City Council generally meets on the first and third Tuesdays of each month. This meeting schedule can change\, particularly in months with national holidays\, so be sure [...]
URL:https://voiceofoc.org/event/dana-point-city-council-meeting-2/2025-01-21/
LOCATION:Dana Point Council Chamber\, City Hall\, 33282 Golden Lantern\, Dana Point\, CA\, United States
CATEGORIES:City Governments,Dana Point
ATTACH;FMTTYPE=image/jpeg:https://voiceofoc.org/wp-content/uploads/2020/10/©JessicaRuiz_2019_Dana_Point-2.jpg
GEO:33.4795139;-117.6973862
X-APPLE-STRUCTURED-LOCATION;VALUE=URI;X-ADDRESS=Dana Point Council Chamber City Hall 33282 Golden Lantern Dana Point CA United States;X-APPLE-RADIUS=500;X-TITLE=33282 Golden Lantern:geo:-117.6973862,33.4795139
END:VEVENT
BEGIN:VEVENT
DTSTART;TZID=America/Los_Angeles:20250121T180000
DTEND;TZID=America/Los_Angeles:20250121T200000
DTSTAMP:20260421T192926
CREATED:20241007T224959Z
LAST-MODIFIED:20241007T224959Z
UID:10024033-1737482400-1737489600@voiceofoc.org
SUMMARY:Huntington Beach City Council Meeting
DESCRIPTION:The San Clemente City Council generally meets on the first and third Tuesdays of each month. This meeting schedule can change\, particularly in months with national holidays\, so be sure [...]
URL:https://voiceofoc.org/event/huntington-beach-city-council-meeting-3/2025-01-21/
LOCATION:Huntington Beach City Council Chambers\, 2000 Main Street \, Huntington Beach\, CA\, United States
CATEGORIES:City Governments,Huntington Beach
ATTACH;FMTTYPE=image/jpeg:https://voiceofoc.org/wp-content/uploads/2021/08/IMG_7319.jpg
GEO:33.6780642;-118.0002925
X-APPLE-STRUCTURED-LOCATION;VALUE=URI;X-ADDRESS=Huntington Beach City Council Chambers 2000 Main Street  Huntington Beach CA United States;X-APPLE-RADIUS=500;X-TITLE=2000 Main Street:geo:-118.0002925,33.6780642
END:VEVENT
BEGIN:VEVENT
DTSTART;TZID=America/Los_Angeles:20250121T180000
DTEND;TZID=America/Los_Angeles:20250121T200000
DTSTAMP:20260421T192926
CREATED:20241007T225009Z
LAST-MODIFIED:20241007T225009Z
UID:10024569-1737482400-1737489600@voiceofoc.org
SUMMARY:Fountain Valley City Council Meeting
DESCRIPTION:The San Clemente City Council generally meets on the first and third Tuesdays of each month. This meeting schedule can change\, particularly in months with national holidays\, so be sure [...]
URL:https://voiceofoc.org/event/fountain-valley-city-council-meeting-3/2025-01-21/
LOCATION:Fountain Valley City Hall\, 10200 Slater Avenue\, Fountain Valley \, CA\, 92507\, United States
CATEGORIES:City Governments,Fountain Valley
ATTACH;FMTTYPE=image/jpeg:https://voiceofoc.org/wp-content/uploads/2020/10/©JessicaRuiz_2019_Fountain_Valley-6.jpg
GEO:33.7085053;-117.9507745
X-APPLE-STRUCTURED-LOCATION;VALUE=URI;X-ADDRESS=Fountain Valley City Hall 10200 Slater Avenue Fountain Valley  CA 92507 United States;X-APPLE-RADIUS=500;X-TITLE=10200 Slater Avenue:geo:-117.9507745,33.7085053
END:VEVENT
BEGIN:VEVENT
DTSTART;TZID=America/Los_Angeles:20250121T180000
DTEND;TZID=America/Los_Angeles:20250121T200000
DTSTAMP:20260421T192926
CREATED:20241007T225010Z
LAST-MODIFIED:20241007T225010Z
UID:10024634-1737482400-1737489600@voiceofoc.org
SUMMARY:Costa Mesa City Council Meeting
DESCRIPTION:The San Clemente City Council generally meets on the first and third Tuesdays of each month. This meeting schedule can change\, particularly in months with national holidays\, so be sure [...]
URL:https://voiceofoc.org/event/costa-mesa-city-council-meeting-2/2025-01-21/
LOCATION:Costa Mesa City Council Chambers\, City Hall\, 77 Fair Drive\, Cost Mesa\, CA\, United States
CATEGORIES:City Governments,Costa Mesa
ATTACH;FMTTYPE=image/jpeg:https://voiceofoc.org/wp-content/uploads/2020/04/CostaMesaCityHallEDIT1.jpg
GEO:33.6631441;-117.9029272
X-APPLE-STRUCTURED-LOCATION;VALUE=URI;X-ADDRESS=Costa Mesa City Council Chambers City Hall 77 Fair Drive Cost Mesa CA United States;X-APPLE-RADIUS=500;X-TITLE=City Hall\, 77 Fair Drive:geo:-117.9029272,33.6631441
END:VEVENT
BEGIN:VEVENT
DTSTART;TZID=America/Los_Angeles:20250121T183000
DTEND;TZID=America/Los_Angeles:20250121T203000
DTSTAMP:20260421T192926
CREATED:20210316T015937Z
LAST-MODIFIED:20240702T183310Z
UID:10024247-1737484200-1737491400@voiceofoc.org
SUMMARY:Yorba Linda City Council Meeting
DESCRIPTION:The San Clemente City Council generally meets on the first and third Tuesdays of each month. This meeting schedule can change\, particularly in months with national holidays\, so be sure [...]
URL:https://voiceofoc.org/event/yorba-linda-city-council-meeting-3/2025-01-21/
LOCATION:Yorba Linda City Council Chambers\, 4845 Casa Loma Avenue\, Yorba Linda\, CA\, 92885\, United States
CATEGORIES:City Governments,Yorba Linda
ATTACH;FMTTYPE=image/jpeg:https://voiceofoc.org/wp-content/uploads/2021/03/Yorba_Linda-5.EDIT_.jpg
GEO:33.891104;-117.8249592
X-APPLE-STRUCTURED-LOCATION;VALUE=URI;X-ADDRESS=Yorba Linda City Council Chambers 4845 Casa Loma Avenue Yorba Linda CA 92885 United States;X-APPLE-RADIUS=500;X-TITLE=4845 Casa Loma Avenue:geo:-117.8249592,33.891104
END:VEVENT
BEGIN:VEVENT
DTSTART;TZID=America/Los_Angeles:20250121T183000
DTEND;TZID=America/Los_Angeles:20250121T203000
DTSTAMP:20260421T192926
CREATED:20241007T225004Z
LAST-MODIFIED:20241007T225004Z
UID:10024346-1737484200-1737491400@voiceofoc.org
SUMMARY:Lake Forest City Council Meeting
DESCRIPTION:The San Clemente City Council generally meets on the first and third Tuesdays of each month. This meeting schedule can change\, particularly in months with national holidays\, so be sure [...]
URL:https://voiceofoc.org/event/lake-forest-city-council-meeting-3/2025-01-21/
LOCATION:Lake Forest City Council Chambers\, 25550 Commercentre Drive\, Lake Forest \, CA\, United States
CATEGORIES:City Governments,Lake Forest
ATTACH;FMTTYPE=image/png:https://voiceofoc.org/wp-content/uploads/2020/10/©JessicaRuiz_2019_Lake_Forest-8EDIT.png
GEO:33.6637413;-117.6845166
X-APPLE-STRUCTURED-LOCATION;VALUE=URI;X-ADDRESS=Lake Forest City Council Chambers 25550 Commercentre Drive Lake Forest  CA United States;X-APPLE-RADIUS=500;X-TITLE=25550 Commercentre Drive:geo:-117.6845166,33.6637413
END:VEVENT
BEGIN:VEVENT
DTSTART;TZID=America/Los_Angeles:20250121T190000
DTEND;TZID=America/Los_Angeles:20250121T210000
DTSTAMP:20260421T192926
CREATED:20210316T011938Z
LAST-MODIFIED:20240903T214543Z
UID:10024183-1737486000-1737493200@voiceofoc.org
SUMMARY:Tustin City Council Meeting
DESCRIPTION:The San Clemente City Council generally meets on the first and third Tuesdays of each month. This meeting schedule can change\, particularly in months with national holidays\, so be sure [...]
URL:https://voiceofoc.org/event/tustin-city-council-meeting-2/2025-01-21/
LOCATION:Tustin City Council Chambers\,  300 Centennial Way\, Tustin\, CA\, United States
CATEGORIES:City Governments,Tustin
ATTACH;FMTTYPE=image/jpeg:https://voiceofoc.org/wp-content/uploads/2021/03/TustinCityHall1EDIT.jpg
GEO:33.7432553;-117.8195113
X-APPLE-STRUCTURED-LOCATION;VALUE=URI;X-ADDRESS=Tustin City Council Chambers  300 Centennial Way Tustin CA United States;X-APPLE-RADIUS=500;X-TITLE=300 Centennial Way:geo:-117.8195113,33.7432553
END:VEVENT
BEGIN:VEVENT
DTSTART;TZID=America/Los_Angeles:20250121T190000
DTEND;TZID=America/Los_Angeles:20250121T210000
DTSTAMP:20260421T192926
CREATED:20210316T021103Z
LAST-MODIFIED:20240715T234537Z
UID:10025007-1737486000-1737493200@voiceofoc.org
SUMMARY:Garden Grove Unified School District Board Meeting
DESCRIPTION:The San Clemente City Council generally meets on the first and third Tuesdays of each month. This meeting schedule can change\, particularly in months with national holidays\, so be sure [...]
URL:https://voiceofoc.org/event/garden-grove-unified-school-district-board-meeting-2/2025-01-21/
LOCATION:10331 Stanford Avenue Garden Grove CA\, 10331 Stanford Ave.\, Garden Grove\, United States
CATEGORIES:Garden Grove,Schools
ATTACH;FMTTYPE=image/jpeg:https://voiceofoc.org/wp-content/uploads/archive/editorial/e/11/e112d256-cd36-11e2-a381-001a4bcf887a/51ae1b1e57e44.image.jpg
GEO:33.7782173;-117.9524962
X-APPLE-STRUCTURED-LOCATION;VALUE=URI;X-ADDRESS=10331 Stanford Avenue Garden Grove CA 10331 Stanford Ave. Garden Grove United States;X-APPLE-RADIUS=500;X-TITLE=10331 Stanford Ave.:geo:-117.9524962,33.7782173
END:VEVENT
BEGIN:VEVENT
DTSTART;TZID=America/Los_Angeles:20250121T190000
DTEND;TZID=America/Los_Angeles:20250121T210000
DTSTAMP:20260421T192926
CREATED:20241007T225012Z
LAST-MODIFIED:20241007T225012Z
UID:10024828-1737486000-1737493200@voiceofoc.org
SUMMARY:Brea City Council Meeting
DESCRIPTION:The San Clemente City Council generally meets on the first and third Tuesdays of each month. This meeting schedule can change\, particularly in months with national holidays\, so be sure [...]
URL:https://voiceofoc.org/event/brea-city-council-meeting-2/2025-01-21/
LOCATION:Brea Civic & Cultural Center\, City Council Chambers\, 1 Civic Center Circle\, Brea\, CA\, United States
CATEGORIES:Brea,City Governments
ATTACH;FMTTYPE=image/jpeg:https://voiceofoc.org/wp-content/uploads/2021/02/©JessicaRuiz_2019-2_Brea.jpg
GEO:33.9170664;-117.8889229
X-APPLE-STRUCTURED-LOCATION;VALUE=URI;X-ADDRESS=Brea Civic & Cultural Center City Council Chambers 1 Civic Center Circle Brea CA United States;X-APPLE-RADIUS=500;X-TITLE=1 Civic Center Circle:geo:-117.8889229,33.9170664
END:VEVENT
BEGIN:VEVENT
DTSTART;TZID=America/Los_Angeles:20250121T190000
DTEND;TZID=America/Los_Angeles:20250121T210000
DTSTAMP:20260421T192926
CREATED:20241007T225013Z
LAST-MODIFIED:20241007T225013Z
UID:10024892-1737486000-1737493200@voiceofoc.org
SUMMARY:Laguna Niguel City Council Meeting
DESCRIPTION:The San Clemente City Council generally meets on the first and third Tuesdays of each month. This meeting schedule can change\, particularly in months with national holidays\, so be sure [...]
URL:https://voiceofoc.org/event/laguna-niguel-city-council-meeting-3/2025-01-21/
LOCATION:Laguna Niguel City Council Chambers\, 30111 Crown Valley Parkway\, Laguna Niguel \, CA\, United States
CATEGORIES:City Governments,Laguna Niguel
ATTACH;FMTTYPE=image/jpeg:https://voiceofoc.org/wp-content/uploads/2019/11/LagunaNiguel3EDIT.jpg
GEO:33.5235229;-117.7156197
X-APPLE-STRUCTURED-LOCATION;VALUE=URI;X-ADDRESS=Laguna Niguel City Council Chambers 30111 Crown Valley Parkway Laguna Niguel  CA United States;X-APPLE-RADIUS=500;X-TITLE=30111 Crown Valley Parkway:geo:-117.7156197,33.5235229
END:VEVENT
END:VCALENDAR