BEGIN:VCALENDAR
VERSION:2.0
PRODID:-//Voice of OC - ECPv6.15.20//NONSGML v1.0//EN
CALSCALE:GREGORIAN
METHOD:PUBLISH
X-ORIGINAL-URL:https://voiceofoc.org
X-WR-CALDESC:Events for Voice of OC
REFRESH-INTERVAL;VALUE=DURATION:PT1H
X-Robots-Tag:noindex
X-PUBLISHED-TTL:PT1H
BEGIN:VTIMEZONE
TZID:America/Los_Angeles
BEGIN:DAYLIGHT
TZOFFSETFROM:-0800
TZOFFSETTO:-0700
TZNAME:PDT
DTSTART:20220313T100000
END:DAYLIGHT
BEGIN:STANDARD
TZOFFSETFROM:-0700
TZOFFSETTO:-0800
TZNAME:PST
DTSTART:20221106T090000
END:STANDARD
BEGIN:DAYLIGHT
TZOFFSETFROM:-0800
TZOFFSETTO:-0700
TZNAME:PDT
DTSTART:20230312T100000
END:DAYLIGHT
BEGIN:STANDARD
TZOFFSETFROM:-0700
TZOFFSETTO:-0800
TZNAME:PST
DTSTART:20231105T090000
END:STANDARD
BEGIN:DAYLIGHT
TZOFFSETFROM:-0800
TZOFFSETTO:-0700
TZNAME:PDT
DTSTART:20240310T100000
END:DAYLIGHT
BEGIN:STANDARD
TZOFFSETFROM:-0700
TZOFFSETTO:-0800
TZNAME:PST
DTSTART:20241103T090000
END:STANDARD
END:VTIMEZONE
BEGIN:VEVENT
DTSTART;TZID=America/Los_Angeles:20230815T190000
DTEND;TZID=America/Los_Angeles:20230815T210000
DTSTAMP:20260421T233112
CREATED:20170719T173557Z
LAST-MODIFIED:20240715T234801Z
UID:10020116-1692126000-1692133200@voiceofoc.org
SUMMARY:Huntington Beach City School District Board Meeting
DESCRIPTION:The Savanna School District Board generally meets on the second Tuesday of each month. This meeting schedule can change\, particularly in months with national holidays\, so be sure to check [...]
URL:https://voiceofoc.org/event/huntington-beach-city-school-district/2023-08-15/
LOCATION:8750 Dorsett Dr. Huntington Beach\, CA 92646\, 8750 Dorsett Dr.\, Huntington Beach\, CA\, 92646\, United States
CATEGORIES:Huntington Beach,Schools
ATTACH;FMTTYPE=image/jpeg:https://voiceofoc.org/wp-content/uploads/2023/06/AP_1536-copy.jpg
GEO:33.6549804;-117.9751465
X-APPLE-STRUCTURED-LOCATION;VALUE=URI;X-ADDRESS=8750 Dorsett Dr. Huntington Beach CA 92646 8750 Dorsett Dr. Huntington Beach CA 92646 United States;X-APPLE-RADIUS=500;X-TITLE=8750 Dorsett Dr.:geo:-117.9751465,33.6549804
END:VEVENT
BEGIN:VEVENT
DTSTART;TZID=America/Los_Angeles:20230815T190000
DTEND;TZID=America/Los_Angeles:20230815T210000
DTSTAMP:20260421T233112
CREATED:20210316T021103Z
LAST-MODIFIED:20240715T234537Z
UID:10024988-1692126000-1692133200@voiceofoc.org
SUMMARY:Garden Grove Unified School District Board Meeting
DESCRIPTION:The Savanna School District Board generally meets on the second Tuesday of each month. This meeting schedule can change\, particularly in months with national holidays\, so be sure to check [...]
URL:https://voiceofoc.org/event/garden-grove-unified-school-district-board-meeting-2/2023-08-15/
LOCATION:10331 Stanford Avenue Garden Grove CA\, 10331 Stanford Ave.\, Garden Grove\, United States
CATEGORIES:Garden Grove,Schools
ATTACH;FMTTYPE=image/jpeg:https://voiceofoc.org/wp-content/uploads/archive/editorial/e/11/e112d256-cd36-11e2-a381-001a4bcf887a/51ae1b1e57e44.image.jpg
GEO:33.7782173;-117.9524962
X-APPLE-STRUCTURED-LOCATION;VALUE=URI;X-ADDRESS=10331 Stanford Avenue Garden Grove CA 10331 Stanford Ave. Garden Grove United States;X-APPLE-RADIUS=500;X-TITLE=10331 Stanford Ave.:geo:-117.9524962,33.7782173
END:VEVENT
END:VCALENDAR