BEGIN:VCALENDAR
VERSION:2.0
PRODID:-//Voice of OC - ECPv6.15.20//NONSGML v1.0//EN
CALSCALE:GREGORIAN
METHOD:PUBLISH
X-ORIGINAL-URL:https://voiceofoc.org
X-WR-CALDESC:Events for Voice of OC
REFRESH-INTERVAL;VALUE=DURATION:PT1H
X-Robots-Tag:noindex
X-PUBLISHED-TTL:PT1H
BEGIN:VTIMEZONE
TZID:America/Los_Angeles
BEGIN:DAYLIGHT
TZOFFSETFROM:-0800
TZOFFSETTO:-0700
TZNAME:PDT
DTSTART:20220313T100000
END:DAYLIGHT
BEGIN:STANDARD
TZOFFSETFROM:-0700
TZOFFSETTO:-0800
TZNAME:PST
DTSTART:20221106T090000
END:STANDARD
BEGIN:DAYLIGHT
TZOFFSETFROM:-0800
TZOFFSETTO:-0700
TZNAME:PDT
DTSTART:20230312T100000
END:DAYLIGHT
BEGIN:STANDARD
TZOFFSETFROM:-0700
TZOFFSETTO:-0800
TZNAME:PST
DTSTART:20231105T090000
END:STANDARD
BEGIN:DAYLIGHT
TZOFFSETFROM:-0800
TZOFFSETTO:-0700
TZNAME:PDT
DTSTART:20240310T100000
END:DAYLIGHT
BEGIN:STANDARD
TZOFFSETFROM:-0700
TZOFFSETTO:-0800
TZNAME:PST
DTSTART:20241103T090000
END:STANDARD
END:VTIMEZONE
BEGIN:VEVENT
DTSTART;TZID=America/Los_Angeles:20231116T180000
DTEND;TZID=America/Los_Angeles:20231116T200000
DTSTAMP:20260420T001935
CREATED:20200928T175414Z
LAST-MODIFIED:20240715T235510Z
UID:10023900-1700157600-1700164800@voiceofoc.org
SUMMARY:Laguna Beach Unified School District Board Meeting
DESCRIPTION:The Savanna School District Board generally meets on the second Tuesday of each month. This meeting schedule can change\, particularly in months with national holidays\, so be sure to check [...]
URL:https://voiceofoc.org/event/laguna-beach-unified-school-district-meeting/2023-11-16/
LOCATION:Thurston Middle School Library\, 2100 Park Avenue\, Laguna Beach 92651\, 2100 Park Avenue\, Laguna Beach\, CA\, 92651\, United States
CATEGORIES:Laguna Beach,Schools
ATTACH;FMTTYPE=image/jpeg:https://voiceofoc.org/wp-content/uploads/2020/07/IMG_7445.jpeg
GEO:33.5502693;-117.7647556
X-APPLE-STRUCTURED-LOCATION;VALUE=URI;X-ADDRESS=Thurston Middle School Library 2100 Park Avenue Laguna Beach 92651 2100 Park Avenue Laguna Beach CA 92651 United States;X-APPLE-RADIUS=500;X-TITLE=2100 Park Avenue:geo:-117.7647556,33.5502693
END:VEVENT
BEGIN:VEVENT
DTSTART;TZID=America/Los_Angeles:20231116T180000
DTEND;TZID=America/Los_Angeles:20231116T200000
DTSTAMP:20260420T001935
CREATED:20200930T185239Z
LAST-MODIFIED:20240715T231955Z
UID:10023961-1700157600-1700164800@voiceofoc.org
SUMMARY:Anaheim Union High School District Board Meeting
DESCRIPTION:The Savanna School District Board generally meets on the second Tuesday of each month. This meeting schedule can change\, particularly in months with national holidays\, so be sure to check [...]
URL:https://voiceofoc.org/event/anaheim-union-high-school-district-board-meeting/2023-11-16/
LOCATION:501 N. Crescent Way\, 501 N. Crescent Way\, Anaheim\, 92803\, United States
CATEGORIES:Anaheim,Schools
ATTACH;FMTTYPE=image/jpeg:https://voiceofoc.org/wp-content/uploads/2021/05/IMG_7977.jpg
GEO:33.8371929;-117.9488811
X-APPLE-STRUCTURED-LOCATION;VALUE=URI;X-ADDRESS=501 N. Crescent Way 501 N. Crescent Way Anaheim 92803 United States;X-APPLE-RADIUS=500;X-TITLE=501 N. Crescent Way:geo:-117.9488811,33.8371929
END:VEVENT
BEGIN:VEVENT
DTSTART;TZID=America/Los_Angeles:20231116T183000
DTEND;TZID=America/Los_Angeles:20231116T203000
DTSTAMP:20260420T001935
CREATED:20200921T212419Z
LAST-MODIFIED:20240715T232210Z
UID:10023828-1700159400-1700166600@voiceofoc.org
SUMMARY:Brea Olinda Unified School District Board Meeting
DESCRIPTION:The Savanna School District Board generally meets on the second Tuesday of each month. This meeting schedule can change\, particularly in months with national holidays\, so be sure to check [...]
URL:https://voiceofoc.org/event/brea-olinda-unified-school-district-board-meeting/2023-11-16/
LOCATION:Brea Civic & Cultural Center\, City Council Chambers\, 1 Civic Center Circle\, Brea\, CA\, United States
CATEGORIES:Brea,Schools
ATTACH;FMTTYPE=image/png:https://voiceofoc.org/wp-content/uploads/2022/02/Screen-Shot-2022-01-25-at-2.36.57-PM.png
GEO:33.9170664;-117.8889229
X-APPLE-STRUCTURED-LOCATION;VALUE=URI;X-ADDRESS=Brea Civic & Cultural Center City Council Chambers 1 Civic Center Circle Brea CA United States;X-APPLE-RADIUS=500;X-TITLE=1 Civic Center Circle:geo:-117.8889229,33.9170664
END:VEVENT
BEGIN:VEVENT
DTSTART;TZID=America/Los_Angeles:20231116T190000
DTEND;TZID=America/Los_Angeles:20231116T210000
DTSTAMP:20260420T001935
CREATED:20200930T180749Z
LAST-MODIFIED:20240716T001652Z
UID:10023842-1700161200-1700168400@voiceofoc.org
SUMMARY:Orange Unified School District Board Meeting
DESCRIPTION:The Savanna School District Board generally meets on the second Tuesday of each month. This meeting schedule can change\, particularly in months with national holidays\, so be sure to check [...]
URL:https://voiceofoc.org/event/orange-unified-school-district-board-meeting-2/2023-11-16/
LOCATION:1401 N. Handy Street\, Bldg. H\, Orange\, CA 92867\, 1401 N. Handy Street\, Bldg. H\, Orange\, CA\, 92867\, United States
CATEGORIES:Orange,Schools
ATTACH;FMTTYPE=image/jpeg:https://voiceofoc.org/wp-content/uploads/2023/05/AP_2046-copy.jpg
GEO:33.8110401;-117.8268854
X-APPLE-STRUCTURED-LOCATION;VALUE=URI;X-ADDRESS=1401 N. Handy Street Bldg. H Orange CA 92867 1401 N. Handy Street Bldg. H Orange CA 92867 United States;X-APPLE-RADIUS=500;X-TITLE=1401 N. Handy Street\, Bldg. H:geo:-117.8268854,33.8110401
END:VEVENT
END:VCALENDAR