BEGIN:VCALENDAR
VERSION:2.0
PRODID:-//Voice of OC - ECPv6.15.20//NONSGML v1.0//EN
CALSCALE:GREGORIAN
METHOD:PUBLISH
X-ORIGINAL-URL:https://voiceofoc.org
X-WR-CALDESC:Events for Voice of OC
REFRESH-INTERVAL;VALUE=DURATION:PT1H
X-Robots-Tag:noindex
X-PUBLISHED-TTL:PT1H
BEGIN:VTIMEZONE
TZID:America/Los_Angeles
BEGIN:DAYLIGHT
TZOFFSETFROM:-0800
TZOFFSETTO:-0700
TZNAME:PDT
DTSTART:20240310T100000
END:DAYLIGHT
BEGIN:STANDARD
TZOFFSETFROM:-0700
TZOFFSETTO:-0800
TZNAME:PST
DTSTART:20241103T090000
END:STANDARD
BEGIN:DAYLIGHT
TZOFFSETFROM:-0800
TZOFFSETTO:-0700
TZNAME:PDT
DTSTART:20250309T100000
END:DAYLIGHT
BEGIN:STANDARD
TZOFFSETFROM:-0700
TZOFFSETTO:-0800
TZNAME:PST
DTSTART:20251102T090000
END:STANDARD
BEGIN:DAYLIGHT
TZOFFSETFROM:-0800
TZOFFSETTO:-0700
TZNAME:PDT
DTSTART:20260308T100000
END:DAYLIGHT
BEGIN:STANDARD
TZOFFSETFROM:-0700
TZOFFSETTO:-0800
TZNAME:PST
DTSTART:20261101T090000
END:STANDARD
END:VTIMEZONE
BEGIN:VEVENT
DTSTART;TZID=America/Los_Angeles:20250106T183000
DTEND;TZID=America/Los_Angeles:20250106T203000
DTSTAMP:20260424T141437
CREATED:20210315T053556Z
LAST-MODIFIED:20260105T172011Z
UID:10024114-1736188200-1736195400@voiceofoc.org
SUMMARY:La Habra City Council Meeting
DESCRIPTION:The San Clemente City Council generally meets on the first and third Tuesdays of each month. This meeting schedule can change\, particularly in months with national holidays\, so be sure to check the status of a meeting at the agenda link below. Make sure to check the agency's website also for the latest protocols on [...]
URL:https://voiceofoc.org/event/la-habra-city-council-meeting-3-2/2025-01-06/
LOCATION:La Habra City Council Chambers\, 201 E. La Habra Blvd\, La Habra \, CA\, 90633\, United States
CATEGORIES:City Governments,La Habra
ATTACH;FMTTYPE=image/jpeg:https://voiceofoc.org/wp-content/uploads/2020/10/©JessicaRuiz_2019_La_Habra.jpg
GEO:33.9324492;-117.9447637
X-APPLE-STRUCTURED-LOCATION;VALUE=URI;X-ADDRESS=La Habra City Council Chambers 201 E. La Habra Blvd La Habra  CA 90633 United States;X-APPLE-RADIUS=500;X-TITLE=201 E. La Habra Blvd:geo:-117.9447637,33.9324492
END:VEVENT
BEGIN:VEVENT
DTSTART;TZID=America/Los_Angeles:20250107T173000
DTEND;TZID=America/Los_Angeles:20250107T193000
DTSTAMP:20260424T141437
CREATED:20210316T013738Z
LAST-MODIFIED:20260105T172130Z
UID:10024377-1736271000-1736278200@voiceofoc.org
SUMMARY:Fullerton City Council Meeting
DESCRIPTION:The San Clemente City Council generally meets on the first and third Tuesdays of each month. This meeting schedule can change\, particularly in months with national holidays\, so be sure to check the status of a meeting at the agenda link below. Make sure to check the agency's website also for the latest protocols on [...]
URL:https://voiceofoc.org/event/fullerton-city-council-meeting-3-2/2025-01-07/
LOCATION:Fullerton City Council\, 303 W. Commonwealth Ave.\, Fullerton\, CA\, United States
CATEGORIES:City Governments,Fullerton
ATTACH;FMTTYPE=image/jpeg:https://voiceofoc.org/wp-content/uploads/2018/06/FullertonCityHallEDIT.jpg
GEO:33.8707767;-117.9294312
X-APPLE-STRUCTURED-LOCATION;VALUE=URI;X-ADDRESS=Fullerton City Council 303 W. Commonwealth Ave. Fullerton CA United States;X-APPLE-RADIUS=500;X-TITLE=303 W. Commonwealth Ave.:geo:-117.9294312,33.8707767
END:VEVENT
BEGIN:VEVENT
DTSTART;TZID=America/Los_Angeles:20250107T183000
DTEND;TZID=America/Los_Angeles:20250107T203000
DTSTAMP:20260424T141437
CREATED:20210316T013911Z
LAST-MODIFIED:20251003T173855Z
UID:10028495-1736274600-1736281800@voiceofoc.org
SUMMARY:Lake Forest City Council Meeting
DESCRIPTION:The San Clemente City Council generally meets on the first and third Tuesdays of each month. This meeting schedule can change\, particularly in months with national holidays\, so be sure to check the status of a meeting at the agenda link below. Make sure to check the agency's website also for the latest protocols on [...]
URL:https://voiceofoc.org/event/lake-forest-city-council-meeting-3-2/2025-01-07/
LOCATION:Lake Forest City Council Chambers\, 25550 Commercentre Drive\, Lake Forest \, CA\, United States
CATEGORIES:City Governments,Lake Forest
ATTACH;FMTTYPE=image/png:https://voiceofoc.org/wp-content/uploads/2020/10/©JessicaRuiz_2019_Lake_Forest-8EDIT.png
GEO:33.6637413;-117.6845166
X-APPLE-STRUCTURED-LOCATION;VALUE=URI;X-ADDRESS=Lake Forest City Council Chambers 25550 Commercentre Drive Lake Forest  CA United States;X-APPLE-RADIUS=500;X-TITLE=25550 Commercentre Drive:geo:-117.6845166,33.6637413
END:VEVENT
BEGIN:VEVENT
DTSTART;TZID=America/Los_Angeles:20250107T190000
DTEND;TZID=America/Los_Angeles:20250107T210000
DTSTAMP:20260424T141437
CREATED:20241007T225003Z
LAST-MODIFIED:20260105T174821Z
UID:10024212-1736276400-1736283600@voiceofoc.org
SUMMARY:Tustin City Council Meeting
DESCRIPTION:The San Clemente City Council generally meets on the first and third Tuesdays of each month. This meeting schedule can change\, particularly in months with national holidays\, so be sure to check the status of a meeting at the agenda link below. Make sure to check the agency's website also for the latest protocols on [...]
URL:https://voiceofoc.org/event/tustin-city-council-meeting-2-2/2025-01-07/
LOCATION:Tustin City Council Chambers\,  300 Centennial Way\, Tustin\, CA\, United States
CATEGORIES:City Governments,Tustin
ATTACH;FMTTYPE=image/jpeg:https://voiceofoc.org/wp-content/uploads/2021/03/TustinCityHall1EDIT.jpg
GEO:33.7432553;-117.8195113
X-APPLE-STRUCTURED-LOCATION;VALUE=URI;X-ADDRESS=Tustin City Council Chambers  300 Centennial Way Tustin CA United States;X-APPLE-RADIUS=500;X-TITLE=300 Centennial Way:geo:-117.8195113,33.7432553
END:VEVENT
BEGIN:VEVENT
DTSTART;TZID=America/Los_Angeles:20250108T180000
DTEND;TZID=America/Los_Angeles:20250108T200000
DTSTAMP:20260424T141437
CREATED:20250113T212237Z
LAST-MODIFIED:20250707T175700Z
UID:10026919-1736359200-1736366400@voiceofoc.org
SUMMARY:Westminster City Council Meeting
DESCRIPTION:The San Clemente City Council generally meets on the first and third Tuesdays of each month. This meeting schedule can change\, particularly in months with national holidays\, so be sure to check the status of a meeting at the agenda link below. Make sure to check the agency's website also for the latest protocols on [...]
URL:https://voiceofoc.org/event/westminster-city-council-meeting-2-2-2/2025-01-08/
LOCATION:Westminster\, Council Chambers\, 8200 Westminster Blvd\, Westminster\, 92683\, United States
CATEGORIES:City Governments,Westminster
ATTACH;FMTTYPE=image/jpeg:https://voiceofoc.org/wp-content/uploads/2020/11/WESTMINSTERCITYCOUNCIL.2017.06.PHOTO_.47.EDIT_.1-1.jpg
GEO:33.7573339;-117.9859727
X-APPLE-STRUCTURED-LOCATION;VALUE=URI;X-ADDRESS=Westminster Council Chambers 8200 Westminster Blvd Westminster 92683 United States;X-APPLE-RADIUS=500;X-TITLE=8200 Westminster Blvd:geo:-117.9859727,33.7573339
END:VEVENT
BEGIN:VEVENT
DTSTART;TZID=America/Los_Angeles:20250108T190000
DTEND;TZID=America/Los_Angeles:20250108T210000
DTSTAMP:20260424T141437
CREATED:20200911T220514Z
LAST-MODIFIED:20240719T171900Z
UID:10023463-1736362800-1736370000@voiceofoc.org
SUMMARY:Rancho Santa Margarita City Council Meeting
DESCRIPTION:The San Clemente City Council generally meets on the first and third Tuesdays of each month. This meeting schedule can change\, particularly in months with national holidays\, so be sure to check the status of a meeting at the agenda link below. Make sure to check the agency's website also for the latest protocols on [...]
URL:https://voiceofoc.org/event/rancho-santa-margarita-city-council-meeting-2/2025-01-08/
LOCATION:Rancho Santa Margarita City Hall\, 22112 El Paseo\, Rancho Santa Margarita \, CA\, 92688\, United States
CATEGORIES:City Governments,Rancho Santa Margarita
ATTACH;FMTTYPE=image/jpeg:https://voiceofoc.org/wp-content/uploads/2020/10/©JessicaRuiz_2019_Rancho_Santa_Margarita-6.jpg
GEO:33.6419366;-117.594582
X-APPLE-STRUCTURED-LOCATION;VALUE=URI;X-ADDRESS=Rancho Santa Margarita City Hall 22112 El Paseo Rancho Santa Margarita  CA 92688 United States;X-APPLE-RADIUS=500;X-TITLE=22112 El Paseo:geo:-117.594582,33.6419366
END:VEVENT
END:VCALENDAR