BEGIN:VCALENDAR
VERSION:2.0
PRODID:-//Voice of OC - ECPv6.15.20//NONSGML v1.0//EN
CALSCALE:GREGORIAN
METHOD:PUBLISH
X-WR-CALNAME:Voice of OC
X-ORIGINAL-URL:https://voiceofoc.org
X-WR-CALDESC:Events for Voice of OC
REFRESH-INTERVAL;VALUE=DURATION:PT1H
X-Robots-Tag:noindex
X-PUBLISHED-TTL:PT1H
BEGIN:VTIMEZONE
TZID:America/Los_Angeles
BEGIN:DAYLIGHT
TZOFFSETFROM:-0800
TZOFFSETTO:-0700
TZNAME:PDT
DTSTART:20230312T100000
END:DAYLIGHT
BEGIN:STANDARD
TZOFFSETFROM:-0700
TZOFFSETTO:-0800
TZNAME:PST
DTSTART:20231105T090000
END:STANDARD
BEGIN:DAYLIGHT
TZOFFSETFROM:-0800
TZOFFSETTO:-0700
TZNAME:PDT
DTSTART:20240310T100000
END:DAYLIGHT
BEGIN:STANDARD
TZOFFSETFROM:-0700
TZOFFSETTO:-0800
TZNAME:PST
DTSTART:20241103T090000
END:STANDARD
BEGIN:DAYLIGHT
TZOFFSETFROM:-0800
TZOFFSETTO:-0700
TZNAME:PDT
DTSTART:20250309T100000
END:DAYLIGHT
BEGIN:STANDARD
TZOFFSETFROM:-0700
TZOFFSETTO:-0800
TZNAME:PST
DTSTART:20251102T090000
END:STANDARD
BEGIN:DAYLIGHT
TZOFFSETFROM:-0800
TZOFFSETTO:-0700
TZNAME:PDT
DTSTART:20260308T100000
END:DAYLIGHT
BEGIN:STANDARD
TZOFFSETFROM:-0700
TZOFFSETTO:-0800
TZNAME:PST
DTSTART:20261101T090000
END:STANDARD
END:VTIMEZONE
BEGIN:VEVENT
DTSTART;TZID=America/Los_Angeles:20241218T190000
DTEND;TZID=America/Los_Angeles:20241218T210000
DTSTAMP:20260420T224738
CREATED:20241007T225019Z
LAST-MODIFIED:20241007T225019Z
UID:10025097-1734548400-1734555600@voiceofoc.org
SUMMARY:Aliso Viejo City Council Meeting
DESCRIPTION:The Los Alamitos City Council generally meets on the third Monday of each month. This meeting schedule can change\, particularly in months with national holidays\, so be sure to check [...]
URL:https://voiceofoc.org/event/aliso-viejo-city-council-meeting-2/2024-12-18/
LOCATION:Aliso Viejo City Council Meeting\, 12 Journey\, Suite 100\, Aliso Viejo \, CA\, 92656\, United States
CATEGORIES:Aliso Viejo,City Governments
ATTACH;FMTTYPE=image/jpeg:https://voiceofoc.org/wp-content/uploads/2021/05/©JessicaRuiz_2019-13_Aliso_Viejo.jpg
GEO:33.5680203;-117.7276699
X-APPLE-STRUCTURED-LOCATION;VALUE=URI;X-ADDRESS=Aliso Viejo City Council Meeting 12 Journey Suite 100 Aliso Viejo  CA 92656 United States;X-APPLE-RADIUS=500;X-TITLE=12 Journey\, Suite 100:geo:-117.7276699,33.5680203
END:VEVENT
BEGIN:VEVENT
DTSTART;TZID=America/Los_Angeles:20241219T180000
DTEND;TZID=America/Los_Angeles:20241219T200000
DTSTAMP:20260420T224738
CREATED:20170719T180925Z
LAST-MODIFIED:20240715T235826Z
UID:10020408-1734631200-1734638400@voiceofoc.org
SUMMARY:La Habra City School District Board Meeting
DESCRIPTION:The Los Alamitos City Council generally meets on the third Monday of each month. This meeting schedule can change\, particularly in months with national holidays\, so be sure to check [...]
URL:https://voiceofoc.org/event/la-habra-city-school-district-board-meetings/2024-12-19/
LOCATION:La Habra City School District Office\, 500 N. Walnut St.\, La Habra\, CA\, 90631\, United States
CATEGORIES:Brea,Fullerton,La Habra
ATTACH;FMTTYPE=image/jpeg:https://voiceofoc.org/wp-content/uploads/2023/06/HCO_0043.jpg
GEO:33.9358721;-117.9503431
X-APPLE-STRUCTURED-LOCATION;VALUE=URI;X-ADDRESS=La Habra City School District Office 500 N. Walnut St. La Habra CA 90631 United States;X-APPLE-RADIUS=500;X-TITLE=500 N. Walnut St.:geo:-117.9503431,33.9358721
END:VEVENT
BEGIN:VEVENT
DTSTART;TZID=America/Los_Angeles:20241219T180000
DTEND;TZID=America/Los_Angeles:20241219T200000
DTSTAMP:20260420T224738
CREATED:20200930T185239Z
LAST-MODIFIED:20240715T231955Z
UID:10023968-1734631200-1734638400@voiceofoc.org
SUMMARY:Anaheim Union High School District Board Meeting
DESCRIPTION:The Los Alamitos City Council generally meets on the third Monday of each month. This meeting schedule can change\, particularly in months with national holidays\, so be sure to check [...]
URL:https://voiceofoc.org/event/anaheim-union-high-school-district-board-meeting/2024-12-19/
LOCATION:501 N. Crescent Way\, 501 N. Crescent Way\, Anaheim\, 92803\, United States
CATEGORIES:Anaheim,Schools
ATTACH;FMTTYPE=image/jpeg:https://voiceofoc.org/wp-content/uploads/2021/05/IMG_7977.jpg
GEO:33.8371929;-117.9488811
X-APPLE-STRUCTURED-LOCATION;VALUE=URI;X-ADDRESS=501 N. Crescent Way 501 N. Crescent Way Anaheim 92803 United States;X-APPLE-RADIUS=500;X-TITLE=501 N. Crescent Way:geo:-117.9488811,33.8371929
END:VEVENT
BEGIN:VEVENT
DTSTART;TZID=America/Los_Angeles:20241219T190000
DTEND;TZID=America/Los_Angeles:20241219T210000
DTSTAMP:20260420T224738
CREATED:20170712T220512Z
LAST-MODIFIED:20240716T175330Z
UID:10019760-1734634800-1734642000@voiceofoc.org
SUMMARY:Westminster School District Board Meeting
DESCRIPTION:The Los Alamitos City Council generally meets on the third Monday of each month. This meeting schedule can change\, particularly in months with national holidays\, so be sure to check [...]
URL:https://voiceofoc.org/event/westminster-school-board-meetings/2024-12-19/
LOCATION:District Office Mendez Board Room 14121 Cedarwood Street Westminster\, CA 92683\, 14121 Cedarwood Ave\, Westminster\, CA\, 92683\, United States
CATEGORIES:Schools,Westminster
ATTACH;FMTTYPE=image/jpeg:https://voiceofoc.org/wp-content/uploads/2020/08/AP_5648.jpg
GEO:33.757239;-117.9944771
X-APPLE-STRUCTURED-LOCATION;VALUE=URI;X-ADDRESS=District Office Mendez Board Room 14121 Cedarwood Street Westminster CA 92683 14121 Cedarwood Ave Westminster CA 92683 United States;X-APPLE-RADIUS=500;X-TITLE=14121 Cedarwood Ave:geo:-117.9944771,33.757239
END:VEVENT
BEGIN:VEVENT
DTSTART;TZID=America/Los_Angeles:20241219T190000
DTEND;TZID=America/Los_Angeles:20241219T210000
DTSTAMP:20260420T224738
CREATED:20170718T220828Z
LAST-MODIFIED:20240715T233630Z
UID:10020032-1734634800-1734642000@voiceofoc.org
SUMMARY:Fountain Valley School District Board Meeting
DESCRIPTION:The Los Alamitos City Council generally meets on the third Monday of each month. This meeting schedule can change\, particularly in months with national holidays\, so be sure to check [...]
URL:https://voiceofoc.org/event/fountain-valley-school-district-board-meeting/2024-12-19/
LOCATION:Fountain Valley School District Board Room\, 10055 Slater Avenue\, Fountain Valley\, CA\, United States
CATEGORIES:Fountain Valley,Schools
ATTACH;FMTTYPE=image/jpeg:https://voiceofoc.org/wp-content/uploads/2019/11/©JessicaRuiz_2019_Fountain_Valley-7.jpg
GEO:33.7095805;-117.9533657
X-APPLE-STRUCTURED-LOCATION;VALUE=URI;X-ADDRESS=Fountain Valley School District Board Room 10055 Slater Avenue Fountain Valley CA United States;X-APPLE-RADIUS=500;X-TITLE=10055 Slater Avenue:geo:-117.9533657,33.7095805
END:VEVENT
BEGIN:VEVENT
DTSTART;VALUE=DATE:20241221
DTEND;VALUE=DATE:20241222
DTSTAMP:20260420T224738
CREATED:20230627T221837Z
LAST-MODIFIED:20230712T033255Z
UID:10025367-1734739200-1734825599@voiceofoc.org
SUMMARY:Library of the Canyons: Craft Day All Day
DESCRIPTION:The Los Alamitos City Council generally meets on the third Monday of each month. This meeting schedule can change\, particularly in months with national holidays\, so be sure to check [...]
URL:https://voiceofoc.org/event/oc-libraries-craft-day-all-day/2024-12-21/
LOCATION:Library of the Canyons\, 7531 Santiago Canyon Road\, Silverado\, CA\, 92676\, United States
GEO:33.7434605;-117.6676395
X-APPLE-STRUCTURED-LOCATION;VALUE=URI;X-ADDRESS=Library of the Canyons 7531 Santiago Canyon Road Silverado CA 92676 United States;X-APPLE-RADIUS=500;X-TITLE=7531 Santiago Canyon Road:geo:-117.6676395,33.7434605
END:VEVENT
BEGIN:VEVENT
DTSTART;TZID=America/Los_Angeles:20241221T093000
DTEND;TZID=America/Los_Angeles:20241221T100000
DTSTAMP:20260420T224738
CREATED:20230627T214939Z
LAST-MODIFIED:20230712T033649Z
UID:10025218-1734773400-1734775200@voiceofoc.org
SUMMARY:Garden Grove Tibor Rubin Library: Books for Breakfast Storytime
DESCRIPTION:The Los Alamitos City Council generally meets on the third Monday of each month. This meeting schedule can change\, particularly in months with national holidays\, so be sure to check [...]
URL:https://voiceofoc.org/event/oc-libraries-books-for-breakfast-storytime/2024-12-21/
LOCATION:Garden Grove Tibor Rubin Library\, 11962 Bailey St\, Garden Grove\, 92845\, United States
GEO:33.7888362;-118.0320158
X-APPLE-STRUCTURED-LOCATION;VALUE=URI;X-ADDRESS=Garden Grove Tibor Rubin Library 11962 Bailey St Garden Grove 92845 United States;X-APPLE-RADIUS=500;X-TITLE=11962 Bailey St:geo:-118.0320158,33.7888362
END:VEVENT
BEGIN:VEVENT
DTSTART;TZID=America/Los_Angeles:20241221T103000
DTEND;TZID=America/Los_Angeles:20241221T120000
DTSTAMP:20260420T224738
CREATED:20230628T043144Z
LAST-MODIFIED:20230712T034723Z
UID:10022113-1734777000-1734782400@voiceofoc.org
SUMMARY:San Clemente Library: Sensory Playtime
DESCRIPTION:The Los Alamitos City Council generally meets on the third Monday of each month. This meeting schedule can change\, particularly in months with national holidays\, so be sure to check [...]
URL:https://voiceofoc.org/event/oc-libraries-sensory-playtime/2024-12-21/
LOCATION:San Clemente Library\, 242 Avenida Del Mar\, San Clemente\, CA\, 92672\, United States
GEO:33.4247522;-117.6171323
X-APPLE-STRUCTURED-LOCATION;VALUE=URI;X-ADDRESS=San Clemente Library 242 Avenida Del Mar San Clemente CA 92672 United States;X-APPLE-RADIUS=500;X-TITLE=242 Avenida Del Mar:geo:-117.6171323,33.4247522
END:VEVENT
BEGIN:VEVENT
DTSTART;TZID=America/Los_Angeles:20241221T110000
DTEND;TZID=America/Los_Angeles:20241221T120000
DTSTAMP:20260420T224738
CREATED:20230628T045541Z
LAST-MODIFIED:20230712T034101Z
UID:10022645-1734778800-1734782400@voiceofoc.org
SUMMARY:Mesa Verde Library: Family Storytime
DESCRIPTION:The Los Alamitos City Council generally meets on the third Monday of each month. This meeting schedule can change\, particularly in months with national holidays\, so be sure to check [...]
URL:https://voiceofoc.org/event/oc-libraries-family-storytime-3/2024-12-21/
LOCATION:Mesa Verde Library\, 2969 Mesa Verde Dr E\, Costa Mesa\, CA\, 92626\, United States
GEO:33.6792;-117.9274403
X-APPLE-STRUCTURED-LOCATION;VALUE=URI;X-ADDRESS=Mesa Verde Library 2969 Mesa Verde Dr E Costa Mesa CA 92626 United States;X-APPLE-RADIUS=500;X-TITLE=2969 Mesa Verde Dr E:geo:-117.9274403,33.6792
END:VEVENT
BEGIN:VEVENT
DTSTART;TZID=America/Los_Angeles:20241221T110000
DTEND;TZID=America/Los_Angeles:20241221T120000
DTSTAMP:20260420T224738
CREATED:20230628T210002Z
LAST-MODIFIED:20230712T035028Z
UID:10025530-1734778800-1734782400@voiceofoc.org
SUMMARY:Laguna Niguel Library: Toddler Play & Learn
DESCRIPTION:The Los Alamitos City Council generally meets on the third Monday of each month. This meeting schedule can change\, particularly in months with national holidays\, so be sure to check [...]
URL:https://voiceofoc.org/event/oc-libraries-toddler-play-learn/2024-12-21/
LOCATION:Laguna Niguel Library\, 30341 Crown Valley Pkwy\, Laguna Niguel\, CA\, 92677\, United States
GEO:33.5225257;-117.7169449
X-APPLE-STRUCTURED-LOCATION;VALUE=URI;X-ADDRESS=Laguna Niguel Library 30341 Crown Valley Pkwy Laguna Niguel CA 92677 United States;X-APPLE-RADIUS=500;X-TITLE=30341 Crown Valley Pkwy:geo:-117.7169449,33.5225257
END:VEVENT
BEGIN:VEVENT
DTSTART;TZID=America/Los_Angeles:20241221T110000
DTEND;TZID=America/Los_Angeles:20241221T120000
DTSTAMP:20260420T224738
CREATED:20230629T004740Z
LAST-MODIFIED:20230712T033924Z
UID:10025677-1734778800-1734782400@voiceofoc.org
SUMMARY:Brea Library: Family Storytime
DESCRIPTION:The Los Alamitos City Council generally meets on the third Monday of each month. This meeting schedule can change\, particularly in months with national holidays\, so be sure to check [...]
URL:https://voiceofoc.org/event/oc-libraries-family-storytime-4/2024-12-21/
LOCATION:Brea Library\, 1 Civic Center Circle\, Brea\, CA\, 92821\, United States
GEO:33.9170664;-117.8889229
X-APPLE-STRUCTURED-LOCATION;VALUE=URI;X-ADDRESS=Brea Library 1 Civic Center Circle Brea CA 92821 United States;X-APPLE-RADIUS=500;X-TITLE=1 Civic Center Circle:geo:-117.8889229,33.9170664
END:VEVENT
BEGIN:VEVENT
DTSTART;TZID=America/Los_Angeles:20241221T140000
DTEND;TZID=America/Los_Angeles:20241221T160000
DTSTAMP:20260420T224738
CREATED:20230629T015428Z
LAST-MODIFIED:20230712T040522Z
UID:10025965-1734789600-1734796800@voiceofoc.org
SUMMARY:Laguna Niguel Library: Teen/Adult Sewing Workshop
DESCRIPTION:The Los Alamitos City Council generally meets on the third Monday of each month. This meeting schedule can change\, particularly in months with national holidays\, so be sure to check [...]
URL:https://voiceofoc.org/event/oc-libraries-teen-adult-sewing-workshop/2024-12-21/
LOCATION:Laguna Niguel Library\, 30341 Crown Valley Pkwy\, Laguna Niguel\, CA\, 92677\, United States
GEO:33.5225257;-117.7169449
X-APPLE-STRUCTURED-LOCATION;VALUE=URI;X-ADDRESS=Laguna Niguel Library 30341 Crown Valley Pkwy Laguna Niguel CA 92677 United States;X-APPLE-RADIUS=500;X-TITLE=30341 Crown Valley Pkwy:geo:-117.7169449,33.5225257
END:VEVENT
BEGIN:VEVENT
DTSTART;TZID=America/Los_Angeles:20241221T140000
DTEND;TZID=America/Los_Angeles:20241221T170000
DTSTAMP:20260420T224738
CREATED:20230629T010340Z
LAST-MODIFIED:20230712T035430Z
UID:10025854-1734789600-1734800400@voiceofoc.org
SUMMARY:La Palma Library: Family Movie Afternoons
DESCRIPTION:The Los Alamitos City Council generally meets on the third Monday of each month. This meeting schedule can change\, particularly in months with national holidays\, so be sure to check [...]
URL:https://voiceofoc.org/event/oc-libraries-family-movie-afternoons/2024-12-21/
LOCATION:La Palma Library\, 7842 Walker St.\, La Palma\, CA\, 90623\, United States
GEO:33.8486268;-118.0368658
X-APPLE-STRUCTURED-LOCATION;VALUE=URI;X-ADDRESS=La Palma Library 7842 Walker St. La Palma CA 90623 United States;X-APPLE-RADIUS=500;X-TITLE=7842 Walker St.:geo:-118.0368658,33.8486268
END:VEVENT
BEGIN:VEVENT
DTSTART;TZID=America/Los_Angeles:20241224T180000
DTEND;TZID=America/Los_Angeles:20241224T190000
DTSTAMP:20260420T224738
CREATED:20241007T224939Z
LAST-MODIFIED:20250822T073934Z
UID:10027787-1735063200-1735066800@voiceofoc.org
SUMMARY:Mission Viejo City Council Meeting
DESCRIPTION:The Los Alamitos City Council generally meets on the third Monday of each month. This meeting schedule can change\, particularly in months with national holidays\, so be sure to check [...]
URL:https://voiceofoc.org/event/mission-viejo-city-council-meeting-2/2024-12-24/
LOCATION:Mission Viejo Council Chamber at City Hall\,  200 Civic Center\, Mission Viejo\, CA\, United States
CATEGORIES:City Governments,Mission Viejo
ATTACH;FMTTYPE=image/jpeg:https://voiceofoc.org/wp-content/uploads/2020/09/Mission_Viejo.jpg
GEO:33.59632;-117.659895
X-APPLE-STRUCTURED-LOCATION;VALUE=URI;X-ADDRESS=Mission Viejo Council Chamber at City Hall  200 Civic Center Mission Viejo CA United States;X-APPLE-RADIUS=500;X-TITLE=200 Civic Center:geo:-117.659895,33.59632
END:VEVENT
BEGIN:VEVENT
DTSTART;VALUE=DATE:20241228
DTEND;VALUE=DATE:20241229
DTSTAMP:20260420T224738
CREATED:20230627T221837Z
LAST-MODIFIED:20230712T033255Z
UID:10025368-1735344000-1735430399@voiceofoc.org
SUMMARY:Library of the Canyons: Craft Day All Day
DESCRIPTION:The Los Alamitos City Council generally meets on the third Monday of each month. This meeting schedule can change\, particularly in months with national holidays\, so be sure to check [...]
URL:https://voiceofoc.org/event/oc-libraries-craft-day-all-day/2024-12-28/
LOCATION:Library of the Canyons\, 7531 Santiago Canyon Road\, Silverado\, CA\, 92676\, United States
GEO:33.7434605;-117.6676395
X-APPLE-STRUCTURED-LOCATION;VALUE=URI;X-ADDRESS=Library of the Canyons 7531 Santiago Canyon Road Silverado CA 92676 United States;X-APPLE-RADIUS=500;X-TITLE=7531 Santiago Canyon Road:geo:-117.6676395,33.7434605
END:VEVENT
BEGIN:VEVENT
DTSTART;TZID=America/Los_Angeles:20241228T093000
DTEND;TZID=America/Los_Angeles:20241228T100000
DTSTAMP:20260420T224738
CREATED:20230627T214939Z
LAST-MODIFIED:20230712T033649Z
UID:10025219-1735378200-1735380000@voiceofoc.org
SUMMARY:Garden Grove Tibor Rubin Library: Books for Breakfast Storytime
DESCRIPTION:The Los Alamitos City Council generally meets on the third Monday of each month. This meeting schedule can change\, particularly in months with national holidays\, so be sure to check [...]
URL:https://voiceofoc.org/event/oc-libraries-books-for-breakfast-storytime/2024-12-28/
LOCATION:Garden Grove Tibor Rubin Library\, 11962 Bailey St\, Garden Grove\, 92845\, United States
GEO:33.7888362;-118.0320158
X-APPLE-STRUCTURED-LOCATION;VALUE=URI;X-ADDRESS=Garden Grove Tibor Rubin Library 11962 Bailey St Garden Grove 92845 United States;X-APPLE-RADIUS=500;X-TITLE=11962 Bailey St:geo:-118.0320158,33.7888362
END:VEVENT
BEGIN:VEVENT
DTSTART;TZID=America/Los_Angeles:20241228T103000
DTEND;TZID=America/Los_Angeles:20241228T120000
DTSTAMP:20260420T224738
CREATED:20230628T043144Z
LAST-MODIFIED:20230712T034723Z
UID:10022114-1735381800-1735387200@voiceofoc.org
SUMMARY:San Clemente Library: Sensory Playtime
DESCRIPTION:The Los Alamitos City Council generally meets on the third Monday of each month. This meeting schedule can change\, particularly in months with national holidays\, so be sure to check [...]
URL:https://voiceofoc.org/event/oc-libraries-sensory-playtime/2024-12-28/
LOCATION:San Clemente Library\, 242 Avenida Del Mar\, San Clemente\, CA\, 92672\, United States
GEO:33.4247522;-117.6171323
X-APPLE-STRUCTURED-LOCATION;VALUE=URI;X-ADDRESS=San Clemente Library 242 Avenida Del Mar San Clemente CA 92672 United States;X-APPLE-RADIUS=500;X-TITLE=242 Avenida Del Mar:geo:-117.6171323,33.4247522
END:VEVENT
BEGIN:VEVENT
DTSTART;TZID=America/Los_Angeles:20241228T110000
DTEND;TZID=America/Los_Angeles:20241228T120000
DTSTAMP:20260420T224738
CREATED:20230628T045541Z
LAST-MODIFIED:20230712T034101Z
UID:10022646-1735383600-1735387200@voiceofoc.org
SUMMARY:Mesa Verde Library: Family Storytime
DESCRIPTION:The Los Alamitos City Council generally meets on the third Monday of each month. This meeting schedule can change\, particularly in months with national holidays\, so be sure to check [...]
URL:https://voiceofoc.org/event/oc-libraries-family-storytime-3/2024-12-28/
LOCATION:Mesa Verde Library\, 2969 Mesa Verde Dr E\, Costa Mesa\, CA\, 92626\, United States
GEO:33.6792;-117.9274403
X-APPLE-STRUCTURED-LOCATION;VALUE=URI;X-ADDRESS=Mesa Verde Library 2969 Mesa Verde Dr E Costa Mesa CA 92626 United States;X-APPLE-RADIUS=500;X-TITLE=2969 Mesa Verde Dr E:geo:-117.9274403,33.6792
END:VEVENT
BEGIN:VEVENT
DTSTART;TZID=America/Los_Angeles:20241228T110000
DTEND;TZID=America/Los_Angeles:20241228T120000
DTSTAMP:20260420T224738
CREATED:20230628T210002Z
LAST-MODIFIED:20230712T035028Z
UID:10025531-1735383600-1735387200@voiceofoc.org
SUMMARY:Laguna Niguel Library: Toddler Play & Learn
DESCRIPTION:The Los Alamitos City Council generally meets on the third Monday of each month. This meeting schedule can change\, particularly in months with national holidays\, so be sure to check [...]
URL:https://voiceofoc.org/event/oc-libraries-toddler-play-learn/2024-12-28/
LOCATION:Laguna Niguel Library\, 30341 Crown Valley Pkwy\, Laguna Niguel\, CA\, 92677\, United States
GEO:33.5225257;-117.7169449
X-APPLE-STRUCTURED-LOCATION;VALUE=URI;X-ADDRESS=Laguna Niguel Library 30341 Crown Valley Pkwy Laguna Niguel CA 92677 United States;X-APPLE-RADIUS=500;X-TITLE=30341 Crown Valley Pkwy:geo:-117.7169449,33.5225257
END:VEVENT
BEGIN:VEVENT
DTSTART;TZID=America/Los_Angeles:20241228T110000
DTEND;TZID=America/Los_Angeles:20241228T120000
DTSTAMP:20260420T224738
CREATED:20230629T004740Z
LAST-MODIFIED:20230712T033924Z
UID:10025678-1735383600-1735387200@voiceofoc.org
SUMMARY:Brea Library: Family Storytime
DESCRIPTION:The Los Alamitos City Council generally meets on the third Monday of each month. This meeting schedule can change\, particularly in months with national holidays\, so be sure to check [...]
URL:https://voiceofoc.org/event/oc-libraries-family-storytime-4/2024-12-28/
LOCATION:Brea Library\, 1 Civic Center Circle\, Brea\, CA\, 92821\, United States
GEO:33.9170664;-117.8889229
X-APPLE-STRUCTURED-LOCATION;VALUE=URI;X-ADDRESS=Brea Library 1 Civic Center Circle Brea CA 92821 United States;X-APPLE-RADIUS=500;X-TITLE=1 Civic Center Circle:geo:-117.8889229,33.9170664
END:VEVENT
BEGIN:VEVENT
DTSTART;TZID=America/Los_Angeles:20241228T140000
DTEND;TZID=America/Los_Angeles:20241228T170000
DTSTAMP:20260420T224738
CREATED:20230629T010340Z
LAST-MODIFIED:20230712T035430Z
UID:10025855-1735394400-1735405200@voiceofoc.org
SUMMARY:La Palma Library: Family Movie Afternoons
DESCRIPTION:The Los Alamitos City Council generally meets on the third Monday of each month. This meeting schedule can change\, particularly in months with national holidays\, so be sure to check [...]
URL:https://voiceofoc.org/event/oc-libraries-family-movie-afternoons/2024-12-28/
LOCATION:La Palma Library\, 7842 Walker St.\, La Palma\, CA\, 90623\, United States
GEO:33.8486268;-118.0368658
X-APPLE-STRUCTURED-LOCATION;VALUE=URI;X-ADDRESS=La Palma Library 7842 Walker St. La Palma CA 90623 United States;X-APPLE-RADIUS=500;X-TITLE=7842 Walker St.:geo:-118.0368658,33.8486268
END:VEVENT
BEGIN:VEVENT
DTSTART;TZID=America/Los_Angeles:20250101T190000
DTEND;TZID=America/Los_Angeles:20250101T210000
DTSTAMP:20260420T224738
CREATED:20210317T013510Z
LAST-MODIFIED:20260105T175709Z
UID:10025064-1735758000-1735765200@voiceofoc.org
SUMMARY:Aliso Viejo City Council Meeting
DESCRIPTION:The Los Alamitos City Council generally meets on the third Monday of each month. This meeting schedule can change\, particularly in months with national holidays\, so be sure to check [...]
URL:https://voiceofoc.org/event/aliso-viejo-city-council-meeting-2-2/2025-01-01/
LOCATION:Aliso Viejo City Council Meeting\, 12 Journey\, Suite 100\, Aliso Viejo \, CA\, 92656\, United States
CATEGORIES:Aliso Viejo,City Governments
ATTACH;FMTTYPE=image/jpeg:https://voiceofoc.org/wp-content/uploads/2021/05/©JessicaRuiz_2019-13_Aliso_Viejo.jpg
GEO:33.5680203;-117.7276699
X-APPLE-STRUCTURED-LOCATION;VALUE=URI;X-ADDRESS=Aliso Viejo City Council Meeting 12 Journey Suite 100 Aliso Viejo  CA 92656 United States;X-APPLE-RADIUS=500;X-TITLE=12 Journey\, Suite 100:geo:-117.7276699,33.5680203
END:VEVENT
BEGIN:VEVENT
DTSTART;VALUE=DATE:20250104
DTEND;VALUE=DATE:20250105
DTSTAMP:20260420T224738
CREATED:20230627T221837Z
LAST-MODIFIED:20230712T033255Z
UID:10025369-1735948800-1736035199@voiceofoc.org
SUMMARY:Library of the Canyons: Craft Day All Day
DESCRIPTION:The Los Alamitos City Council generally meets on the third Monday of each month. This meeting schedule can change\, particularly in months with national holidays\, so be sure to check [...]
URL:https://voiceofoc.org/event/oc-libraries-craft-day-all-day/2025-01-04/
LOCATION:Library of the Canyons\, 7531 Santiago Canyon Road\, Silverado\, CA\, 92676\, United States
GEO:33.7434605;-117.6676395
X-APPLE-STRUCTURED-LOCATION;VALUE=URI;X-ADDRESS=Library of the Canyons 7531 Santiago Canyon Road Silverado CA 92676 United States;X-APPLE-RADIUS=500;X-TITLE=7531 Santiago Canyon Road:geo:-117.6676395,33.7434605
END:VEVENT
BEGIN:VEVENT
DTSTART;TZID=America/Los_Angeles:20250104T093000
DTEND;TZID=America/Los_Angeles:20250104T100000
DTSTAMP:20260420T224738
CREATED:20230627T214939Z
LAST-MODIFIED:20230712T033649Z
UID:10025220-1735983000-1735984800@voiceofoc.org
SUMMARY:Garden Grove Tibor Rubin Library: Books for Breakfast Storytime
DESCRIPTION:The Los Alamitos City Council generally meets on the third Monday of each month. This meeting schedule can change\, particularly in months with national holidays\, so be sure to check [...]
URL:https://voiceofoc.org/event/oc-libraries-books-for-breakfast-storytime/2025-01-04/
LOCATION:Garden Grove Tibor Rubin Library\, 11962 Bailey St\, Garden Grove\, 92845\, United States
GEO:33.7888362;-118.0320158
X-APPLE-STRUCTURED-LOCATION;VALUE=URI;X-ADDRESS=Garden Grove Tibor Rubin Library 11962 Bailey St Garden Grove 92845 United States;X-APPLE-RADIUS=500;X-TITLE=11962 Bailey St:geo:-118.0320158,33.7888362
END:VEVENT
BEGIN:VEVENT
DTSTART;TZID=America/Los_Angeles:20250104T103000
DTEND;TZID=America/Los_Angeles:20250104T120000
DTSTAMP:20260420T224738
CREATED:20230628T043144Z
LAST-MODIFIED:20230712T034723Z
UID:10022115-1735986600-1735992000@voiceofoc.org
SUMMARY:San Clemente Library: Sensory Playtime
DESCRIPTION:The Los Alamitos City Council generally meets on the third Monday of each month. This meeting schedule can change\, particularly in months with national holidays\, so be sure to check [...]
URL:https://voiceofoc.org/event/oc-libraries-sensory-playtime/2025-01-04/
LOCATION:San Clemente Library\, 242 Avenida Del Mar\, San Clemente\, CA\, 92672\, United States
GEO:33.4247522;-117.6171323
X-APPLE-STRUCTURED-LOCATION;VALUE=URI;X-ADDRESS=San Clemente Library 242 Avenida Del Mar San Clemente CA 92672 United States;X-APPLE-RADIUS=500;X-TITLE=242 Avenida Del Mar:geo:-117.6171323,33.4247522
END:VEVENT
BEGIN:VEVENT
DTSTART;TZID=America/Los_Angeles:20250104T110000
DTEND;TZID=America/Los_Angeles:20250104T120000
DTSTAMP:20260420T224738
CREATED:20230628T045541Z
LAST-MODIFIED:20230712T034101Z
UID:10022647-1735988400-1735992000@voiceofoc.org
SUMMARY:Mesa Verde Library: Family Storytime
DESCRIPTION:The Los Alamitos City Council generally meets on the third Monday of each month. This meeting schedule can change\, particularly in months with national holidays\, so be sure to check [...]
URL:https://voiceofoc.org/event/oc-libraries-family-storytime-3/2025-01-04/
LOCATION:Mesa Verde Library\, 2969 Mesa Verde Dr E\, Costa Mesa\, CA\, 92626\, United States
GEO:33.6792;-117.9274403
X-APPLE-STRUCTURED-LOCATION;VALUE=URI;X-ADDRESS=Mesa Verde Library 2969 Mesa Verde Dr E Costa Mesa CA 92626 United States;X-APPLE-RADIUS=500;X-TITLE=2969 Mesa Verde Dr E:geo:-117.9274403,33.6792
END:VEVENT
BEGIN:VEVENT
DTSTART;TZID=America/Los_Angeles:20250104T110000
DTEND;TZID=America/Los_Angeles:20250104T120000
DTSTAMP:20260420T224738
CREATED:20230628T210002Z
LAST-MODIFIED:20230712T035028Z
UID:10025532-1735988400-1735992000@voiceofoc.org
SUMMARY:Laguna Niguel Library: Toddler Play & Learn
DESCRIPTION:The Los Alamitos City Council generally meets on the third Monday of each month. This meeting schedule can change\, particularly in months with national holidays\, so be sure to check [...]
URL:https://voiceofoc.org/event/oc-libraries-toddler-play-learn/2025-01-04/
LOCATION:Laguna Niguel Library\, 30341 Crown Valley Pkwy\, Laguna Niguel\, CA\, 92677\, United States
GEO:33.5225257;-117.7169449
X-APPLE-STRUCTURED-LOCATION;VALUE=URI;X-ADDRESS=Laguna Niguel Library 30341 Crown Valley Pkwy Laguna Niguel CA 92677 United States;X-APPLE-RADIUS=500;X-TITLE=30341 Crown Valley Pkwy:geo:-117.7169449,33.5225257
END:VEVENT
BEGIN:VEVENT
DTSTART;TZID=America/Los_Angeles:20250104T110000
DTEND;TZID=America/Los_Angeles:20250104T120000
DTSTAMP:20260420T224738
CREATED:20230629T004740Z
LAST-MODIFIED:20230712T033924Z
UID:10025679-1735988400-1735992000@voiceofoc.org
SUMMARY:Brea Library: Family Storytime
DESCRIPTION:The Los Alamitos City Council generally meets on the third Monday of each month. This meeting schedule can change\, particularly in months with national holidays\, so be sure to check [...]
URL:https://voiceofoc.org/event/oc-libraries-family-storytime-4/2025-01-04/
LOCATION:Brea Library\, 1 Civic Center Circle\, Brea\, CA\, 92821\, United States
GEO:33.9170664;-117.8889229
X-APPLE-STRUCTURED-LOCATION;VALUE=URI;X-ADDRESS=Brea Library 1 Civic Center Circle Brea CA 92821 United States;X-APPLE-RADIUS=500;X-TITLE=1 Civic Center Circle:geo:-117.8889229,33.9170664
END:VEVENT
BEGIN:VEVENT
DTSTART;TZID=America/Los_Angeles:20250104T140000
DTEND;TZID=America/Los_Angeles:20250104T160000
DTSTAMP:20260420T224738
CREATED:20230629T015428Z
LAST-MODIFIED:20230712T040522Z
UID:10025966-1735999200-1736006400@voiceofoc.org
SUMMARY:Laguna Niguel Library: Teen/Adult Sewing Workshop
DESCRIPTION:The Los Alamitos City Council generally meets on the third Monday of each month. This meeting schedule can change\, particularly in months with national holidays\, so be sure to check [...]
URL:https://voiceofoc.org/event/oc-libraries-teen-adult-sewing-workshop/2025-01-04/
LOCATION:Laguna Niguel Library\, 30341 Crown Valley Pkwy\, Laguna Niguel\, CA\, 92677\, United States
GEO:33.5225257;-117.7169449
X-APPLE-STRUCTURED-LOCATION;VALUE=URI;X-ADDRESS=Laguna Niguel Library 30341 Crown Valley Pkwy Laguna Niguel CA 92677 United States;X-APPLE-RADIUS=500;X-TITLE=30341 Crown Valley Pkwy:geo:-117.7169449,33.5225257
END:VEVENT
BEGIN:VEVENT
DTSTART;TZID=America/Los_Angeles:20250104T140000
DTEND;TZID=America/Los_Angeles:20250104T170000
DTSTAMP:20260420T224738
CREATED:20230629T010340Z
LAST-MODIFIED:20230712T035430Z
UID:10025856-1735999200-1736010000@voiceofoc.org
SUMMARY:La Palma Library: Family Movie Afternoons
DESCRIPTION:The Los Alamitos City Council generally meets on the third Monday of each month. This meeting schedule can change\, particularly in months with national holidays\, so be sure to check [...]
URL:https://voiceofoc.org/event/oc-libraries-family-movie-afternoons/2025-01-04/
LOCATION:La Palma Library\, 7842 Walker St.\, La Palma\, CA\, 90623\, United States
GEO:33.8486268;-118.0368658
X-APPLE-STRUCTURED-LOCATION;VALUE=URI;X-ADDRESS=La Palma Library 7842 Walker St. La Palma CA 90623 United States;X-APPLE-RADIUS=500;X-TITLE=7842 Walker St.:geo:-118.0368658,33.8486268
END:VEVENT
END:VCALENDAR