BEGIN:VCALENDAR
VERSION:2.0
PRODID:-//Voice of OC - ECPv6.15.20//NONSGML v1.0//EN
CALSCALE:GREGORIAN
METHOD:PUBLISH
X-ORIGINAL-URL:https://voiceofoc.org
X-WR-CALDESC:Events for Voice of OC
REFRESH-INTERVAL;VALUE=DURATION:PT1H
X-Robots-Tag:noindex
X-PUBLISHED-TTL:PT1H
BEGIN:VTIMEZONE
TZID:America/Los_Angeles
BEGIN:DAYLIGHT
TZOFFSETFROM:-0800
TZOFFSETTO:-0700
TZNAME:PDT
DTSTART:20240310T100000
END:DAYLIGHT
BEGIN:STANDARD
TZOFFSETFROM:-0700
TZOFFSETTO:-0800
TZNAME:PST
DTSTART:20241103T090000
END:STANDARD
BEGIN:DAYLIGHT
TZOFFSETFROM:-0800
TZOFFSETTO:-0700
TZNAME:PDT
DTSTART:20250309T100000
END:DAYLIGHT
BEGIN:STANDARD
TZOFFSETFROM:-0700
TZOFFSETTO:-0800
TZNAME:PST
DTSTART:20251102T090000
END:STANDARD
BEGIN:DAYLIGHT
TZOFFSETFROM:-0800
TZOFFSETTO:-0700
TZNAME:PDT
DTSTART:20260308T100000
END:DAYLIGHT
BEGIN:STANDARD
TZOFFSETFROM:-0700
TZOFFSETTO:-0800
TZNAME:PST
DTSTART:20261101T090000
END:STANDARD
END:VTIMEZONE
BEGIN:VEVENT
DTSTART;TZID=America/Los_Angeles:20250726T093000
DTEND;TZID=America/Los_Angeles:20250726T100000
DTSTAMP:20260423T234221
CREATED:20230627T214939Z
LAST-MODIFIED:20230712T033649Z
UID:10025249-1753522200-1753524000@voiceofoc.org
SUMMARY:Garden Grove Tibor Rubin Library: Books for Breakfast Storytime
DESCRIPTION:The San Clemente City Council generally meets on the first and third Tuesdays of each month. This meeting schedule can change\, particularly in months with national holidays\, so be sure [...]
URL:https://voiceofoc.org/event/oc-libraries-books-for-breakfast-storytime/2025-07-26/
LOCATION:Garden Grove Tibor Rubin Library\, 11962 Bailey St\, Garden Grove\, 92845\, United States
GEO:33.7888362;-118.0320158
X-APPLE-STRUCTURED-LOCATION;VALUE=URI;X-ADDRESS=Garden Grove Tibor Rubin Library 11962 Bailey St Garden Grove 92845 United States;X-APPLE-RADIUS=500;X-TITLE=11962 Bailey St:geo:-118.0320158,33.7888362
END:VEVENT
BEGIN:VEVENT
DTSTART;TZID=America/Los_Angeles:20250726T103000
DTEND;TZID=America/Los_Angeles:20250726T113000
DTSTAMP:20260423T234221
CREATED:20230628T043816Z
LAST-MODIFIED:20230712T034217Z
UID:10022275-1753525800-1753529400@voiceofoc.org
SUMMARY:Westminster Library: Family Storytime
DESCRIPTION:The San Clemente City Council generally meets on the first and third Tuesdays of each month. This meeting schedule can change\, particularly in months with national holidays\, so be sure [...]
URL:https://voiceofoc.org/event/oc-libraries-family-storytime-2/2025-07-26/
LOCATION:Westminster Library\, 8180 13th Street\, Westminster\, CA\, 92683\, United States
GEO:33.7552005;-117.9864956
X-APPLE-STRUCTURED-LOCATION;VALUE=URI;X-ADDRESS=Westminster Library 8180 13th Street Westminster CA 92683 United States;X-APPLE-RADIUS=500;X-TITLE=8180 13th Street:geo:-117.9864956,33.7552005
END:VEVENT
BEGIN:VEVENT
DTSTART;TZID=America/Los_Angeles:20250726T103000
DTEND;TZID=America/Los_Angeles:20250726T120000
DTSTAMP:20260423T234221
CREATED:20230628T043144Z
LAST-MODIFIED:20230712T034723Z
UID:10022144-1753525800-1753531200@voiceofoc.org
SUMMARY:San Clemente Library: Sensory Playtime
DESCRIPTION:The San Clemente City Council generally meets on the first and third Tuesdays of each month. This meeting schedule can change\, particularly in months with national holidays\, so be sure [...]
URL:https://voiceofoc.org/event/oc-libraries-sensory-playtime/2025-07-26/
LOCATION:San Clemente Library\, 242 Avenida Del Mar\, San Clemente\, CA\, 92672\, United States
GEO:33.4247522;-117.6171323
X-APPLE-STRUCTURED-LOCATION;VALUE=URI;X-ADDRESS=San Clemente Library 242 Avenida Del Mar San Clemente CA 92672 United States;X-APPLE-RADIUS=500;X-TITLE=242 Avenida Del Mar:geo:-117.6171323,33.4247522
END:VEVENT
BEGIN:VEVENT
DTSTART;TZID=America/Los_Angeles:20250726T110000
DTEND;TZID=America/Los_Angeles:20250726T120000
DTSTAMP:20260423T234221
CREATED:20230628T045541Z
LAST-MODIFIED:20230712T034101Z
UID:10022676-1753527600-1753531200@voiceofoc.org
SUMMARY:Mesa Verde Library: Family Storytime
DESCRIPTION:The San Clemente City Council generally meets on the first and third Tuesdays of each month. This meeting schedule can change\, particularly in months with national holidays\, so be sure [...]
URL:https://voiceofoc.org/event/oc-libraries-family-storytime-3/2025-07-26/
LOCATION:Mesa Verde Library\, 2969 Mesa Verde Dr E\, Costa Mesa\, CA\, 92626\, United States
GEO:33.6792;-117.9274403
X-APPLE-STRUCTURED-LOCATION;VALUE=URI;X-ADDRESS=Mesa Verde Library 2969 Mesa Verde Dr E Costa Mesa CA 92626 United States;X-APPLE-RADIUS=500;X-TITLE=2969 Mesa Verde Dr E:geo:-117.9274403,33.6792
END:VEVENT
BEGIN:VEVENT
DTSTART;TZID=America/Los_Angeles:20250726T110000
DTEND;TZID=America/Los_Angeles:20250726T120000
DTSTAMP:20260423T234221
CREATED:20230628T210002Z
LAST-MODIFIED:20230712T035028Z
UID:10025561-1753527600-1753531200@voiceofoc.org
SUMMARY:Laguna Niguel Library: Toddler Play & Learn
DESCRIPTION:The San Clemente City Council generally meets on the first and third Tuesdays of each month. This meeting schedule can change\, particularly in months with national holidays\, so be sure [...]
URL:https://voiceofoc.org/event/oc-libraries-toddler-play-learn/2025-07-26/
LOCATION:Laguna Niguel Library\, 30341 Crown Valley Pkwy\, Laguna Niguel\, CA\, 92677\, United States
GEO:33.5225257;-117.7169449
X-APPLE-STRUCTURED-LOCATION;VALUE=URI;X-ADDRESS=Laguna Niguel Library 30341 Crown Valley Pkwy Laguna Niguel CA 92677 United States;X-APPLE-RADIUS=500;X-TITLE=30341 Crown Valley Pkwy:geo:-117.7169449,33.5225257
END:VEVENT
BEGIN:VEVENT
DTSTART;TZID=America/Los_Angeles:20250726T110000
DTEND;TZID=America/Los_Angeles:20250726T120000
DTSTAMP:20260423T234221
CREATED:20230629T004740Z
LAST-MODIFIED:20230712T033924Z
UID:10025708-1753527600-1753531200@voiceofoc.org
SUMMARY:Brea Library: Family Storytime
DESCRIPTION:The San Clemente City Council generally meets on the first and third Tuesdays of each month. This meeting schedule can change\, particularly in months with national holidays\, so be sure [...]
URL:https://voiceofoc.org/event/oc-libraries-family-storytime-4/2025-07-26/
LOCATION:Brea Library\, 1 Civic Center Circle\, Brea\, CA\, 92821\, United States
GEO:33.9170664;-117.8889229
X-APPLE-STRUCTURED-LOCATION;VALUE=URI;X-ADDRESS=Brea Library 1 Civic Center Circle Brea CA 92821 United States;X-APPLE-RADIUS=500;X-TITLE=1 Civic Center Circle:geo:-117.8889229,33.9170664
END:VEVENT
BEGIN:VEVENT
DTSTART;TZID=America/Los_Angeles:20250726T140000
DTEND;TZID=America/Los_Angeles:20250726T170000
DTSTAMP:20260423T234221
CREATED:20230629T010340Z
LAST-MODIFIED:20230712T035430Z
UID:10025884-1753538400-1753549200@voiceofoc.org
SUMMARY:La Palma Library: Family Movie Afternoons
DESCRIPTION:The San Clemente City Council generally meets on the first and third Tuesdays of each month. This meeting schedule can change\, particularly in months with national holidays\, so be sure [...]
URL:https://voiceofoc.org/event/oc-libraries-family-movie-afternoons/2025-07-26/
LOCATION:La Palma Library\, 7842 Walker St.\, La Palma\, CA\, 90623\, United States
GEO:33.8486268;-118.0368658
X-APPLE-STRUCTURED-LOCATION;VALUE=URI;X-ADDRESS=La Palma Library 7842 Walker St. La Palma CA 90623 United States;X-APPLE-RADIUS=500;X-TITLE=7842 Walker St.:geo:-118.0368658,33.8486268
END:VEVENT
BEGIN:VEVENT
DTSTART;VALUE=DATE:20250802
DTEND;VALUE=DATE:20250803
DTSTAMP:20260423T234221
CREATED:20230627T221837Z
LAST-MODIFIED:20230712T033255Z
UID:10025399-1754092800-1754179199@voiceofoc.org
SUMMARY:Library of the Canyons: Craft Day All Day
DESCRIPTION:The San Clemente City Council generally meets on the first and third Tuesdays of each month. This meeting schedule can change\, particularly in months with national holidays\, so be sure [...]
URL:https://voiceofoc.org/event/oc-libraries-craft-day-all-day/2025-08-02/
LOCATION:Library of the Canyons\, 7531 Santiago Canyon Road\, Silverado\, CA\, 92676\, United States
GEO:33.7434605;-117.6676395
X-APPLE-STRUCTURED-LOCATION;VALUE=URI;X-ADDRESS=Library of the Canyons 7531 Santiago Canyon Road Silverado CA 92676 United States;X-APPLE-RADIUS=500;X-TITLE=7531 Santiago Canyon Road:geo:-117.6676395,33.7434605
END:VEVENT
BEGIN:VEVENT
DTSTART;TZID=America/Los_Angeles:20250802T093000
DTEND;TZID=America/Los_Angeles:20250802T100000
DTSTAMP:20260423T234221
CREATED:20230627T214939Z
LAST-MODIFIED:20230712T033649Z
UID:10025250-1754127000-1754128800@voiceofoc.org
SUMMARY:Garden Grove Tibor Rubin Library: Books for Breakfast Storytime
DESCRIPTION:The San Clemente City Council generally meets on the first and third Tuesdays of each month. This meeting schedule can change\, particularly in months with national holidays\, so be sure [...]
URL:https://voiceofoc.org/event/oc-libraries-books-for-breakfast-storytime/2025-08-02/
LOCATION:Garden Grove Tibor Rubin Library\, 11962 Bailey St\, Garden Grove\, 92845\, United States
GEO:33.7888362;-118.0320158
X-APPLE-STRUCTURED-LOCATION;VALUE=URI;X-ADDRESS=Garden Grove Tibor Rubin Library 11962 Bailey St Garden Grove 92845 United States;X-APPLE-RADIUS=500;X-TITLE=11962 Bailey St:geo:-118.0320158,33.7888362
END:VEVENT
BEGIN:VEVENT
DTSTART;TZID=America/Los_Angeles:20250802T103000
DTEND;TZID=America/Los_Angeles:20250802T113000
DTSTAMP:20260423T234221
CREATED:20230628T043816Z
LAST-MODIFIED:20230712T034217Z
UID:10022276-1754130600-1754134200@voiceofoc.org
SUMMARY:Westminster Library: Family Storytime
DESCRIPTION:The San Clemente City Council generally meets on the first and third Tuesdays of each month. This meeting schedule can change\, particularly in months with national holidays\, so be sure [...]
URL:https://voiceofoc.org/event/oc-libraries-family-storytime-2/2025-08-02/
LOCATION:Westminster Library\, 8180 13th Street\, Westminster\, CA\, 92683\, United States
GEO:33.7552005;-117.9864956
X-APPLE-STRUCTURED-LOCATION;VALUE=URI;X-ADDRESS=Westminster Library 8180 13th Street Westminster CA 92683 United States;X-APPLE-RADIUS=500;X-TITLE=8180 13th Street:geo:-117.9864956,33.7552005
END:VEVENT
BEGIN:VEVENT
DTSTART;TZID=America/Los_Angeles:20250802T103000
DTEND;TZID=America/Los_Angeles:20250802T120000
DTSTAMP:20260423T234221
CREATED:20230628T043144Z
LAST-MODIFIED:20230712T034723Z
UID:10022145-1754130600-1754136000@voiceofoc.org
SUMMARY:San Clemente Library: Sensory Playtime
DESCRIPTION:The San Clemente City Council generally meets on the first and third Tuesdays of each month. This meeting schedule can change\, particularly in months with national holidays\, so be sure [...]
URL:https://voiceofoc.org/event/oc-libraries-sensory-playtime/2025-08-02/
LOCATION:San Clemente Library\, 242 Avenida Del Mar\, San Clemente\, CA\, 92672\, United States
GEO:33.4247522;-117.6171323
X-APPLE-STRUCTURED-LOCATION;VALUE=URI;X-ADDRESS=San Clemente Library 242 Avenida Del Mar San Clemente CA 92672 United States;X-APPLE-RADIUS=500;X-TITLE=242 Avenida Del Mar:geo:-117.6171323,33.4247522
END:VEVENT
BEGIN:VEVENT
DTSTART;TZID=America/Los_Angeles:20250802T110000
DTEND;TZID=America/Los_Angeles:20250802T120000
DTSTAMP:20260423T234221
CREATED:20230628T045541Z
LAST-MODIFIED:20230712T034101Z
UID:10022677-1754132400-1754136000@voiceofoc.org
SUMMARY:Mesa Verde Library: Family Storytime
DESCRIPTION:The San Clemente City Council generally meets on the first and third Tuesdays of each month. This meeting schedule can change\, particularly in months with national holidays\, so be sure [...]
URL:https://voiceofoc.org/event/oc-libraries-family-storytime-3/2025-08-02/
LOCATION:Mesa Verde Library\, 2969 Mesa Verde Dr E\, Costa Mesa\, CA\, 92626\, United States
GEO:33.6792;-117.9274403
X-APPLE-STRUCTURED-LOCATION;VALUE=URI;X-ADDRESS=Mesa Verde Library 2969 Mesa Verde Dr E Costa Mesa CA 92626 United States;X-APPLE-RADIUS=500;X-TITLE=2969 Mesa Verde Dr E:geo:-117.9274403,33.6792
END:VEVENT
BEGIN:VEVENT
DTSTART;TZID=America/Los_Angeles:20250802T110000
DTEND;TZID=America/Los_Angeles:20250802T120000
DTSTAMP:20260423T234221
CREATED:20230628T210002Z
LAST-MODIFIED:20230712T035028Z
UID:10025562-1754132400-1754136000@voiceofoc.org
SUMMARY:Laguna Niguel Library: Toddler Play & Learn
DESCRIPTION:The San Clemente City Council generally meets on the first and third Tuesdays of each month. This meeting schedule can change\, particularly in months with national holidays\, so be sure [...]
URL:https://voiceofoc.org/event/oc-libraries-toddler-play-learn/2025-08-02/
LOCATION:Laguna Niguel Library\, 30341 Crown Valley Pkwy\, Laguna Niguel\, CA\, 92677\, United States
GEO:33.5225257;-117.7169449
X-APPLE-STRUCTURED-LOCATION;VALUE=URI;X-ADDRESS=Laguna Niguel Library 30341 Crown Valley Pkwy Laguna Niguel CA 92677 United States;X-APPLE-RADIUS=500;X-TITLE=30341 Crown Valley Pkwy:geo:-117.7169449,33.5225257
END:VEVENT
BEGIN:VEVENT
DTSTART;TZID=America/Los_Angeles:20250802T110000
DTEND;TZID=America/Los_Angeles:20250802T120000
DTSTAMP:20260423T234221
CREATED:20230629T004740Z
LAST-MODIFIED:20230712T033924Z
UID:10025709-1754132400-1754136000@voiceofoc.org
SUMMARY:Brea Library: Family Storytime
DESCRIPTION:The San Clemente City Council generally meets on the first and third Tuesdays of each month. This meeting schedule can change\, particularly in months with national holidays\, so be sure [...]
URL:https://voiceofoc.org/event/oc-libraries-family-storytime-4/2025-08-02/
LOCATION:Brea Library\, 1 Civic Center Circle\, Brea\, CA\, 92821\, United States
GEO:33.9170664;-117.8889229
X-APPLE-STRUCTURED-LOCATION;VALUE=URI;X-ADDRESS=Brea Library 1 Civic Center Circle Brea CA 92821 United States;X-APPLE-RADIUS=500;X-TITLE=1 Civic Center Circle:geo:-117.8889229,33.9170664
END:VEVENT
BEGIN:VEVENT
DTSTART;TZID=America/Los_Angeles:20250802T140000
DTEND;TZID=America/Los_Angeles:20250802T160000
DTSTAMP:20260423T234221
CREATED:20230629T015428Z
LAST-MODIFIED:20230712T040522Z
UID:10025981-1754143200-1754150400@voiceofoc.org
SUMMARY:Laguna Niguel Library: Teen/Adult Sewing Workshop
DESCRIPTION:The San Clemente City Council generally meets on the first and third Tuesdays of each month. This meeting schedule can change\, particularly in months with national holidays\, so be sure [...]
URL:https://voiceofoc.org/event/oc-libraries-teen-adult-sewing-workshop/2025-08-02/
LOCATION:Laguna Niguel Library\, 30341 Crown Valley Pkwy\, Laguna Niguel\, CA\, 92677\, United States
GEO:33.5225257;-117.7169449
X-APPLE-STRUCTURED-LOCATION;VALUE=URI;X-ADDRESS=Laguna Niguel Library 30341 Crown Valley Pkwy Laguna Niguel CA 92677 United States;X-APPLE-RADIUS=500;X-TITLE=30341 Crown Valley Pkwy:geo:-117.7169449,33.5225257
END:VEVENT
BEGIN:VEVENT
DTSTART;TZID=America/Los_Angeles:20250802T140000
DTEND;TZID=America/Los_Angeles:20250802T170000
DTSTAMP:20260423T234221
CREATED:20230629T010340Z
LAST-MODIFIED:20230712T035430Z
UID:10025885-1754143200-1754154000@voiceofoc.org
SUMMARY:La Palma Library: Family Movie Afternoons
DESCRIPTION:The San Clemente City Council generally meets on the first and third Tuesdays of each month. This meeting schedule can change\, particularly in months with national holidays\, so be sure [...]
URL:https://voiceofoc.org/event/oc-libraries-family-movie-afternoons/2025-08-02/
LOCATION:La Palma Library\, 7842 Walker St.\, La Palma\, CA\, 90623\, United States
GEO:33.8486268;-118.0368658
X-APPLE-STRUCTURED-LOCATION;VALUE=URI;X-ADDRESS=La Palma Library 7842 Walker St. La Palma CA 90623 United States;X-APPLE-RADIUS=500;X-TITLE=7842 Walker St.:geo:-118.0368658,33.8486268
END:VEVENT
BEGIN:VEVENT
DTSTART;TZID=America/Los_Angeles:20250804T183000
DTEND;TZID=America/Los_Angeles:20250804T203000
DTSTAMP:20260423T234221
CREATED:20210315T053556Z
LAST-MODIFIED:20260105T172011Z
UID:10024121-1754332200-1754339400@voiceofoc.org
SUMMARY:La Habra City Council Meeting
DESCRIPTION:The San Clemente City Council generally meets on the first and third Tuesdays of each month. This meeting schedule can change\, particularly in months with national holidays\, so be sure [...]
URL:https://voiceofoc.org/event/la-habra-city-council-meeting-3-2/2025-08-04/
LOCATION:La Habra City Council Chambers\, 201 E. La Habra Blvd\, La Habra \, CA\, 90633\, United States
CATEGORIES:City Governments,La Habra
ATTACH;FMTTYPE=image/jpeg:https://voiceofoc.org/wp-content/uploads/2020/10/©JessicaRuiz_2019_La_Habra.jpg
GEO:33.9324492;-117.9447637
X-APPLE-STRUCTURED-LOCATION;VALUE=URI;X-ADDRESS=La Habra City Council Chambers 201 E. La Habra Blvd La Habra  CA 90633 United States;X-APPLE-RADIUS=500;X-TITLE=201 E. La Habra Blvd:geo:-117.9447637,33.9324492
END:VEVENT
BEGIN:VEVENT
DTSTART;TZID=America/Los_Angeles:20250805T180000
DTEND;TZID=America/Los_Angeles:20250805T200000
DTSTAMP:20260423T234221
CREATED:20210316T013032Z
LAST-MODIFIED:20260105T173544Z
UID:10024608-1754416800-1754424000@voiceofoc.org
SUMMARY:Costa Mesa City Council Meeting
DESCRIPTION:The San Clemente City Council generally meets on the first and third Tuesdays of each month. This meeting schedule can change\, particularly in months with national holidays\, so be sure [...]
URL:https://voiceofoc.org/event/costa-mesa-city-council-meeting-2-2/2025-08-05/
LOCATION:Costa Mesa City Council Chambers\, City Hall\, 77 Fair Drive\, Cost Mesa\, CA\, United States
CATEGORIES:City Governments,Costa Mesa
ATTACH;FMTTYPE=image/jpeg:https://voiceofoc.org/wp-content/uploads/2020/04/CostaMesaCityHallEDIT1.jpg
GEO:33.6631441;-117.9029272
X-APPLE-STRUCTURED-LOCATION;VALUE=URI;X-ADDRESS=Costa Mesa City Council Chambers City Hall 77 Fair Drive Cost Mesa CA United States;X-APPLE-RADIUS=500;X-TITLE=City Hall\, 77 Fair Drive:geo:-117.9029272,33.6631441
END:VEVENT
BEGIN:VEVENT
DTSTART;TZID=America/Los_Angeles:20250805T190000
DTEND;TZID=America/Los_Angeles:20250805T200000
DTSTAMP:20260423T234221
CREATED:20200909T231018Z
LAST-MODIFIED:20260105T173907Z
UID:10023027-1754420400-1754424000@voiceofoc.org
SUMMARY:La Palma City Council Meeting
DESCRIPTION:The San Clemente City Council generally meets on the first and third Tuesdays of each month. This meeting schedule can change\, particularly in months with national holidays\, so be sure [...]
URL:https://voiceofoc.org/event/la-palma-city-council-meeting-2/2025-08-05/
LOCATION:La Palma City Council Chambers\, 7822 Walker Street\, La Palma\, CA\, United States
CATEGORIES:City Governments,La Palma
ATTACH;FMTTYPE=image/png:https://voiceofoc.org/wp-content/uploads/2020/09/La_Palma-15.png
GEO:33.8489493;-118.0364761
X-APPLE-STRUCTURED-LOCATION;VALUE=URI;X-ADDRESS=La Palma City Council Chambers 7822 Walker Street La Palma CA United States;X-APPLE-RADIUS=500;X-TITLE=7822 Walker Street:geo:-118.0364761,33.8489493
END:VEVENT
BEGIN:VEVENT
DTSTART;TZID=America/Los_Angeles:20250805T190000
DTEND;TZID=America/Los_Angeles:20250805T210000
DTSTAMP:20260423T234221
CREATED:20210316T020132Z
LAST-MODIFIED:20260105T174258Z
UID:10024800-1754420400-1754427600@voiceofoc.org
SUMMARY:Brea City Council Meeting
DESCRIPTION:The San Clemente City Council generally meets on the first and third Tuesdays of each month. This meeting schedule can change\, particularly in months with national holidays\, so be sure [...]
URL:https://voiceofoc.org/event/brea-city-council-meeting-2-2/2025-08-05/
LOCATION:Brea Civic & Cultural Center\, City Council Chambers\, 1 Civic Center Circle\, Brea\, CA\, United States
CATEGORIES:Brea,City Governments
ATTACH;FMTTYPE=image/jpeg:https://voiceofoc.org/wp-content/uploads/2021/02/©JessicaRuiz_2019-2_Brea.jpg
GEO:33.9170664;-117.8889229
X-APPLE-STRUCTURED-LOCATION;VALUE=URI;X-ADDRESS=Brea Civic & Cultural Center City Council Chambers 1 Civic Center Circle Brea CA United States;X-APPLE-RADIUS=500;X-TITLE=1 Civic Center Circle:geo:-117.8889229,33.9170664
END:VEVENT
BEGIN:VEVENT
DTSTART;TZID=America/Los_Angeles:20250805T190000
DTEND;TZID=America/Los_Angeles:20250805T210000
DTSTAMP:20260423T234221
CREATED:20210316T020305Z
LAST-MODIFIED:20260105T174557Z
UID:10024864-1754420400-1754427600@voiceofoc.org
SUMMARY:Laguna Niguel City Council Meeting
DESCRIPTION:The San Clemente City Council generally meets on the first and third Tuesdays of each month. This meeting schedule can change\, particularly in months with national holidays\, so be sure [...]
URL:https://voiceofoc.org/event/laguna-niguel-city-council-meeting-3-2/2025-08-05/
LOCATION:Laguna Niguel City Council Chambers\, 30111 Crown Valley Parkway\, Laguna Niguel \, CA\, United States
CATEGORIES:City Governments,Laguna Niguel
ATTACH;FMTTYPE=image/jpeg:https://voiceofoc.org/wp-content/uploads/2019/11/LagunaNiguel3EDIT.jpg
GEO:33.5235229;-117.7156197
X-APPLE-STRUCTURED-LOCATION;VALUE=URI;X-ADDRESS=Laguna Niguel City Council Chambers 30111 Crown Valley Parkway Laguna Niguel  CA United States;X-APPLE-RADIUS=500;X-TITLE=30111 Crown Valley Parkway:geo:-117.7156197,33.5235229
END:VEVENT
BEGIN:VEVENT
DTSTART;TZID=America/Los_Angeles:20250805T190000
DTEND;TZID=America/Los_Angeles:20250805T210000
DTSTAMP:20260423T234221
CREATED:20241007T225003Z
LAST-MODIFIED:20260105T174821Z
UID:10024219-1754420400-1754427600@voiceofoc.org
SUMMARY:Tustin City Council Meeting
DESCRIPTION:The San Clemente City Council generally meets on the first and third Tuesdays of each month. This meeting schedule can change\, particularly in months with national holidays\, so be sure [...]
URL:https://voiceofoc.org/event/tustin-city-council-meeting-2-2/2025-08-05/
LOCATION:Tustin City Council Chambers\,  300 Centennial Way\, Tustin\, CA\, United States
CATEGORIES:City Governments,Tustin
ATTACH;FMTTYPE=image/jpeg:https://voiceofoc.org/wp-content/uploads/2021/03/TustinCityHall1EDIT.jpg
GEO:33.7432553;-117.8195113
X-APPLE-STRUCTURED-LOCATION;VALUE=URI;X-ADDRESS=Tustin City Council Chambers  300 Centennial Way Tustin CA United States;X-APPLE-RADIUS=500;X-TITLE=300 Centennial Way:geo:-117.8195113,33.7432553
END:VEVENT
BEGIN:VEVENT
DTSTART;TZID=America/Los_Angeles:20250806T190000
DTEND;TZID=America/Los_Angeles:20250806T210000
DTSTAMP:20260423T234221
CREATED:20210317T013510Z
LAST-MODIFIED:20260105T175709Z
UID:10025071-1754506800-1754514000@voiceofoc.org
SUMMARY:Aliso Viejo City Council Meeting
DESCRIPTION:The San Clemente City Council generally meets on the first and third Tuesdays of each month. This meeting schedule can change\, particularly in months with national holidays\, so be sure [...]
URL:https://voiceofoc.org/event/aliso-viejo-city-council-meeting-2-2/2025-08-06/
LOCATION:Aliso Viejo City Council Meeting\, 12 Journey\, Suite 100\, Aliso Viejo \, CA\, 92656\, United States
CATEGORIES:Aliso Viejo,City Governments
ATTACH;FMTTYPE=image/jpeg:https://voiceofoc.org/wp-content/uploads/2021/05/©JessicaRuiz_2019-13_Aliso_Viejo.jpg
GEO:33.5680203;-117.7276699
X-APPLE-STRUCTURED-LOCATION;VALUE=URI;X-ADDRESS=Aliso Viejo City Council Meeting 12 Journey Suite 100 Aliso Viejo  CA 92656 United States;X-APPLE-RADIUS=500;X-TITLE=12 Journey\, Suite 100:geo:-117.7276699,33.5680203
END:VEVENT
BEGIN:VEVENT
DTSTART;VALUE=DATE:20250809
DTEND;VALUE=DATE:20250810
DTSTAMP:20260423T234221
CREATED:20230627T221837Z
LAST-MODIFIED:20230712T033255Z
UID:10025400-1754697600-1754783999@voiceofoc.org
SUMMARY:Library of the Canyons: Craft Day All Day
DESCRIPTION:The San Clemente City Council generally meets on the first and third Tuesdays of each month. This meeting schedule can change\, particularly in months with national holidays\, so be sure [...]
URL:https://voiceofoc.org/event/oc-libraries-craft-day-all-day/2025-08-09/
LOCATION:Library of the Canyons\, 7531 Santiago Canyon Road\, Silverado\, CA\, 92676\, United States
GEO:33.7434605;-117.6676395
X-APPLE-STRUCTURED-LOCATION;VALUE=URI;X-ADDRESS=Library of the Canyons 7531 Santiago Canyon Road Silverado CA 92676 United States;X-APPLE-RADIUS=500;X-TITLE=7531 Santiago Canyon Road:geo:-117.6676395,33.7434605
END:VEVENT
BEGIN:VEVENT
DTSTART;TZID=America/Los_Angeles:20250809T093000
DTEND;TZID=America/Los_Angeles:20250809T100000
DTSTAMP:20260423T234221
CREATED:20230627T214939Z
LAST-MODIFIED:20230712T033649Z
UID:10025251-1754731800-1754733600@voiceofoc.org
SUMMARY:Garden Grove Tibor Rubin Library: Books for Breakfast Storytime
DESCRIPTION:The San Clemente City Council generally meets on the first and third Tuesdays of each month. This meeting schedule can change\, particularly in months with national holidays\, so be sure [...]
URL:https://voiceofoc.org/event/oc-libraries-books-for-breakfast-storytime/2025-08-09/
LOCATION:Garden Grove Tibor Rubin Library\, 11962 Bailey St\, Garden Grove\, 92845\, United States
GEO:33.7888362;-118.0320158
X-APPLE-STRUCTURED-LOCATION;VALUE=URI;X-ADDRESS=Garden Grove Tibor Rubin Library 11962 Bailey St Garden Grove 92845 United States;X-APPLE-RADIUS=500;X-TITLE=11962 Bailey St:geo:-118.0320158,33.7888362
END:VEVENT
BEGIN:VEVENT
DTSTART;TZID=America/Los_Angeles:20250809T103000
DTEND;TZID=America/Los_Angeles:20250809T113000
DTSTAMP:20260423T234221
CREATED:20230628T043816Z
LAST-MODIFIED:20230712T034217Z
UID:10022277-1754735400-1754739000@voiceofoc.org
SUMMARY:Westminster Library: Family Storytime
DESCRIPTION:The San Clemente City Council generally meets on the first and third Tuesdays of each month. This meeting schedule can change\, particularly in months with national holidays\, so be sure [...]
URL:https://voiceofoc.org/event/oc-libraries-family-storytime-2/2025-08-09/
LOCATION:Westminster Library\, 8180 13th Street\, Westminster\, CA\, 92683\, United States
GEO:33.7552005;-117.9864956
X-APPLE-STRUCTURED-LOCATION;VALUE=URI;X-ADDRESS=Westminster Library 8180 13th Street Westminster CA 92683 United States;X-APPLE-RADIUS=500;X-TITLE=8180 13th Street:geo:-117.9864956,33.7552005
END:VEVENT
BEGIN:VEVENT
DTSTART;TZID=America/Los_Angeles:20250809T103000
DTEND;TZID=America/Los_Angeles:20250809T120000
DTSTAMP:20260423T234221
CREATED:20230628T043144Z
LAST-MODIFIED:20230712T034723Z
UID:10022146-1754735400-1754740800@voiceofoc.org
SUMMARY:San Clemente Library: Sensory Playtime
DESCRIPTION:The San Clemente City Council generally meets on the first and third Tuesdays of each month. This meeting schedule can change\, particularly in months with national holidays\, so be sure [...]
URL:https://voiceofoc.org/event/oc-libraries-sensory-playtime/2025-08-09/
LOCATION:San Clemente Library\, 242 Avenida Del Mar\, San Clemente\, CA\, 92672\, United States
GEO:33.4247522;-117.6171323
X-APPLE-STRUCTURED-LOCATION;VALUE=URI;X-ADDRESS=San Clemente Library 242 Avenida Del Mar San Clemente CA 92672 United States;X-APPLE-RADIUS=500;X-TITLE=242 Avenida Del Mar:geo:-117.6171323,33.4247522
END:VEVENT
BEGIN:VEVENT
DTSTART;TZID=America/Los_Angeles:20250809T110000
DTEND;TZID=America/Los_Angeles:20250809T120000
DTSTAMP:20260423T234221
CREATED:20230628T045541Z
LAST-MODIFIED:20230712T034101Z
UID:10022678-1754737200-1754740800@voiceofoc.org
SUMMARY:Mesa Verde Library: Family Storytime
DESCRIPTION:The San Clemente City Council generally meets on the first and third Tuesdays of each month. This meeting schedule can change\, particularly in months with national holidays\, so be sure [...]
URL:https://voiceofoc.org/event/oc-libraries-family-storytime-3/2025-08-09/
LOCATION:Mesa Verde Library\, 2969 Mesa Verde Dr E\, Costa Mesa\, CA\, 92626\, United States
GEO:33.6792;-117.9274403
X-APPLE-STRUCTURED-LOCATION;VALUE=URI;X-ADDRESS=Mesa Verde Library 2969 Mesa Verde Dr E Costa Mesa CA 92626 United States;X-APPLE-RADIUS=500;X-TITLE=2969 Mesa Verde Dr E:geo:-117.9274403,33.6792
END:VEVENT
BEGIN:VEVENT
DTSTART;TZID=America/Los_Angeles:20250809T110000
DTEND;TZID=America/Los_Angeles:20250809T120000
DTSTAMP:20260423T234221
CREATED:20230628T210002Z
LAST-MODIFIED:20230712T035028Z
UID:10025563-1754737200-1754740800@voiceofoc.org
SUMMARY:Laguna Niguel Library: Toddler Play & Learn
DESCRIPTION:The San Clemente City Council generally meets on the first and third Tuesdays of each month. This meeting schedule can change\, particularly in months with national holidays\, so be sure [...]
URL:https://voiceofoc.org/event/oc-libraries-toddler-play-learn/2025-08-09/
LOCATION:Laguna Niguel Library\, 30341 Crown Valley Pkwy\, Laguna Niguel\, CA\, 92677\, United States
GEO:33.5225257;-117.7169449
X-APPLE-STRUCTURED-LOCATION;VALUE=URI;X-ADDRESS=Laguna Niguel Library 30341 Crown Valley Pkwy Laguna Niguel CA 92677 United States;X-APPLE-RADIUS=500;X-TITLE=30341 Crown Valley Pkwy:geo:-117.7169449,33.5225257
END:VEVENT
BEGIN:VEVENT
DTSTART;TZID=America/Los_Angeles:20250809T110000
DTEND;TZID=America/Los_Angeles:20250809T120000
DTSTAMP:20260423T234221
CREATED:20230629T004740Z
LAST-MODIFIED:20230712T033924Z
UID:10025710-1754737200-1754740800@voiceofoc.org
SUMMARY:Brea Library: Family Storytime
DESCRIPTION:The San Clemente City Council generally meets on the first and third Tuesdays of each month. This meeting schedule can change\, particularly in months with national holidays\, so be sure [...]
URL:https://voiceofoc.org/event/oc-libraries-family-storytime-4/2025-08-09/
LOCATION:Brea Library\, 1 Civic Center Circle\, Brea\, CA\, 92821\, United States
GEO:33.9170664;-117.8889229
X-APPLE-STRUCTURED-LOCATION;VALUE=URI;X-ADDRESS=Brea Library 1 Civic Center Circle Brea CA 92821 United States;X-APPLE-RADIUS=500;X-TITLE=1 Civic Center Circle:geo:-117.8889229,33.9170664
END:VEVENT
END:VCALENDAR