BEGIN:VCALENDAR
VERSION:2.0
PRODID:-//Voice of OC - ECPv6.15.20//NONSGML v1.0//EN
CALSCALE:GREGORIAN
METHOD:PUBLISH
X-WR-CALNAME:Voice of OC
X-ORIGINAL-URL:https://voiceofoc.org
X-WR-CALDESC:Events for Voice of OC
REFRESH-INTERVAL;VALUE=DURATION:PT1H
X-Robots-Tag:noindex
X-PUBLISHED-TTL:PT1H
BEGIN:VTIMEZONE
TZID:America/Los_Angeles
BEGIN:DAYLIGHT
TZOFFSETFROM:-0800
TZOFFSETTO:-0700
TZNAME:PDT
DTSTART:20250309T100000
END:DAYLIGHT
BEGIN:STANDARD
TZOFFSETFROM:-0700
TZOFFSETTO:-0800
TZNAME:PST
DTSTART:20251102T090000
END:STANDARD
BEGIN:DAYLIGHT
TZOFFSETFROM:-0800
TZOFFSETTO:-0700
TZNAME:PDT
DTSTART:20260308T100000
END:DAYLIGHT
BEGIN:STANDARD
TZOFFSETFROM:-0700
TZOFFSETTO:-0800
TZNAME:PST
DTSTART:20261101T090000
END:STANDARD
BEGIN:DAYLIGHT
TZOFFSETFROM:-0800
TZOFFSETTO:-0700
TZNAME:PDT
DTSTART:20270314T100000
END:DAYLIGHT
BEGIN:STANDARD
TZOFFSETFROM:-0700
TZOFFSETTO:-0800
TZNAME:PST
DTSTART:20271107T090000
END:STANDARD
END:VTIMEZONE
BEGIN:VEVENT
DTSTART;TZID=America/Los_Angeles:20260106T183000
DTEND;TZID=America/Los_Angeles:20260106T203000
DTSTAMP:20260423T132901
CREATED:20260105T174951Z
LAST-MODIFIED:20260105T174952Z
UID:10028624-1767724200-1767731400@voiceofoc.org
SUMMARY:Lake Forest City Council Meeting
DESCRIPTION:The San Clemente City Council generally meets on the first and third Tuesdays of each month. This meeting schedule can change\, particularly in months with national holidays\, so be sure to check the status of a meeting at the agenda link below. Make sure to check the agency's website also for the latest protocols on [...]
URL:https://voiceofoc.org/event/lake-forest-city-council-meeting-3-2-2/2026-01-06/
LOCATION:Lake Forest City Council Chambers\, 25550 Commercentre Drive\, Lake Forest \, CA\, United States
CATEGORIES:City Governments,Lake Forest
ATTACH;FMTTYPE=image/png:https://voiceofoc.org/wp-content/uploads/2020/10/©JessicaRuiz_2019_Lake_Forest-8EDIT.png
GEO:33.6637413;-117.6845166
X-APPLE-STRUCTURED-LOCATION;VALUE=URI;X-ADDRESS=Lake Forest City Council Chambers 25550 Commercentre Drive Lake Forest  CA United States;X-APPLE-RADIUS=500;X-TITLE=25550 Commercentre Drive:geo:-117.6845166,33.6637413
END:VEVENT
BEGIN:VEVENT
DTSTART;VALUE=DATE:20260110
DTEND;VALUE=DATE:20260111
DTSTAMP:20260423T132901
CREATED:20230627T221837Z
LAST-MODIFIED:20230712T033255Z
UID:10025422-1768003200-1768089599@voiceofoc.org
SUMMARY:Library of the Canyons: Craft Day All Day
DESCRIPTION:The San Clemente City Council generally meets on the first and third Tuesdays of each month. This meeting schedule can change\, particularly in months with national holidays\, so be sure to check the status of a meeting at the agenda link below. Make sure to check the agency's website also for the latest protocols on [...]
URL:https://voiceofoc.org/event/oc-libraries-craft-day-all-day/2026-01-10/
LOCATION:Library of the Canyons\, 7531 Santiago Canyon Road\, Silverado\, CA\, 92676\, United States
GEO:33.7434605;-117.6676395
X-APPLE-STRUCTURED-LOCATION;VALUE=URI;X-ADDRESS=Library of the Canyons 7531 Santiago Canyon Road Silverado CA 92676 United States;X-APPLE-RADIUS=500;X-TITLE=7531 Santiago Canyon Road:geo:-117.6676395,33.7434605
END:VEVENT
BEGIN:VEVENT
DTSTART;TZID=America/Los_Angeles:20260110T093000
DTEND;TZID=America/Los_Angeles:20260110T100000
DTSTAMP:20260423T132901
CREATED:20230627T214939Z
LAST-MODIFIED:20230712T033649Z
UID:10025273-1768037400-1768039200@voiceofoc.org
SUMMARY:Garden Grove Tibor Rubin Library: Books for Breakfast Storytime
DESCRIPTION:The San Clemente City Council generally meets on the first and third Tuesdays of each month. This meeting schedule can change\, particularly in months with national holidays\, so be sure to check the status of a meeting at the agenda link below. Make sure to check the agency's website also for the latest protocols on [...]
URL:https://voiceofoc.org/event/oc-libraries-books-for-breakfast-storytime/2026-01-10/
LOCATION:Garden Grove Tibor Rubin Library\, 11962 Bailey St\, Garden Grove\, 92845\, United States
GEO:33.7888362;-118.0320158
X-APPLE-STRUCTURED-LOCATION;VALUE=URI;X-ADDRESS=Garden Grove Tibor Rubin Library 11962 Bailey St Garden Grove 92845 United States;X-APPLE-RADIUS=500;X-TITLE=11962 Bailey St:geo:-118.0320158,33.7888362
END:VEVENT
BEGIN:VEVENT
DTSTART;TZID=America/Los_Angeles:20260110T103000
DTEND;TZID=America/Los_Angeles:20260110T113000
DTSTAMP:20260423T132901
CREATED:20230628T043816Z
LAST-MODIFIED:20230712T034217Z
UID:10022299-1768041000-1768044600@voiceofoc.org
SUMMARY:Westminster Library: Family Storytime
DESCRIPTION:The San Clemente City Council generally meets on the first and third Tuesdays of each month. This meeting schedule can change\, particularly in months with national holidays\, so be sure to check the status of a meeting at the agenda link below. Make sure to check the agency's website also for the latest protocols on [...]
URL:https://voiceofoc.org/event/oc-libraries-family-storytime-2/2026-01-10/
LOCATION:Westminster Library\, 8180 13th Street\, Westminster\, CA\, 92683\, United States
GEO:33.7552005;-117.9864956
X-APPLE-STRUCTURED-LOCATION;VALUE=URI;X-ADDRESS=Westminster Library 8180 13th Street Westminster CA 92683 United States;X-APPLE-RADIUS=500;X-TITLE=8180 13th Street:geo:-117.9864956,33.7552005
END:VEVENT
BEGIN:VEVENT
DTSTART;TZID=America/Los_Angeles:20260110T103000
DTEND;TZID=America/Los_Angeles:20260110T120000
DTSTAMP:20260423T132901
CREATED:20230628T043144Z
LAST-MODIFIED:20230712T034723Z
UID:10022168-1768041000-1768046400@voiceofoc.org
SUMMARY:San Clemente Library: Sensory Playtime
DESCRIPTION:The San Clemente City Council generally meets on the first and third Tuesdays of each month. This meeting schedule can change\, particularly in months with national holidays\, so be sure to check the status of a meeting at the agenda link below. Make sure to check the agency's website also for the latest protocols on [...]
URL:https://voiceofoc.org/event/oc-libraries-sensory-playtime/2026-01-10/
LOCATION:San Clemente Library\, 242 Avenida Del Mar\, San Clemente\, CA\, 92672\, United States
GEO:33.4247522;-117.6171323
X-APPLE-STRUCTURED-LOCATION;VALUE=URI;X-ADDRESS=San Clemente Library 242 Avenida Del Mar San Clemente CA 92672 United States;X-APPLE-RADIUS=500;X-TITLE=242 Avenida Del Mar:geo:-117.6171323,33.4247522
END:VEVENT
BEGIN:VEVENT
DTSTART;TZID=America/Los_Angeles:20260110T110000
DTEND;TZID=America/Los_Angeles:20260110T120000
DTSTAMP:20260423T132901
CREATED:20230628T045541Z
LAST-MODIFIED:20230712T034101Z
UID:10022700-1768042800-1768046400@voiceofoc.org
SUMMARY:Mesa Verde Library: Family Storytime
DESCRIPTION:The San Clemente City Council generally meets on the first and third Tuesdays of each month. This meeting schedule can change\, particularly in months with national holidays\, so be sure to check the status of a meeting at the agenda link below. Make sure to check the agency's website also for the latest protocols on [...]
URL:https://voiceofoc.org/event/oc-libraries-family-storytime-3/2026-01-10/
LOCATION:Mesa Verde Library\, 2969 Mesa Verde Dr E\, Costa Mesa\, CA\, 92626\, United States
GEO:33.6792;-117.9274403
X-APPLE-STRUCTURED-LOCATION;VALUE=URI;X-ADDRESS=Mesa Verde Library 2969 Mesa Verde Dr E Costa Mesa CA 92626 United States;X-APPLE-RADIUS=500;X-TITLE=2969 Mesa Verde Dr E:geo:-117.9274403,33.6792
END:VEVENT
BEGIN:VEVENT
DTSTART;TZID=America/Los_Angeles:20260110T110000
DTEND;TZID=America/Los_Angeles:20260110T120000
DTSTAMP:20260423T132901
CREATED:20230628T210002Z
LAST-MODIFIED:20230712T035028Z
UID:10025585-1768042800-1768046400@voiceofoc.org
SUMMARY:Laguna Niguel Library: Toddler Play & Learn
DESCRIPTION:The San Clemente City Council generally meets on the first and third Tuesdays of each month. This meeting schedule can change\, particularly in months with national holidays\, so be sure to check the status of a meeting at the agenda link below. Make sure to check the agency's website also for the latest protocols on [...]
URL:https://voiceofoc.org/event/oc-libraries-toddler-play-learn/2026-01-10/
LOCATION:Laguna Niguel Library\, 30341 Crown Valley Pkwy\, Laguna Niguel\, CA\, 92677\, United States
GEO:33.5225257;-117.7169449
X-APPLE-STRUCTURED-LOCATION;VALUE=URI;X-ADDRESS=Laguna Niguel Library 30341 Crown Valley Pkwy Laguna Niguel CA 92677 United States;X-APPLE-RADIUS=500;X-TITLE=30341 Crown Valley Pkwy:geo:-117.7169449,33.5225257
END:VEVENT
BEGIN:VEVENT
DTSTART;TZID=America/Los_Angeles:20260110T110000
DTEND;TZID=America/Los_Angeles:20260110T120000
DTSTAMP:20260423T132901
CREATED:20230629T004740Z
LAST-MODIFIED:20230712T033924Z
UID:10025732-1768042800-1768046400@voiceofoc.org
SUMMARY:Brea Library: Family Storytime
DESCRIPTION:The San Clemente City Council generally meets on the first and third Tuesdays of each month. This meeting schedule can change\, particularly in months with national holidays\, so be sure to check the status of a meeting at the agenda link below. Make sure to check the agency's website also for the latest protocols on [...]
URL:https://voiceofoc.org/event/oc-libraries-family-storytime-4/2026-01-10/
LOCATION:Brea Library\, 1 Civic Center Circle\, Brea\, CA\, 92821\, United States
GEO:33.9170664;-117.8889229
X-APPLE-STRUCTURED-LOCATION;VALUE=URI;X-ADDRESS=Brea Library 1 Civic Center Circle Brea CA 92821 United States;X-APPLE-RADIUS=500;X-TITLE=1 Civic Center Circle:geo:-117.8889229,33.9170664
END:VEVENT
BEGIN:VEVENT
DTSTART;TZID=America/Los_Angeles:20260110T140000
DTEND;TZID=America/Los_Angeles:20260110T160000
DTSTAMP:20260423T132901
CREATED:20230629T010914Z
LAST-MODIFIED:20230712T040441Z
UID:10025775-1768053600-1768060800@voiceofoc.org
SUMMARY:Rancho Santa Margarita Library: Game On
DESCRIPTION:The San Clemente City Council generally meets on the first and third Tuesdays of each month. This meeting schedule can change\, particularly in months with national holidays\, so be sure to check the status of a meeting at the agenda link below. Make sure to check the agency's website also for the latest protocols on [...]
URL:https://voiceofoc.org/event/oc-libraries-game-on/2026-01-10/
LOCATION:Rancho Santa Margarita Library\, 30902 La Promesa\, Rancho Santa Margarita\, CA\, 92688\, United States
GEO:33.6406199;-117.5924138
X-APPLE-STRUCTURED-LOCATION;VALUE=URI;X-ADDRESS=Rancho Santa Margarita Library 30902 La Promesa Rancho Santa Margarita CA 92688 United States;X-APPLE-RADIUS=500;X-TITLE=30902 La Promesa:geo:-117.5924138,33.6406199
END:VEVENT
BEGIN:VEVENT
DTSTART;TZID=America/Los_Angeles:20260110T140000
DTEND;TZID=America/Los_Angeles:20260110T170000
DTSTAMP:20260423T132901
CREATED:20230629T010340Z
LAST-MODIFIED:20230712T035430Z
UID:10025908-1768053600-1768064400@voiceofoc.org
SUMMARY:La Palma Library: Family Movie Afternoons
DESCRIPTION:The San Clemente City Council generally meets on the first and third Tuesdays of each month. This meeting schedule can change\, particularly in months with national holidays\, so be sure to check the status of a meeting at the agenda link below. Make sure to check the agency's website also for the latest protocols on [...]
URL:https://voiceofoc.org/event/oc-libraries-family-movie-afternoons/2026-01-10/
LOCATION:La Palma Library\, 7842 Walker St.\, La Palma\, CA\, 90623\, United States
GEO:33.8486268;-118.0368658
X-APPLE-STRUCTURED-LOCATION;VALUE=URI;X-ADDRESS=La Palma Library 7842 Walker St. La Palma CA 90623 United States;X-APPLE-RADIUS=500;X-TITLE=7842 Walker St.:geo:-118.0368658,33.8486268
END:VEVENT
END:VCALENDAR