BEGIN:VCALENDAR
VERSION:2.0
PRODID:-//Voice of OC - ECPv6.15.20//NONSGML v1.0//EN
CALSCALE:GREGORIAN
METHOD:PUBLISH
X-WR-CALNAME:Voice of OC
X-ORIGINAL-URL:https://voiceofoc.org
X-WR-CALDESC:Events for Voice of OC
REFRESH-INTERVAL;VALUE=DURATION:PT1H
X-Robots-Tag:noindex
X-PUBLISHED-TTL:PT1H
BEGIN:VTIMEZONE
TZID:America/Los_Angeles
BEGIN:DAYLIGHT
TZOFFSETFROM:-0800
TZOFFSETTO:-0700
TZNAME:PDT
DTSTART:20220313T100000
END:DAYLIGHT
BEGIN:STANDARD
TZOFFSETFROM:-0700
TZOFFSETTO:-0800
TZNAME:PST
DTSTART:20221106T090000
END:STANDARD
BEGIN:DAYLIGHT
TZOFFSETFROM:-0800
TZOFFSETTO:-0700
TZNAME:PDT
DTSTART:20230312T100000
END:DAYLIGHT
BEGIN:STANDARD
TZOFFSETFROM:-0700
TZOFFSETTO:-0800
TZNAME:PST
DTSTART:20231105T090000
END:STANDARD
BEGIN:DAYLIGHT
TZOFFSETFROM:-0800
TZOFFSETTO:-0700
TZNAME:PDT
DTSTART:20240310T100000
END:DAYLIGHT
BEGIN:STANDARD
TZOFFSETFROM:-0700
TZOFFSETTO:-0800
TZNAME:PST
DTSTART:20241103T090000
END:STANDARD
END:VTIMEZONE
BEGIN:VEVENT
DTSTART;TZID=America/Los_Angeles:20230817T180000
DTEND;TZID=America/Los_Angeles:20230817T200000
DTSTAMP:20260419T175823
CREATED:20230627T052957Z
LAST-MODIFIED:20240716T000534Z
UID:10021130-1692295200-1692302400@voiceofoc.org
SUMMARY:Magnolia School District Board Meeting
DESCRIPTION:The Magnolia School District Board generally meets on scheduled Thursdays each month. \nThis meeting schedule can change\, particularly in months with national holidays\, so be sure to check the status of a meeting at the agenda link below. Make sure to check the agency’s website also for the latest protocols on in-person and/or virtual attendance. \nLATEST AGENDAS & MINUTES: CLICK HERE \nMEETING TIME: The board’s regular meeting typically begins at 6 p.m. If there are any closed session items\, that portion of the meeting usually begins at 5 p.m. \nMEETING LOCATION: Magnolia School District Board Room\, 2705 West Orange Avenue\nAnaheim\, California\, 92804. Residents can view the meeting by live stream through the Zoom link found on the corresponding meetings’ agenda. \nPUBLIC COMMENT: Members of the public to can address the board in person on matters both on and off the agenda. Speakers are requested to limit their comments to three minutes. Zoom participants can also give public comments by using the “raise hand” feature on the webinar. \nCURRENT OFFICIALS: Click here to see and contact the current members. \n\n\n	Related
URL:https://voiceofoc.org/event/magnolia-school-district-board-meeting/2023-08-17/
LOCATION:2705 West Orange Avenue Anaheim\, California\, 92804\, 2705 West Orange Avenue\, Anaheim\, CA\, 92804\, United States
ATTACH;FMTTYPE=image/jpeg:https://voiceofoc.org/wp-content/uploads/2023/06/HCO_0170.jpg
GEO:33.8256901;-117.9796076
X-APPLE-STRUCTURED-LOCATION;VALUE=URI;X-ADDRESS=DESCRIPTION:The Magnolia School District Board generally meets on scheduled Thursdays each month. \nThis meeting schedule can change particularly in months with national holidays so be sure to check the status of a meeting at the agenda link below. Make sure to check the agency’s website also for the latest protocols on in-person and/or virtual attendance. \nLATEST AGENDAS & MINUTES: CLICK HERE \nMEETING TIME: The board’s regular meeting typically begins at 6 p.m. If there are any closed session items that portion of the meeting usually begins at 5 p.m. \nMEETING  Magnolia School District Board Room 2705 West Orange Avenue\nAnaheim California 92804. Residents can view the meeting by live stream through the Zoom link found on the corresponding meetings’ agenda. \nPUBLIC COMMENT: Members of the public to can address the board in person on matters both on and off the agenda. Speakers are requested to limit their comments to three minutes. Zoom participants can also give public comments by using the “raise hand” feature on the webinar. \nCURRENT OFFICIALS: Click here to see and contact the current members. \n\n\n	Related;X-APPLE-RADIUS=500;X-TITLE=2705 West Orange Avenue:geo:-117.9796076,33.8256901
END:VEVENT
BEGIN:VEVENT
DTSTART;TZID=America/Los_Angeles:20230706T180000
DTEND;TZID=America/Los_Angeles:20230706T200000
DTSTAMP:20260419T175823
CREATED:20230627T052957Z
LAST-MODIFIED:20240716T000534Z
UID:10021129-1688666400-1688673600@voiceofoc.org
SUMMARY:Magnolia School District Board Meeting
DESCRIPTION:The Magnolia School District Board generally meets on scheduled Thursdays each month. \nThis meeting schedule can change\, particularly in months with national holidays\, so be sure to check the status of a meeting at the agenda link below. Make sure to check the agency’s website also for the latest protocols on in-person and/or virtual attendance. \nLATEST AGENDAS & MINUTES: CLICK HERE \nMEETING TIME: The board’s regular meeting typically begins at 6 p.m. If there are any closed session items\, that portion of the meeting usually begins at 5 p.m. \nMEETING LOCATION: Magnolia School District Board Room\, 2705 West Orange Avenue\nAnaheim\, California\, 92804. Residents can view the meeting by live stream through the Zoom link found on the corresponding meetings’ agenda. \nPUBLIC COMMENT: Members of the public to can address the board in person on matters both on and off the agenda. Speakers are requested to limit their comments to three minutes. Zoom participants can also give public comments by using the “raise hand” feature on the webinar. \nCURRENT OFFICIALS: Click here to see and contact the current members. \n\n\n	Related
URL:https://voiceofoc.org/event/magnolia-school-district-board-meeting/2023-07-06/
LOCATION:2705 West Orange Avenue Anaheim\, California\, 92804\, 2705 West Orange Avenue\, Anaheim\, CA\, 92804\, United States
ATTACH;FMTTYPE=image/jpeg:https://voiceofoc.org/wp-content/uploads/2023/06/HCO_0170.jpg
GEO:33.8256901;-117.9796076
X-APPLE-STRUCTURED-LOCATION;VALUE=URI;X-ADDRESS=DESCRIPTION:The Magnolia School District Board generally meets on scheduled Thursdays each month. \nThis meeting schedule can change particularly in months with national holidays so be sure to check the status of a meeting at the agenda link below. Make sure to check the agency’s website also for the latest protocols on in-person and/or virtual attendance. \nLATEST AGENDAS & MINUTES: CLICK HERE \nMEETING TIME: The board’s regular meeting typically begins at 6 p.m. If there are any closed session items that portion of the meeting usually begins at 5 p.m. \nMEETING  Magnolia School District Board Room 2705 West Orange Avenue\nAnaheim California 92804. Residents can view the meeting by live stream through the Zoom link found on the corresponding meetings’ agenda. \nPUBLIC COMMENT: Members of the public to can address the board in person on matters both on and off the agenda. Speakers are requested to limit their comments to three minutes. Zoom participants can also give public comments by using the “raise hand” feature on the webinar. \nCURRENT OFFICIALS: Click here to see and contact the current members. \n\n\n	Related;X-APPLE-RADIUS=500;X-TITLE=2705 West Orange Avenue:geo:-117.9796076,33.8256901
END:VEVENT
END:VCALENDAR