BEGIN:VCALENDAR
VERSION:2.0
PRODID:-//Voice of OC - ECPv6.15.20//NONSGML v1.0//EN
CALSCALE:GREGORIAN
METHOD:PUBLISH
X-ORIGINAL-URL:https://voiceofoc.org
X-WR-CALDESC:Events for Voice of OC
REFRESH-INTERVAL;VALUE=DURATION:PT1H
X-Robots-Tag:noindex
X-PUBLISHED-TTL:PT1H
BEGIN:VTIMEZONE
TZID:America/Los_Angeles
BEGIN:DAYLIGHT
TZOFFSETFROM:-0800
TZOFFSETTO:-0700
TZNAME:PDT
DTSTART:20220313T100000
END:DAYLIGHT
BEGIN:STANDARD
TZOFFSETFROM:-0700
TZOFFSETTO:-0800
TZNAME:PST
DTSTART:20221106T090000
END:STANDARD
BEGIN:DAYLIGHT
TZOFFSETFROM:-0800
TZOFFSETTO:-0700
TZNAME:PDT
DTSTART:20230312T100000
END:DAYLIGHT
BEGIN:STANDARD
TZOFFSETFROM:-0700
TZOFFSETTO:-0800
TZNAME:PST
DTSTART:20231105T090000
END:STANDARD
BEGIN:DAYLIGHT
TZOFFSETFROM:-0800
TZOFFSETTO:-0700
TZNAME:PDT
DTSTART:20240310T100000
END:DAYLIGHT
BEGIN:STANDARD
TZOFFSETFROM:-0700
TZOFFSETTO:-0800
TZNAME:PST
DTSTART:20241103T090000
END:STANDARD
END:VTIMEZONE
BEGIN:VEVENT
DTSTART;TZID=America/Los_Angeles:20230810T180000
DTEND;TZID=America/Los_Angeles:20230810T200000
DTSTAMP:20260419T084657
CREATED:20200930T185239Z
LAST-MODIFIED:20240715T231955Z
UID:10023958-1691690400-1691697600@voiceofoc.org
SUMMARY:Anaheim Union High School District Board Meeting
DESCRIPTION:The Anaheim Union High School District Board generally meets on scheduled Tuesdays and Thursdays each month. \nThis meeting schedule can change\, particularly in months with national holidays\, so be sure to check the status of a meeting at the agenda link below. Make sure to check the agency’s website also for the latest protocols on in-person and/or virtual attendance. \nLATEST AGENDAS AND MINUTES: CLICK HERE \nMEETING TIME: The board’s regular meeting begins at 6 p.m. If there are any closed session items\, that portion of the meeting typically begins between 3 and 4 p.m. \nMEETING LOCATION: 501 N. Crescent Way\, P.O. Box 3520 Anaheim\, California 92803-3520. Residents can view the meeting by livestream on the district’s YouTube channel. \nPUBLIC COMMENT: Speakers wishing to address the board of trustees in person should complete a speaker request form available on the information table at the back of the room and submit it to the executive assistant prior to the meeting’s start. Each speaker is limited to a maximum of five minutes\, and each topic is limited to a total of 20 minutes. \nCURRENT OFFICIALS: Click here to see and contact the current members. \n\n\n	Related
URL:https://voiceofoc.org/event/anaheim-union-high-school-district-board-meeting/2023-08-10/
LOCATION:501 N. Crescent Way\, 501 N. Crescent Way\, Anaheim\, 92803\, United States
CATEGORIES:Anaheim,Schools
ATTACH;FMTTYPE=image/jpeg:https://voiceofoc.org/wp-content/uploads/2021/05/IMG_7977.jpg
GEO:33.8371929;-117.9488811
X-APPLE-STRUCTURED-LOCATION;VALUE=URI;X-ADDRESS=DESCRIPTION:The Anaheim Union High School District Board generally meets on scheduled Tuesdays and Thursdays each month. \nThis meeting schedule can change particularly in months with national holidays so be sure to check the status of a meeting at the agenda link below. Make sure to check the agency’s website also for the latest protocols on in-person and/or virtual attendance. \nLATEST AGENDAS AND MINUTES: CLICK HERE \nMEETING TIME: The board’s regular meeting begins at 6 p.m. If there are any closed session items that portion of the meeting typically begins between 3 and 4 p.m. \nMEETING  501 N. Crescent Way P.O. Box 3520 Anaheim California 92803-3520. Residents can view the meeting by livestream on the district’s YouTube channel. \nPUBLIC COMMENT: Speakers wishing to address the board of trustees in person should complete a speaker request form available on the information table at the back of the room and submit it to the executive assistant prior to the meeting’s start. Each speaker is limited to a maximum of five minutes and each topic is limited to a total of 20 minutes. \nCURRENT OFFICIALS: Click here to see and contact the current members. \n\n\n	Related;X-APPLE-RADIUS=500;X-TITLE=501 N. Crescent Way:geo:-117.9488811,33.8371929
END:VEVENT
BEGIN:VEVENT
DTSTART;TZID=America/Los_Angeles:20230620T180000
DTEND;TZID=America/Los_Angeles:20230620T200000
DTSTAMP:20260419T084658
CREATED:20200930T185239Z
LAST-MODIFIED:20240715T231955Z
UID:10023957-1687284000-1687291200@voiceofoc.org
SUMMARY:Anaheim Union High School District Board Meeting
DESCRIPTION:The Anaheim Union High School District Board generally meets on scheduled Tuesdays and Thursdays each month. \nThis meeting schedule can change\, particularly in months with national holidays\, so be sure to check the status of a meeting at the agenda link below. Make sure to check the agency’s website also for the latest protocols on in-person and/or virtual attendance. \nLATEST AGENDAS AND MINUTES: CLICK HERE \nMEETING TIME: The board’s regular meeting begins at 6 p.m. If there are any closed session items\, that portion of the meeting typically begins between 3 and 4 p.m. \nMEETING LOCATION: 501 N. Crescent Way\, P.O. Box 3520 Anaheim\, California 92803-3520. Residents can view the meeting by livestream on the district’s YouTube channel. \nPUBLIC COMMENT: Speakers wishing to address the board of trustees in person should complete a speaker request form available on the information table at the back of the room and submit it to the executive assistant prior to the meeting’s start. Each speaker is limited to a maximum of five minutes\, and each topic is limited to a total of 20 minutes. \nCURRENT OFFICIALS: Click here to see and contact the current members. \n\n\n	Related
URL:https://voiceofoc.org/event/anaheim-union-high-school-district-board-meeting/2023-06-20/
LOCATION:501 N. Crescent Way\, 501 N. Crescent Way\, Anaheim\, 92803\, United States
CATEGORIES:Anaheim,Schools
ATTACH;FMTTYPE=image/jpeg:https://voiceofoc.org/wp-content/uploads/2021/05/IMG_7977.jpg
GEO:33.8371929;-117.9488811
X-APPLE-STRUCTURED-LOCATION;VALUE=URI;X-ADDRESS=DESCRIPTION:The Anaheim Union High School District Board generally meets on scheduled Tuesdays and Thursdays each month. \nThis meeting schedule can change particularly in months with national holidays so be sure to check the status of a meeting at the agenda link below. Make sure to check the agency’s website also for the latest protocols on in-person and/or virtual attendance. \nLATEST AGENDAS AND MINUTES: CLICK HERE \nMEETING TIME: The board’s regular meeting begins at 6 p.m. If there are any closed session items that portion of the meeting typically begins between 3 and 4 p.m. \nMEETING  501 N. Crescent Way P.O. Box 3520 Anaheim California 92803-3520. Residents can view the meeting by livestream on the district’s YouTube channel. \nPUBLIC COMMENT: Speakers wishing to address the board of trustees in person should complete a speaker request form available on the information table at the back of the room and submit it to the executive assistant prior to the meeting’s start. Each speaker is limited to a maximum of five minutes and each topic is limited to a total of 20 minutes. \nCURRENT OFFICIALS: Click here to see and contact the current members. \n\n\n	Related;X-APPLE-RADIUS=500;X-TITLE=501 N. Crescent Way:geo:-117.9488811,33.8371929
END:VEVENT
BEGIN:VEVENT
DTSTART;TZID=America/Los_Angeles:20230615T180000
DTEND;TZID=America/Los_Angeles:20230615T200000
DTSTAMP:20260419T084658
CREATED:20200930T185239Z
LAST-MODIFIED:20240715T231955Z
UID:10023956-1686852000-1686859200@voiceofoc.org
SUMMARY:Anaheim Union High School District Board Meeting
DESCRIPTION:The Anaheim Union High School District Board generally meets on scheduled Tuesdays and Thursdays each month. \nThis meeting schedule can change\, particularly in months with national holidays\, so be sure to check the status of a meeting at the agenda link below. Make sure to check the agency’s website also for the latest protocols on in-person and/or virtual attendance. \nLATEST AGENDAS AND MINUTES: CLICK HERE \nMEETING TIME: The board’s regular meeting begins at 6 p.m. If there are any closed session items\, that portion of the meeting typically begins between 3 and 4 p.m. \nMEETING LOCATION: 501 N. Crescent Way\, P.O. Box 3520 Anaheim\, California 92803-3520. Residents can view the meeting by livestream on the district’s YouTube channel. \nPUBLIC COMMENT: Speakers wishing to address the board of trustees in person should complete a speaker request form available on the information table at the back of the room and submit it to the executive assistant prior to the meeting’s start. Each speaker is limited to a maximum of five minutes\, and each topic is limited to a total of 20 minutes. \nCURRENT OFFICIALS: Click here to see and contact the current members. \n\n\n	Related
URL:https://voiceofoc.org/event/anaheim-union-high-school-district-board-meeting/2023-06-15/
LOCATION:501 N. Crescent Way\, 501 N. Crescent Way\, Anaheim\, 92803\, United States
CATEGORIES:Anaheim,Schools
ATTACH;FMTTYPE=image/jpeg:https://voiceofoc.org/wp-content/uploads/2021/05/IMG_7977.jpg
GEO:33.8371929;-117.9488811
X-APPLE-STRUCTURED-LOCATION;VALUE=URI;X-ADDRESS=DESCRIPTION:The Anaheim Union High School District Board generally meets on scheduled Tuesdays and Thursdays each month. \nThis meeting schedule can change particularly in months with national holidays so be sure to check the status of a meeting at the agenda link below. Make sure to check the agency’s website also for the latest protocols on in-person and/or virtual attendance. \nLATEST AGENDAS AND MINUTES: CLICK HERE \nMEETING TIME: The board’s regular meeting begins at 6 p.m. If there are any closed session items that portion of the meeting typically begins between 3 and 4 p.m. \nMEETING  501 N. Crescent Way P.O. Box 3520 Anaheim California 92803-3520. Residents can view the meeting by livestream on the district’s YouTube channel. \nPUBLIC COMMENT: Speakers wishing to address the board of trustees in person should complete a speaker request form available on the information table at the back of the room and submit it to the executive assistant prior to the meeting’s start. Each speaker is limited to a maximum of five minutes and each topic is limited to a total of 20 minutes. \nCURRENT OFFICIALS: Click here to see and contact the current members. \n\n\n	Related;X-APPLE-RADIUS=500;X-TITLE=501 N. Crescent Way:geo:-117.9488811,33.8371929
END:VEVENT
END:VCALENDAR