BEGIN:VCALENDAR
VERSION:2.0
PRODID:-//Voice of OC - ECPv6.15.20//NONSGML v1.0//EN
CALSCALE:GREGORIAN
METHOD:PUBLISH
X-WR-CALNAME:Voice of OC
X-ORIGINAL-URL:https://voiceofoc.org
X-WR-CALDESC:Events for Voice of OC
REFRESH-INTERVAL;VALUE=DURATION:PT1H
X-Robots-Tag:noindex
X-PUBLISHED-TTL:PT1H
BEGIN:VTIMEZONE
TZID:America/Los_Angeles
BEGIN:DAYLIGHT
TZOFFSETFROM:-0800
TZOFFSETTO:-0700
TZNAME:PDT
DTSTART:20220313T100000
END:DAYLIGHT
BEGIN:STANDARD
TZOFFSETFROM:-0700
TZOFFSETTO:-0800
TZNAME:PST
DTSTART:20221106T090000
END:STANDARD
BEGIN:DAYLIGHT
TZOFFSETFROM:-0800
TZOFFSETTO:-0700
TZNAME:PDT
DTSTART:20230312T100000
END:DAYLIGHT
BEGIN:STANDARD
TZOFFSETFROM:-0700
TZOFFSETTO:-0800
TZNAME:PST
DTSTART:20231105T090000
END:STANDARD
BEGIN:DAYLIGHT
TZOFFSETFROM:-0800
TZOFFSETTO:-0700
TZNAME:PDT
DTSTART:20240310T100000
END:DAYLIGHT
BEGIN:STANDARD
TZOFFSETFROM:-0700
TZOFFSETTO:-0800
TZNAME:PST
DTSTART:20241103T090000
END:STANDARD
END:VTIMEZONE
BEGIN:VEVENT
DTSTART;TZID=America/Los_Angeles:20230912T170000
DTEND;TZID=America/Los_Angeles:20230912T190000
DTSTAMP:20260422T024418
CREATED:20200909T193927Z
LAST-MODIFIED:20230822T004434Z
UID:10020793-1694538000-1694545200@voiceofoc.org
SUMMARY:Buena Park City Council Meeting
DESCRIPTION:The Buena Park City Council generally meets on the second and fourth Tuesday of each month. \nAgendas are available at the City Clerk’s office at City Hall 72 hours before each meeting. \nThis meeting schedule can change\, particularly in months with national holidays\, so be sure to check the status of a meeting at the agenda link below. Make sure to check the agency’s website also for the latest protocols on in-person and/or virtual attendance. \nLATEST AGENDAS AND MINUTES: CLICK HERE \nMEETING TIME: The council’s regular meeting starts at 5 p.m.\, typically following a closed session that begins at 3:30 p.m. \nMEETING LOCATION: Council Chamber\, 6650 Beach Boulevard. Watch live video streaming of BPTV Channel 3/99 and find video archives of Buena Park City Council meetings here. \nPUBLIC COMMENT: Comments are limited to no more than three minutes each and are generally held toward the beginning of the meeting. Members of the public may submit their comments in writing by sending them to the city clerk’s office at comments@buenapark.com. All comments and questions should be submitted by 4 p.m. on the day of the meeting.  \nCURRENT OFFICIALS: Click here to see and contact the current members. \n\n\n	Related
URL:https://voiceofoc.org/event/buena-park-city-council-meetings/2023-09-12/
LOCATION:Buena Park City Council Chambers\, 6650 Beach Boulevard\, Buena Park\, CA\, 90622\, United States
CATEGORIES:Buena Park,City Governments
ATTACH;FMTTYPE=image/png:https://voiceofoc.org/wp-content/uploads/2020/10/JessicaRuiz_2019-8EDIT.png
GEO:33.8639363;-117.9966338
X-APPLE-STRUCTURED-LOCATION;VALUE=URI;X-ADDRESS=DESCRIPTION:The Buena Park City Council generally meets on the second and fourth Tuesday of each month. \nAgendas are available at the City Clerk’s office at City Hall 72 hours before each meeting. \nThis meeting schedule can change particularly in months with national holidays so be sure to check the status of a meeting at the agenda link below. Make sure to check the agency’s website also for the latest protocols on in-person and/or virtual attendance. \nLATEST AGENDAS AND MINUTES: CLICK HERE \nMEETING TIME: The council’s regular meeting starts at 5 p.m. typically following a closed session that begins at 3:30 p.m. \nMEETING  Council Chamber 6650 Beach Boulevard. Watch live video streaming of BPTV Channel 3/99 and find video archives of Buena Park City Council meetings here. \nPUBLIC COMMENT: Comments are limited to no more than three minutes each and are generally held toward the beginning of the meeting. Members of the public may submit their comments in writing by sending them to the city clerk’s office at comments@buenapark.com. All comments and questions should be submitted by 4 p.m. on the day of the meeting.  \nCURRENT OFFICIALS: Click here to see and contact the current members. \n\n\n	Related;X-APPLE-RADIUS=500;X-TITLE=6650 Beach Boulevard:geo:-117.9966338,33.8639363
END:VEVENT
BEGIN:VEVENT
DTSTART;TZID=America/Los_Angeles:20230808T170000
DTEND;TZID=America/Los_Angeles:20230808T190000
DTSTAMP:20260422T024418
CREATED:20200909T193927Z
LAST-MODIFIED:20230822T004434Z
UID:10020792-1691514000-1691521200@voiceofoc.org
SUMMARY:Buena Park City Council Meeting
DESCRIPTION:The Buena Park City Council generally meets on the second and fourth Tuesday of each month. \nAgendas are available at the City Clerk’s office at City Hall 72 hours before each meeting. \nThis meeting schedule can change\, particularly in months with national holidays\, so be sure to check the status of a meeting at the agenda link below. Make sure to check the agency’s website also for the latest protocols on in-person and/or virtual attendance. \nLATEST AGENDAS AND MINUTES: CLICK HERE \nMEETING TIME: The council’s regular meeting starts at 5 p.m.\, typically following a closed session that begins at 3:30 p.m. \nMEETING LOCATION: Council Chamber\, 6650 Beach Boulevard. Watch live video streaming of BPTV Channel 3/99 and find video archives of Buena Park City Council meetings here. \nPUBLIC COMMENT: Comments are limited to no more than three minutes each and are generally held toward the beginning of the meeting. Members of the public may submit their comments in writing by sending them to the city clerk’s office at comments@buenapark.com. All comments and questions should be submitted by 4 p.m. on the day of the meeting.  \nCURRENT OFFICIALS: Click here to see and contact the current members. \n\n\n	Related
URL:https://voiceofoc.org/event/buena-park-city-council-meetings/2023-08-08/
LOCATION:Buena Park City Council Chambers\, 6650 Beach Boulevard\, Buena Park\, CA\, 90622\, United States
CATEGORIES:Buena Park,City Governments
ATTACH;FMTTYPE=image/png:https://voiceofoc.org/wp-content/uploads/2020/10/JessicaRuiz_2019-8EDIT.png
GEO:33.8639363;-117.9966338
X-APPLE-STRUCTURED-LOCATION;VALUE=URI;X-ADDRESS=DESCRIPTION:The Buena Park City Council generally meets on the second and fourth Tuesday of each month. \nAgendas are available at the City Clerk’s office at City Hall 72 hours before each meeting. \nThis meeting schedule can change particularly in months with national holidays so be sure to check the status of a meeting at the agenda link below. Make sure to check the agency’s website also for the latest protocols on in-person and/or virtual attendance. \nLATEST AGENDAS AND MINUTES: CLICK HERE \nMEETING TIME: The council’s regular meeting starts at 5 p.m. typically following a closed session that begins at 3:30 p.m. \nMEETING  Council Chamber 6650 Beach Boulevard. Watch live video streaming of BPTV Channel 3/99 and find video archives of Buena Park City Council meetings here. \nPUBLIC COMMENT: Comments are limited to no more than three minutes each and are generally held toward the beginning of the meeting. Members of the public may submit their comments in writing by sending them to the city clerk’s office at comments@buenapark.com. All comments and questions should be submitted by 4 p.m. on the day of the meeting.  \nCURRENT OFFICIALS: Click here to see and contact the current members. \n\n\n	Related;X-APPLE-RADIUS=500;X-TITLE=6650 Beach Boulevard:geo:-117.9966338,33.8639363
END:VEVENT
BEGIN:VEVENT
DTSTART;TZID=America/Los_Angeles:20230725T170000
DTEND;TZID=America/Los_Angeles:20230725T190000
DTSTAMP:20260422T024418
CREATED:20241007T224845Z
LAST-MODIFIED:20241223T181314Z
UID:10020825-1690304400-1690311600@voiceofoc.org
SUMMARY:Buena Park City Council Meeting
DESCRIPTION:The Buena Park City Council generally meets on the second and fourth Tuesday of each month. \nAgendas are available at the City Clerk’s office at City Hall 72 hours before each meeting. \nThis meeting schedule can change\, particularly in months with national holidays\, so be sure to check the status of a meeting at the agenda link below. Make sure to check the agency’s website also for the latest protocols on in-person and/or virtual attendance. \nLATEST AGENDAS AND MINUTES: CLICK HERE \nMEETING TIME: The council’s regular meeting starts at 5 p.m.\, typically following a closed session that begins at 3:30 p.m. \nMEETING LOCATION: Council Chamber\, 6650 Beach Boulevard. Watch live video streaming of BPTV Channel 3/99 and find video archives of Buena Park City Council meetings here. \nPUBLIC COMMENT: Comments are limited to no more than three minutes each and are generally held toward the beginning of the meeting. Members of the public may submit their comments in writing by sending them to the city clerk’s office at comments@buenapark.com. All comments and questions should be submitted by 4 p.m. on the day of the meeting.  \nCURRENT OFFICIALS: Click here to see and contact the current members. \n\n\n	Related
URL:https://voiceofoc.org/event/buena-park-city-council-meetings-2/2023-07-25/
LOCATION:Buena Park City Council Chambers\, 6650 Beach Boulevard\, Buena Park\, CA\, 90622\, United States
CATEGORIES:Buena Park,City Governments
ATTACH;FMTTYPE=image/png:https://voiceofoc.org/wp-content/uploads/2020/10/JessicaRuiz_2019-8EDIT.png
GEO:33.8639363;-117.9966338
X-APPLE-STRUCTURED-LOCATION;VALUE=URI;X-ADDRESS=DESCRIPTION:The Buena Park City Council generally meets on the second and fourth Tuesday of each month. \nAgendas are available at the City Clerk’s office at City Hall 72 hours before each meeting. \nThis meeting schedule can change particularly in months with national holidays so be sure to check the status of a meeting at the agenda link below. Make sure to check the agency’s website also for the latest protocols on in-person and/or virtual attendance. \nLATEST AGENDAS AND MINUTES: CLICK HERE \nMEETING TIME: The council’s regular meeting starts at 5 p.m. typically following a closed session that begins at 3:30 p.m. \nMEETING  Council Chamber 6650 Beach Boulevard. Watch live video streaming of BPTV Channel 3/99 and find video archives of Buena Park City Council meetings here. \nPUBLIC COMMENT: Comments are limited to no more than three minutes each and are generally held toward the beginning of the meeting. Members of the public may submit their comments in writing by sending them to the city clerk’s office at comments@buenapark.com. All comments and questions should be submitted by 4 p.m. on the day of the meeting.  \nCURRENT OFFICIALS: Click here to see and contact the current members. \n\n\n	Related;X-APPLE-RADIUS=500;X-TITLE=6650 Beach Boulevard:geo:-117.9966338,33.8639363
END:VEVENT
BEGIN:VEVENT
DTSTART;TZID=America/Los_Angeles:20230711T170000
DTEND;TZID=America/Los_Angeles:20230711T190000
DTSTAMP:20260422T024418
CREATED:20200909T193927Z
LAST-MODIFIED:20230822T004434Z
UID:10020791-1689094800-1689102000@voiceofoc.org
SUMMARY:Buena Park City Council Meeting
DESCRIPTION:The Buena Park City Council generally meets on the second and fourth Tuesday of each month. \nAgendas are available at the City Clerk’s office at City Hall 72 hours before each meeting. \nThis meeting schedule can change\, particularly in months with national holidays\, so be sure to check the status of a meeting at the agenda link below. Make sure to check the agency’s website also for the latest protocols on in-person and/or virtual attendance. \nLATEST AGENDAS AND MINUTES: CLICK HERE \nMEETING TIME: The council’s regular meeting starts at 5 p.m.\, typically following a closed session that begins at 3:30 p.m. \nMEETING LOCATION: Council Chamber\, 6650 Beach Boulevard. Watch live video streaming of BPTV Channel 3/99 and find video archives of Buena Park City Council meetings here. \nPUBLIC COMMENT: Comments are limited to no more than three minutes each and are generally held toward the beginning of the meeting. Members of the public may submit their comments in writing by sending them to the city clerk’s office at comments@buenapark.com. All comments and questions should be submitted by 4 p.m. on the day of the meeting.  \nCURRENT OFFICIALS: Click here to see and contact the current members. \n\n\n	Related
URL:https://voiceofoc.org/event/buena-park-city-council-meetings/2023-07-11/
LOCATION:Buena Park City Council Chambers\, 6650 Beach Boulevard\, Buena Park\, CA\, 90622\, United States
CATEGORIES:Buena Park,City Governments
ATTACH;FMTTYPE=image/png:https://voiceofoc.org/wp-content/uploads/2020/10/JessicaRuiz_2019-8EDIT.png
GEO:33.8639363;-117.9966338
X-APPLE-STRUCTURED-LOCATION;VALUE=URI;X-ADDRESS=DESCRIPTION:The Buena Park City Council generally meets on the second and fourth Tuesday of each month. \nAgendas are available at the City Clerk’s office at City Hall 72 hours before each meeting. \nThis meeting schedule can change particularly in months with national holidays so be sure to check the status of a meeting at the agenda link below. Make sure to check the agency’s website also for the latest protocols on in-person and/or virtual attendance. \nLATEST AGENDAS AND MINUTES: CLICK HERE \nMEETING TIME: The council’s regular meeting starts at 5 p.m. typically following a closed session that begins at 3:30 p.m. \nMEETING  Council Chamber 6650 Beach Boulevard. Watch live video streaming of BPTV Channel 3/99 and find video archives of Buena Park City Council meetings here. \nPUBLIC COMMENT: Comments are limited to no more than three minutes each and are generally held toward the beginning of the meeting. Members of the public may submit their comments in writing by sending them to the city clerk’s office at comments@buenapark.com. All comments and questions should be submitted by 4 p.m. on the day of the meeting.  \nCURRENT OFFICIALS: Click here to see and contact the current members. \n\n\n	Related;X-APPLE-RADIUS=500;X-TITLE=6650 Beach Boulevard:geo:-117.9966338,33.8639363
END:VEVENT
BEGIN:VEVENT
DTSTART;TZID=America/Los_Angeles:20230627T170000
DTEND;TZID=America/Los_Angeles:20230627T190000
DTSTAMP:20260422T024418
CREATED:20241007T224845Z
LAST-MODIFIED:20241223T181314Z
UID:10020824-1687885200-1687892400@voiceofoc.org
SUMMARY:Buena Park City Council Meeting
DESCRIPTION:The Buena Park City Council generally meets on the second and fourth Tuesday of each month. \nAgendas are available at the City Clerk’s office at City Hall 72 hours before each meeting. \nThis meeting schedule can change\, particularly in months with national holidays\, so be sure to check the status of a meeting at the agenda link below. Make sure to check the agency’s website also for the latest protocols on in-person and/or virtual attendance. \nLATEST AGENDAS AND MINUTES: CLICK HERE \nMEETING TIME: The council’s regular meeting starts at 5 p.m.\, typically following a closed session that begins at 3:30 p.m. \nMEETING LOCATION: Council Chamber\, 6650 Beach Boulevard. Watch live video streaming of BPTV Channel 3/99 and find video archives of Buena Park City Council meetings here. \nPUBLIC COMMENT: Comments are limited to no more than three minutes each and are generally held toward the beginning of the meeting. Members of the public may submit their comments in writing by sending them to the city clerk’s office at comments@buenapark.com. All comments and questions should be submitted by 4 p.m. on the day of the meeting.  \nCURRENT OFFICIALS: Click here to see and contact the current members. \n\n\n	Related
URL:https://voiceofoc.org/event/buena-park-city-council-meetings-2/2023-06-27/
LOCATION:Buena Park City Council Chambers\, 6650 Beach Boulevard\, Buena Park\, CA\, 90622\, United States
CATEGORIES:Buena Park,City Governments
ATTACH;FMTTYPE=image/png:https://voiceofoc.org/wp-content/uploads/2020/10/JessicaRuiz_2019-8EDIT.png
GEO:33.8639363;-117.9966338
X-APPLE-STRUCTURED-LOCATION;VALUE=URI;X-ADDRESS=DESCRIPTION:The Buena Park City Council generally meets on the second and fourth Tuesday of each month. \nAgendas are available at the City Clerk’s office at City Hall 72 hours before each meeting. \nThis meeting schedule can change particularly in months with national holidays so be sure to check the status of a meeting at the agenda link below. Make sure to check the agency’s website also for the latest protocols on in-person and/or virtual attendance. \nLATEST AGENDAS AND MINUTES: CLICK HERE \nMEETING TIME: The council’s regular meeting starts at 5 p.m. typically following a closed session that begins at 3:30 p.m. \nMEETING  Council Chamber 6650 Beach Boulevard. Watch live video streaming of BPTV Channel 3/99 and find video archives of Buena Park City Council meetings here. \nPUBLIC COMMENT: Comments are limited to no more than three minutes each and are generally held toward the beginning of the meeting. Members of the public may submit their comments in writing by sending them to the city clerk’s office at comments@buenapark.com. All comments and questions should be submitted by 4 p.m. on the day of the meeting.  \nCURRENT OFFICIALS: Click here to see and contact the current members. \n\n\n	Related;X-APPLE-RADIUS=500;X-TITLE=6650 Beach Boulevard:geo:-117.9966338,33.8639363
END:VEVENT
BEGIN:VEVENT
DTSTART;TZID=America/Los_Angeles:20230613T170000
DTEND;TZID=America/Los_Angeles:20230613T190000
DTSTAMP:20260422T024418
CREATED:20200909T193927Z
LAST-MODIFIED:20230822T004434Z
UID:10020790-1686675600-1686682800@voiceofoc.org
SUMMARY:Buena Park City Council Meeting
DESCRIPTION:The Buena Park City Council generally meets on the second and fourth Tuesday of each month. \nAgendas are available at the City Clerk’s office at City Hall 72 hours before each meeting. \nThis meeting schedule can change\, particularly in months with national holidays\, so be sure to check the status of a meeting at the agenda link below. Make sure to check the agency’s website also for the latest protocols on in-person and/or virtual attendance. \nLATEST AGENDAS AND MINUTES: CLICK HERE \nMEETING TIME: The council’s regular meeting starts at 5 p.m.\, typically following a closed session that begins at 3:30 p.m. \nMEETING LOCATION: Council Chamber\, 6650 Beach Boulevard. Watch live video streaming of BPTV Channel 3/99 and find video archives of Buena Park City Council meetings here. \nPUBLIC COMMENT: Comments are limited to no more than three minutes each and are generally held toward the beginning of the meeting. Members of the public may submit their comments in writing by sending them to the city clerk’s office at comments@buenapark.com. All comments and questions should be submitted by 4 p.m. on the day of the meeting.  \nCURRENT OFFICIALS: Click here to see and contact the current members. \n\n\n	Related
URL:https://voiceofoc.org/event/buena-park-city-council-meetings/2023-06-13/
LOCATION:Buena Park City Council Chambers\, 6650 Beach Boulevard\, Buena Park\, CA\, 90622\, United States
CATEGORIES:Buena Park,City Governments
ATTACH;FMTTYPE=image/png:https://voiceofoc.org/wp-content/uploads/2020/10/JessicaRuiz_2019-8EDIT.png
GEO:33.8639363;-117.9966338
X-APPLE-STRUCTURED-LOCATION;VALUE=URI;X-ADDRESS=DESCRIPTION:The Buena Park City Council generally meets on the second and fourth Tuesday of each month. \nAgendas are available at the City Clerk’s office at City Hall 72 hours before each meeting. \nThis meeting schedule can change particularly in months with national holidays so be sure to check the status of a meeting at the agenda link below. Make sure to check the agency’s website also for the latest protocols on in-person and/or virtual attendance. \nLATEST AGENDAS AND MINUTES: CLICK HERE \nMEETING TIME: The council’s regular meeting starts at 5 p.m. typically following a closed session that begins at 3:30 p.m. \nMEETING  Council Chamber 6650 Beach Boulevard. Watch live video streaming of BPTV Channel 3/99 and find video archives of Buena Park City Council meetings here. \nPUBLIC COMMENT: Comments are limited to no more than three minutes each and are generally held toward the beginning of the meeting. Members of the public may submit their comments in writing by sending them to the city clerk’s office at comments@buenapark.com. All comments and questions should be submitted by 4 p.m. on the day of the meeting.  \nCURRENT OFFICIALS: Click here to see and contact the current members. \n\n\n	Related;X-APPLE-RADIUS=500;X-TITLE=6650 Beach Boulevard:geo:-117.9966338,33.8639363
END:VEVENT
BEGIN:VEVENT
DTSTART;TZID=America/Los_Angeles:20230606T170000
DTEND;TZID=America/Los_Angeles:20230606T190000
DTSTAMP:20260422T024418
CREATED:20200909T193927Z
LAST-MODIFIED:20230822T004434Z
UID:10020789-1686070800-1686078000@voiceofoc.org
SUMMARY:Buena Park City Council Meeting
DESCRIPTION:The Buena Park City Council generally meets on the second and fourth Tuesday of each month. \nAgendas are available at the City Clerk’s office at City Hall 72 hours before each meeting. \nThis meeting schedule can change\, particularly in months with national holidays\, so be sure to check the status of a meeting at the agenda link below. Make sure to check the agency’s website also for the latest protocols on in-person and/or virtual attendance. \nLATEST AGENDAS AND MINUTES: CLICK HERE \nMEETING TIME: The council’s regular meeting starts at 5 p.m.\, typically following a closed session that begins at 3:30 p.m. \nMEETING LOCATION: Council Chamber\, 6650 Beach Boulevard. Watch live video streaming of BPTV Channel 3/99 and find video archives of Buena Park City Council meetings here. \nPUBLIC COMMENT: Comments are limited to no more than three minutes each and are generally held toward the beginning of the meeting. Members of the public may submit their comments in writing by sending them to the city clerk’s office at comments@buenapark.com. All comments and questions should be submitted by 4 p.m. on the day of the meeting.  \nCURRENT OFFICIALS: Click here to see and contact the current members. \n\n\n	Related
URL:https://voiceofoc.org/event/buena-park-city-council-meetings/2023-06-06/
LOCATION:Buena Park City Council Chambers\, 6650 Beach Boulevard\, Buena Park\, CA\, 90622\, United States
CATEGORIES:Buena Park,City Governments
ATTACH;FMTTYPE=image/png:https://voiceofoc.org/wp-content/uploads/2020/10/JessicaRuiz_2019-8EDIT.png
GEO:33.8639363;-117.9966338
X-APPLE-STRUCTURED-LOCATION;VALUE=URI;X-ADDRESS=DESCRIPTION:The Buena Park City Council generally meets on the second and fourth Tuesday of each month. \nAgendas are available at the City Clerk’s office at City Hall 72 hours before each meeting. \nThis meeting schedule can change particularly in months with national holidays so be sure to check the status of a meeting at the agenda link below. Make sure to check the agency’s website also for the latest protocols on in-person and/or virtual attendance. \nLATEST AGENDAS AND MINUTES: CLICK HERE \nMEETING TIME: The council’s regular meeting starts at 5 p.m. typically following a closed session that begins at 3:30 p.m. \nMEETING  Council Chamber 6650 Beach Boulevard. Watch live video streaming of BPTV Channel 3/99 and find video archives of Buena Park City Council meetings here. \nPUBLIC COMMENT: Comments are limited to no more than three minutes each and are generally held toward the beginning of the meeting. Members of the public may submit their comments in writing by sending them to the city clerk’s office at comments@buenapark.com. All comments and questions should be submitted by 4 p.m. on the day of the meeting.  \nCURRENT OFFICIALS: Click here to see and contact the current members. \n\n\n	Related;X-APPLE-RADIUS=500;X-TITLE=6650 Beach Boulevard:geo:-117.9966338,33.8639363
END:VEVENT
END:VCALENDAR