BEGIN:VCALENDAR
VERSION:2.0
PRODID:-//Voice of OC - ECPv6.15.20//NONSGML v1.0//EN
CALSCALE:GREGORIAN
METHOD:PUBLISH
X-ORIGINAL-URL:https://voiceofoc.org
X-WR-CALDESC:Events for Voice of OC
REFRESH-INTERVAL;VALUE=DURATION:PT1H
X-Robots-Tag:noindex
X-PUBLISHED-TTL:PT1H
BEGIN:VTIMEZONE
TZID:America/Los_Angeles
BEGIN:DAYLIGHT
TZOFFSETFROM:-0800
TZOFFSETTO:-0700
TZNAME:PDT
DTSTART:20220313T100000
END:DAYLIGHT
BEGIN:STANDARD
TZOFFSETFROM:-0700
TZOFFSETTO:-0800
TZNAME:PST
DTSTART:20221106T090000
END:STANDARD
BEGIN:DAYLIGHT
TZOFFSETFROM:-0800
TZOFFSETTO:-0700
TZNAME:PDT
DTSTART:20230312T100000
END:DAYLIGHT
BEGIN:STANDARD
TZOFFSETFROM:-0700
TZOFFSETTO:-0800
TZNAME:PST
DTSTART:20231105T090000
END:STANDARD
BEGIN:DAYLIGHT
TZOFFSETFROM:-0800
TZOFFSETTO:-0700
TZNAME:PDT
DTSTART:20240310T100000
END:DAYLIGHT
BEGIN:STANDARD
TZOFFSETFROM:-0700
TZOFFSETTO:-0800
TZNAME:PST
DTSTART:20241103T090000
END:STANDARD
END:VTIMEZONE
BEGIN:VEVENT
DTSTART;TZID=America/Los_Angeles:20230704T070000
DTEND;TZID=America/Los_Angeles:20230704T213000
DTSTAMP:20260425T081746
CREATED:20230627T225839Z
LAST-MODIFIED:20230627T225839Z
UID:10025439-1688454000-1688506200@voiceofoc.org
SUMMARY:Anaheim/Anaheim Hills: Fourth of July Celebration
DESCRIPTION:Time: 7 a.m. – 9:30 p.m. \nLocations: Canyon High School — 220 S Imperial Hwy\, Anaheim\, CA 92807 and Peralta Park — 115 N Pinney Dr\, Anaheim\, CA 92807 \n  \nThe annual Anaheim Hills Fourth of July Celebration will feature a Firecracker Run\, Yankee Doodle Dog Show\, Fourth of July Parade\, food booths\, entertainment and a fireworks show. \nThe Firecracker Run\, including 5K and 10K runs\, starts at Canyon High School at 7 a.m. The cost is $40 for the 10k\, $35 for the 5k run\, $30 for the 5k walk and $20 for the kids’ dash. Register here. \nThe Yankee Doodle Dog Show starts at 9 a.m. on the Canyon High School softball field. There are four awards categories: Yankee Doodle Dog (most patriotic dog)\, Small Cutest Dog (25 pounds and under)\, Medium Cutest Dog (26 to 55 pounds) and Big Cutest Dog (over 55 pounds) \nThe Fourth of July Parade starts at 1 p.m. at Canyon High School and should end at Eucalyptus Park around 3 p.m. after the 1.2-mile route. \nThere will be food and entertainment booths stationed at Peralta Park from 3 to 9 p.m. The fireworks show starts at the park at 9 p.m. \n\n\n	Related
URL:https://voiceofoc.org/event/anaheim-anaheim-hills-fourth-of-july-celebration/
LOCATION:Canyon High School\, 220 S Imperial Hwy\, Anaheim\, CA\, 92807\, United States
GEO:33.8473075;-117.7881851
X-APPLE-STRUCTURED-LOCATION;VALUE=URI;X-ADDRESS=Canyon High School 220 S Imperial Hwy Anaheim CA 92807 United States;X-APPLE-RADIUS=500;X-TITLE=220 S Imperial Hwy:geo:-117.7881851,33.8473075
END:VEVENT
END:VCALENDAR