BEGIN:VCALENDAR
VERSION:2.0
PRODID:-//Voice of OC - ECPv6.15.20//NONSGML v1.0//EN
CALSCALE:GREGORIAN
METHOD:PUBLISH
X-WR-CALNAME:Voice of OC
X-ORIGINAL-URL:https://voiceofoc.org
X-WR-CALDESC:Events for Voice of OC
REFRESH-INTERVAL;VALUE=DURATION:PT1H
X-Robots-Tag:noindex
X-PUBLISHED-TTL:PT1H
BEGIN:VTIMEZONE
TZID:America/Los_Angeles
BEGIN:DAYLIGHT
TZOFFSETFROM:-0800
TZOFFSETTO:-0700
TZNAME:PDT
DTSTART:20220313T100000
END:DAYLIGHT
BEGIN:STANDARD
TZOFFSETFROM:-0700
TZOFFSETTO:-0800
TZNAME:PST
DTSTART:20221106T090000
END:STANDARD
BEGIN:DAYLIGHT
TZOFFSETFROM:-0800
TZOFFSETTO:-0700
TZNAME:PDT
DTSTART:20230312T100000
END:DAYLIGHT
BEGIN:STANDARD
TZOFFSETFROM:-0700
TZOFFSETTO:-0800
TZNAME:PST
DTSTART:20231105T090000
END:STANDARD
BEGIN:DAYLIGHT
TZOFFSETFROM:-0800
TZOFFSETTO:-0700
TZNAME:PDT
DTSTART:20240310T100000
END:DAYLIGHT
BEGIN:STANDARD
TZOFFSETFROM:-0700
TZOFFSETTO:-0800
TZNAME:PST
DTSTART:20241103T090000
END:STANDARD
END:VTIMEZONE
BEGIN:VEVENT
DTSTART;TZID=America/Los_Angeles:20231212T163000
DTEND;TZID=America/Los_Angeles:20231212T183000
DTSTAMP:20260424T075908
CREATED:20230627T053450Z
LAST-MODIFIED:20230630T013207Z
UID:10021228-1702398600-1702405800@voiceofoc.org
SUMMARY:Savanna School District Board Meeting
DESCRIPTION:The Savanna School District Board generally meets on the second Tuesday of each month. \nThis meeting schedule can change\, particularly in months with national holidays\, so be sure to check the status of a meeting at the agenda link below. Make sure to check the agency’s website also for the latest protocols on in-person and/or virtual attendance. \nLATEST AGENDAS & MINUTES: CLICK HERE \nMEETING TIME: The board’s regular meeting typically begins at 4:30 p.m. If there are any closed session items\, that portion of the meeting usually begins at 4 p.m. \nMEETING LOCATION: District Administration Office\, 1330 S. Knott Avenue Anaheim\, CA 92804 \nPUBLIC COMMENT: Speakers are able to address the board in person during the public comment portion of the meeting. Comments are limited to three minutes per person and 20 minutes per agenda item unless the board president modifies these time limits. \nCURRENT OFFICIALS: Click here to see and contact the current members. \n\n\n	Related
URL:https://voiceofoc.org/event/savanna-school-district-board-meeting/2023-12-12/
LOCATION:District Administration Office\, 1330 S. Knott Avenue Anaheim\, CA 92804\, 1330 S. Knott Avenue\, Anaheim\, CA\, 92804\, United States
CATEGORIES:Anaheim,Buena Park,Schools
ATTACH;FMTTYPE=image/jpeg:https://voiceofoc.org/wp-content/uploads/2023/06/HCO_0176.jpg
GEO:33.8137691;-118.0094451
X-APPLE-STRUCTURED-LOCATION;VALUE=URI;X-ADDRESS=DESCRIPTION:The Savanna School District Board generally meets on the second Tuesday of each month. \nThis meeting schedule can change particularly in months with national holidays so be sure to check the status of a meeting at the agenda link below. Make sure to check the agency’s website also for the latest protocols on in-person and/or virtual attendance. \nLATEST AGENDAS & MINUTES: CLICK HERE \nMEETING TIME: The board’s regular meeting typically begins at 4:30 p.m. If there are any closed session items that portion of the meeting usually begins at 4 p.m. \nMEETING  District Administration Office 1330 S. Knott Avenue Anaheim CA 92804 \nPUBLIC COMMENT: Speakers are able to address the board in person during the public comment portion of the meeting. Comments are limited to three minutes per person and 20 minutes per agenda item unless the board president modifies these time limits. \nCURRENT OFFICIALS: Click here to see and contact the current members. \n\n\n	Related;X-APPLE-RADIUS=500;X-TITLE=1330 S. Knott Avenue:geo:-118.0094451,33.8137691
END:VEVENT
BEGIN:VEVENT
DTSTART;TZID=America/Los_Angeles:20231107T163000
DTEND;TZID=America/Los_Angeles:20231107T183000
DTSTAMP:20260424T075908
CREATED:20230627T053450Z
LAST-MODIFIED:20230630T013207Z
UID:10021227-1699374600-1699381800@voiceofoc.org
SUMMARY:Savanna School District Board Meeting
DESCRIPTION:The Savanna School District Board generally meets on the second Tuesday of each month. \nThis meeting schedule can change\, particularly in months with national holidays\, so be sure to check the status of a meeting at the agenda link below. Make sure to check the agency’s website also for the latest protocols on in-person and/or virtual attendance. \nLATEST AGENDAS & MINUTES: CLICK HERE \nMEETING TIME: The board’s regular meeting typically begins at 4:30 p.m. If there are any closed session items\, that portion of the meeting usually begins at 4 p.m. \nMEETING LOCATION: District Administration Office\, 1330 S. Knott Avenue Anaheim\, CA 92804 \nPUBLIC COMMENT: Speakers are able to address the board in person during the public comment portion of the meeting. Comments are limited to three minutes per person and 20 minutes per agenda item unless the board president modifies these time limits. \nCURRENT OFFICIALS: Click here to see and contact the current members. \n\n\n	Related
URL:https://voiceofoc.org/event/savanna-school-district-board-meeting/2023-11-07/
LOCATION:District Administration Office\, 1330 S. Knott Avenue Anaheim\, CA 92804\, 1330 S. Knott Avenue\, Anaheim\, CA\, 92804\, United States
CATEGORIES:Anaheim,Buena Park,Schools
ATTACH;FMTTYPE=image/jpeg:https://voiceofoc.org/wp-content/uploads/2023/06/HCO_0176.jpg
GEO:33.8137691;-118.0094451
X-APPLE-STRUCTURED-LOCATION;VALUE=URI;X-ADDRESS=DESCRIPTION:The Savanna School District Board generally meets on the second Tuesday of each month. \nThis meeting schedule can change particularly in months with national holidays so be sure to check the status of a meeting at the agenda link below. Make sure to check the agency’s website also for the latest protocols on in-person and/or virtual attendance. \nLATEST AGENDAS & MINUTES: CLICK HERE \nMEETING TIME: The board’s regular meeting typically begins at 4:30 p.m. If there are any closed session items that portion of the meeting usually begins at 4 p.m. \nMEETING  District Administration Office 1330 S. Knott Avenue Anaheim CA 92804 \nPUBLIC COMMENT: Speakers are able to address the board in person during the public comment portion of the meeting. Comments are limited to three minutes per person and 20 minutes per agenda item unless the board president modifies these time limits. \nCURRENT OFFICIALS: Click here to see and contact the current members. \n\n\n	Related;X-APPLE-RADIUS=500;X-TITLE=1330 S. Knott Avenue:geo:-118.0094451,33.8137691
END:VEVENT
BEGIN:VEVENT
DTSTART;TZID=America/Los_Angeles:20231010T163000
DTEND;TZID=America/Los_Angeles:20231010T183000
DTSTAMP:20260424T075908
CREATED:20230627T053450Z
LAST-MODIFIED:20230630T013207Z
UID:10021226-1696955400-1696962600@voiceofoc.org
SUMMARY:Savanna School District Board Meeting
DESCRIPTION:The Savanna School District Board generally meets on the second Tuesday of each month. \nThis meeting schedule can change\, particularly in months with national holidays\, so be sure to check the status of a meeting at the agenda link below. Make sure to check the agency’s website also for the latest protocols on in-person and/or virtual attendance. \nLATEST AGENDAS & MINUTES: CLICK HERE \nMEETING TIME: The board’s regular meeting typically begins at 4:30 p.m. If there are any closed session items\, that portion of the meeting usually begins at 4 p.m. \nMEETING LOCATION: District Administration Office\, 1330 S. Knott Avenue Anaheim\, CA 92804 \nPUBLIC COMMENT: Speakers are able to address the board in person during the public comment portion of the meeting. Comments are limited to three minutes per person and 20 minutes per agenda item unless the board president modifies these time limits. \nCURRENT OFFICIALS: Click here to see and contact the current members. \n\n\n	Related
URL:https://voiceofoc.org/event/savanna-school-district-board-meeting/2023-10-10/
LOCATION:District Administration Office\, 1330 S. Knott Avenue Anaheim\, CA 92804\, 1330 S. Knott Avenue\, Anaheim\, CA\, 92804\, United States
CATEGORIES:Anaheim,Buena Park,Schools
ATTACH;FMTTYPE=image/jpeg:https://voiceofoc.org/wp-content/uploads/2023/06/HCO_0176.jpg
GEO:33.8137691;-118.0094451
X-APPLE-STRUCTURED-LOCATION;VALUE=URI;X-ADDRESS=DESCRIPTION:The Savanna School District Board generally meets on the second Tuesday of each month. \nThis meeting schedule can change particularly in months with national holidays so be sure to check the status of a meeting at the agenda link below. Make sure to check the agency’s website also for the latest protocols on in-person and/or virtual attendance. \nLATEST AGENDAS & MINUTES: CLICK HERE \nMEETING TIME: The board’s regular meeting typically begins at 4:30 p.m. If there are any closed session items that portion of the meeting usually begins at 4 p.m. \nMEETING  District Administration Office 1330 S. Knott Avenue Anaheim CA 92804 \nPUBLIC COMMENT: Speakers are able to address the board in person during the public comment portion of the meeting. Comments are limited to three minutes per person and 20 minutes per agenda item unless the board president modifies these time limits. \nCURRENT OFFICIALS: Click here to see and contact the current members. \n\n\n	Related;X-APPLE-RADIUS=500;X-TITLE=1330 S. Knott Avenue:geo:-118.0094451,33.8137691
END:VEVENT
BEGIN:VEVENT
DTSTART;TZID=America/Los_Angeles:20230912T163000
DTEND;TZID=America/Los_Angeles:20230912T183000
DTSTAMP:20260424T075908
CREATED:20230627T053450Z
LAST-MODIFIED:20230630T013207Z
UID:10021225-1694536200-1694543400@voiceofoc.org
SUMMARY:Savanna School District Board Meeting
DESCRIPTION:The Savanna School District Board generally meets on the second Tuesday of each month. \nThis meeting schedule can change\, particularly in months with national holidays\, so be sure to check the status of a meeting at the agenda link below. Make sure to check the agency’s website also for the latest protocols on in-person and/or virtual attendance. \nLATEST AGENDAS & MINUTES: CLICK HERE \nMEETING TIME: The board’s regular meeting typically begins at 4:30 p.m. If there are any closed session items\, that portion of the meeting usually begins at 4 p.m. \nMEETING LOCATION: District Administration Office\, 1330 S. Knott Avenue Anaheim\, CA 92804 \nPUBLIC COMMENT: Speakers are able to address the board in person during the public comment portion of the meeting. Comments are limited to three minutes per person and 20 minutes per agenda item unless the board president modifies these time limits. \nCURRENT OFFICIALS: Click here to see and contact the current members. \n\n\n	Related
URL:https://voiceofoc.org/event/savanna-school-district-board-meeting/2023-09-12/
LOCATION:District Administration Office\, 1330 S. Knott Avenue Anaheim\, CA 92804\, 1330 S. Knott Avenue\, Anaheim\, CA\, 92804\, United States
CATEGORIES:Anaheim,Buena Park,Schools
ATTACH;FMTTYPE=image/jpeg:https://voiceofoc.org/wp-content/uploads/2023/06/HCO_0176.jpg
GEO:33.8137691;-118.0094451
X-APPLE-STRUCTURED-LOCATION;VALUE=URI;X-ADDRESS=DESCRIPTION:The Savanna School District Board generally meets on the second Tuesday of each month. \nThis meeting schedule can change particularly in months with national holidays so be sure to check the status of a meeting at the agenda link below. Make sure to check the agency’s website also for the latest protocols on in-person and/or virtual attendance. \nLATEST AGENDAS & MINUTES: CLICK HERE \nMEETING TIME: The board’s regular meeting typically begins at 4:30 p.m. If there are any closed session items that portion of the meeting usually begins at 4 p.m. \nMEETING  District Administration Office 1330 S. Knott Avenue Anaheim CA 92804 \nPUBLIC COMMENT: Speakers are able to address the board in person during the public comment portion of the meeting. Comments are limited to three minutes per person and 20 minutes per agenda item unless the board president modifies these time limits. \nCURRENT OFFICIALS: Click here to see and contact the current members. \n\n\n	Related;X-APPLE-RADIUS=500;X-TITLE=1330 S. Knott Avenue:geo:-118.0094451,33.8137691
END:VEVENT
BEGIN:VEVENT
DTSTART;TZID=America/Los_Angeles:20230803T163000
DTEND;TZID=America/Los_Angeles:20230803T183000
DTSTAMP:20260424T075908
CREATED:20230627T053450Z
LAST-MODIFIED:20230630T013207Z
UID:10021224-1691080200-1691087400@voiceofoc.org
SUMMARY:Savanna School District Board Meeting
DESCRIPTION:The Savanna School District Board generally meets on the second Tuesday of each month. \nThis meeting schedule can change\, particularly in months with national holidays\, so be sure to check the status of a meeting at the agenda link below. Make sure to check the agency’s website also for the latest protocols on in-person and/or virtual attendance. \nLATEST AGENDAS & MINUTES: CLICK HERE \nMEETING TIME: The board’s regular meeting typically begins at 4:30 p.m. If there are any closed session items\, that portion of the meeting usually begins at 4 p.m. \nMEETING LOCATION: District Administration Office\, 1330 S. Knott Avenue Anaheim\, CA 92804 \nPUBLIC COMMENT: Speakers are able to address the board in person during the public comment portion of the meeting. Comments are limited to three minutes per person and 20 minutes per agenda item unless the board president modifies these time limits. \nCURRENT OFFICIALS: Click here to see and contact the current members. \n\n\n	Related
URL:https://voiceofoc.org/event/savanna-school-district-board-meeting/2023-08-03/
LOCATION:District Administration Office\, 1330 S. Knott Avenue Anaheim\, CA 92804\, 1330 S. Knott Avenue\, Anaheim\, CA\, 92804\, United States
CATEGORIES:Anaheim,Buena Park,Schools
ATTACH;FMTTYPE=image/jpeg:https://voiceofoc.org/wp-content/uploads/2023/06/HCO_0176.jpg
GEO:33.8137691;-118.0094451
X-APPLE-STRUCTURED-LOCATION;VALUE=URI;X-ADDRESS=DESCRIPTION:The Savanna School District Board generally meets on the second Tuesday of each month. \nThis meeting schedule can change particularly in months with national holidays so be sure to check the status of a meeting at the agenda link below. Make sure to check the agency’s website also for the latest protocols on in-person and/or virtual attendance. \nLATEST AGENDAS & MINUTES: CLICK HERE \nMEETING TIME: The board’s regular meeting typically begins at 4:30 p.m. If there are any closed session items that portion of the meeting usually begins at 4 p.m. \nMEETING  District Administration Office 1330 S. Knott Avenue Anaheim CA 92804 \nPUBLIC COMMENT: Speakers are able to address the board in person during the public comment portion of the meeting. Comments are limited to three minutes per person and 20 minutes per agenda item unless the board president modifies these time limits. \nCURRENT OFFICIALS: Click here to see and contact the current members. \n\n\n	Related;X-APPLE-RADIUS=500;X-TITLE=1330 S. Knott Avenue:geo:-118.0094451,33.8137691
END:VEVENT
BEGIN:VEVENT
DTSTART;TZID=America/Los_Angeles:20230711T163000
DTEND;TZID=America/Los_Angeles:20230711T183000
DTSTAMP:20260424T075908
CREATED:20230627T053450Z
LAST-MODIFIED:20230630T013207Z
UID:10021223-1689093000-1689100200@voiceofoc.org
SUMMARY:Savanna School District Board Meeting
DESCRIPTION:The Savanna School District Board generally meets on the second Tuesday of each month. \nThis meeting schedule can change\, particularly in months with national holidays\, so be sure to check the status of a meeting at the agenda link below. Make sure to check the agency’s website also for the latest protocols on in-person and/or virtual attendance. \nLATEST AGENDAS & MINUTES: CLICK HERE \nMEETING TIME: The board’s regular meeting typically begins at 4:30 p.m. If there are any closed session items\, that portion of the meeting usually begins at 4 p.m. \nMEETING LOCATION: District Administration Office\, 1330 S. Knott Avenue Anaheim\, CA 92804 \nPUBLIC COMMENT: Speakers are able to address the board in person during the public comment portion of the meeting. Comments are limited to three minutes per person and 20 minutes per agenda item unless the board president modifies these time limits. \nCURRENT OFFICIALS: Click here to see and contact the current members. \n\n\n	Related
URL:https://voiceofoc.org/event/savanna-school-district-board-meeting/2023-07-11/
LOCATION:District Administration Office\, 1330 S. Knott Avenue Anaheim\, CA 92804\, 1330 S. Knott Avenue\, Anaheim\, CA\, 92804\, United States
CATEGORIES:Anaheim,Buena Park,Schools
ATTACH;FMTTYPE=image/jpeg:https://voiceofoc.org/wp-content/uploads/2023/06/HCO_0176.jpg
GEO:33.8137691;-118.0094451
X-APPLE-STRUCTURED-LOCATION;VALUE=URI;X-ADDRESS=DESCRIPTION:The Savanna School District Board generally meets on the second Tuesday of each month. \nThis meeting schedule can change particularly in months with national holidays so be sure to check the status of a meeting at the agenda link below. Make sure to check the agency’s website also for the latest protocols on in-person and/or virtual attendance. \nLATEST AGENDAS & MINUTES: CLICK HERE \nMEETING TIME: The board’s regular meeting typically begins at 4:30 p.m. If there are any closed session items that portion of the meeting usually begins at 4 p.m. \nMEETING  District Administration Office 1330 S. Knott Avenue Anaheim CA 92804 \nPUBLIC COMMENT: Speakers are able to address the board in person during the public comment portion of the meeting. Comments are limited to three minutes per person and 20 minutes per agenda item unless the board president modifies these time limits. \nCURRENT OFFICIALS: Click here to see and contact the current members. \n\n\n	Related;X-APPLE-RADIUS=500;X-TITLE=1330 S. Knott Avenue:geo:-118.0094451,33.8137691
END:VEVENT
END:VCALENDAR