BEGIN:VCALENDAR
VERSION:2.0
PRODID:-//Voice of OC - ECPv6.15.20//NONSGML v1.0//EN
CALSCALE:GREGORIAN
METHOD:PUBLISH
X-WR-CALNAME:Voice of OC
X-ORIGINAL-URL:https://voiceofoc.org
X-WR-CALDESC:Events for Voice of OC
REFRESH-INTERVAL;VALUE=DURATION:PT1H
X-Robots-Tag:noindex
X-PUBLISHED-TTL:PT1H
BEGIN:VTIMEZONE
TZID:America/Los_Angeles
BEGIN:DAYLIGHT
TZOFFSETFROM:-0800
TZOFFSETTO:-0700
TZNAME:PDT
DTSTART:20220313T100000
END:DAYLIGHT
BEGIN:STANDARD
TZOFFSETFROM:-0700
TZOFFSETTO:-0800
TZNAME:PST
DTSTART:20221106T090000
END:STANDARD
BEGIN:DAYLIGHT
TZOFFSETFROM:-0800
TZOFFSETTO:-0700
TZNAME:PDT
DTSTART:20230312T100000
END:DAYLIGHT
BEGIN:STANDARD
TZOFFSETFROM:-0700
TZOFFSETTO:-0800
TZNAME:PST
DTSTART:20231105T090000
END:STANDARD
BEGIN:DAYLIGHT
TZOFFSETFROM:-0800
TZOFFSETTO:-0700
TZNAME:PDT
DTSTART:20240310T100000
END:DAYLIGHT
BEGIN:STANDARD
TZOFFSETFROM:-0700
TZOFFSETTO:-0800
TZNAME:PST
DTSTART:20241103T090000
END:STANDARD
END:VTIMEZONE
BEGIN:VEVENT
DTSTART;VALUE=DATE:20231007
DTEND;VALUE=DATE:20231008
DTSTAMP:20260422T040141
CREATED:20230627T221837Z
LAST-MODIFIED:20230712T033255Z
UID:10025304-1696636800-1696723199@voiceofoc.org
SUMMARY:Library of the Canyons: Craft Day All Day
DESCRIPTION:The Library of the Canyons hosts an all-day arts and crafts session every Monday and Saturday. The self-guided program is located in the children’s section. The program is for all ages but is specifically created for young children (preschool to third grade). \n\n\n	Related
URL:https://voiceofoc.org/event/oc-libraries-craft-day-all-day/2023-10-07/
LOCATION:Library of the Canyons\, 7531 Santiago Canyon Road\, Silverado\, CA\, 92676\, United States
GEO:33.7434605;-117.6676395
X-APPLE-STRUCTURED-LOCATION;VALUE=URI;X-ADDRESS=Library of the Canyons 7531 Santiago Canyon Road Silverado CA 92676 United States;X-APPLE-RADIUS=500;X-TITLE=7531 Santiago Canyon Road:geo:-117.6676395,33.7434605
END:VEVENT
BEGIN:VEVENT
DTSTART;VALUE=DATE:20230930
DTEND;VALUE=DATE:20231001
DTSTAMP:20260422T040141
CREATED:20230627T221837Z
LAST-MODIFIED:20230712T033255Z
UID:10025303-1696032000-1696118399@voiceofoc.org
SUMMARY:Library of the Canyons: Craft Day All Day
DESCRIPTION:The Library of the Canyons hosts an all-day arts and crafts session every Monday and Saturday. The self-guided program is located in the children’s section. The program is for all ages but is specifically created for young children (preschool to third grade). \n\n\n	Related
URL:https://voiceofoc.org/event/oc-libraries-craft-day-all-day/2023-09-30/
LOCATION:Library of the Canyons\, 7531 Santiago Canyon Road\, Silverado\, CA\, 92676\, United States
GEO:33.7434605;-117.6676395
X-APPLE-STRUCTURED-LOCATION;VALUE=URI;X-ADDRESS=Library of the Canyons 7531 Santiago Canyon Road Silverado CA 92676 United States;X-APPLE-RADIUS=500;X-TITLE=7531 Santiago Canyon Road:geo:-117.6676395,33.7434605
END:VEVENT
BEGIN:VEVENT
DTSTART;VALUE=DATE:20230923
DTEND;VALUE=DATE:20230924
DTSTAMP:20260422T040141
CREATED:20230627T221837Z
LAST-MODIFIED:20230712T033255Z
UID:10025302-1695427200-1695513599@voiceofoc.org
SUMMARY:Library of the Canyons: Craft Day All Day
DESCRIPTION:The Library of the Canyons hosts an all-day arts and crafts session every Monday and Saturday. The self-guided program is located in the children’s section. The program is for all ages but is specifically created for young children (preschool to third grade). \n\n\n	Related
URL:https://voiceofoc.org/event/oc-libraries-craft-day-all-day/2023-09-23/
LOCATION:Library of the Canyons\, 7531 Santiago Canyon Road\, Silverado\, CA\, 92676\, United States
GEO:33.7434605;-117.6676395
X-APPLE-STRUCTURED-LOCATION;VALUE=URI;X-ADDRESS=Library of the Canyons 7531 Santiago Canyon Road Silverado CA 92676 United States;X-APPLE-RADIUS=500;X-TITLE=7531 Santiago Canyon Road:geo:-117.6676395,33.7434605
END:VEVENT
BEGIN:VEVENT
DTSTART;VALUE=DATE:20230916
DTEND;VALUE=DATE:20230917
DTSTAMP:20260422T040141
CREATED:20230627T221837Z
LAST-MODIFIED:20230712T033255Z
UID:10025301-1694822400-1694908799@voiceofoc.org
SUMMARY:Library of the Canyons: Craft Day All Day
DESCRIPTION:The Library of the Canyons hosts an all-day arts and crafts session every Monday and Saturday. The self-guided program is located in the children’s section. The program is for all ages but is specifically created for young children (preschool to third grade). \n\n\n	Related
URL:https://voiceofoc.org/event/oc-libraries-craft-day-all-day/2023-09-16/
LOCATION:Library of the Canyons\, 7531 Santiago Canyon Road\, Silverado\, CA\, 92676\, United States
GEO:33.7434605;-117.6676395
X-APPLE-STRUCTURED-LOCATION;VALUE=URI;X-ADDRESS=Library of the Canyons 7531 Santiago Canyon Road Silverado CA 92676 United States;X-APPLE-RADIUS=500;X-TITLE=7531 Santiago Canyon Road:geo:-117.6676395,33.7434605
END:VEVENT
BEGIN:VEVENT
DTSTART;VALUE=DATE:20230909
DTEND;VALUE=DATE:20230910
DTSTAMP:20260422T040141
CREATED:20230627T221837Z
LAST-MODIFIED:20230712T033255Z
UID:10025300-1694217600-1694303999@voiceofoc.org
SUMMARY:Library of the Canyons: Craft Day All Day
DESCRIPTION:The Library of the Canyons hosts an all-day arts and crafts session every Monday and Saturday. The self-guided program is located in the children’s section. The program is for all ages but is specifically created for young children (preschool to third grade). \n\n\n	Related
URL:https://voiceofoc.org/event/oc-libraries-craft-day-all-day/2023-09-09/
LOCATION:Library of the Canyons\, 7531 Santiago Canyon Road\, Silverado\, CA\, 92676\, United States
GEO:33.7434605;-117.6676395
X-APPLE-STRUCTURED-LOCATION;VALUE=URI;X-ADDRESS=Library of the Canyons 7531 Santiago Canyon Road Silverado CA 92676 United States;X-APPLE-RADIUS=500;X-TITLE=7531 Santiago Canyon Road:geo:-117.6676395,33.7434605
END:VEVENT
BEGIN:VEVENT
DTSTART;VALUE=DATE:20230902
DTEND;VALUE=DATE:20230903
DTSTAMP:20260422T040141
CREATED:20230627T221837Z
LAST-MODIFIED:20230712T033255Z
UID:10025299-1693612800-1693699199@voiceofoc.org
SUMMARY:Library of the Canyons: Craft Day All Day
DESCRIPTION:The Library of the Canyons hosts an all-day arts and crafts session every Monday and Saturday. The self-guided program is located in the children’s section. The program is for all ages but is specifically created for young children (preschool to third grade). \n\n\n	Related
URL:https://voiceofoc.org/event/oc-libraries-craft-day-all-day/2023-09-02/
LOCATION:Library of the Canyons\, 7531 Santiago Canyon Road\, Silverado\, CA\, 92676\, United States
GEO:33.7434605;-117.6676395
X-APPLE-STRUCTURED-LOCATION;VALUE=URI;X-ADDRESS=Library of the Canyons 7531 Santiago Canyon Road Silverado CA 92676 United States;X-APPLE-RADIUS=500;X-TITLE=7531 Santiago Canyon Road:geo:-117.6676395,33.7434605
END:VEVENT
BEGIN:VEVENT
DTSTART;VALUE=DATE:20230826
DTEND;VALUE=DATE:20230827
DTSTAMP:20260422T040141
CREATED:20230627T221837Z
LAST-MODIFIED:20230712T033255Z
UID:10025298-1693008000-1693094399@voiceofoc.org
SUMMARY:Library of the Canyons: Craft Day All Day
DESCRIPTION:The Library of the Canyons hosts an all-day arts and crafts session every Monday and Saturday. The self-guided program is located in the children’s section. The program is for all ages but is specifically created for young children (preschool to third grade). \n\n\n	Related
URL:https://voiceofoc.org/event/oc-libraries-craft-day-all-day/2023-08-26/
LOCATION:Library of the Canyons\, 7531 Santiago Canyon Road\, Silverado\, CA\, 92676\, United States
GEO:33.7434605;-117.6676395
X-APPLE-STRUCTURED-LOCATION;VALUE=URI;X-ADDRESS=Library of the Canyons 7531 Santiago Canyon Road Silverado CA 92676 United States;X-APPLE-RADIUS=500;X-TITLE=7531 Santiago Canyon Road:geo:-117.6676395,33.7434605
END:VEVENT
BEGIN:VEVENT
DTSTART;VALUE=DATE:20230819
DTEND;VALUE=DATE:20230820
DTSTAMP:20260422T040141
CREATED:20230627T221837Z
LAST-MODIFIED:20230712T033255Z
UID:10025297-1692403200-1692489599@voiceofoc.org
SUMMARY:Library of the Canyons: Craft Day All Day
DESCRIPTION:The Library of the Canyons hosts an all-day arts and crafts session every Monday and Saturday. The self-guided program is located in the children’s section. The program is for all ages but is specifically created for young children (preschool to third grade). \n\n\n	Related
URL:https://voiceofoc.org/event/oc-libraries-craft-day-all-day/2023-08-19/
LOCATION:Library of the Canyons\, 7531 Santiago Canyon Road\, Silverado\, CA\, 92676\, United States
GEO:33.7434605;-117.6676395
X-APPLE-STRUCTURED-LOCATION;VALUE=URI;X-ADDRESS=Library of the Canyons 7531 Santiago Canyon Road Silverado CA 92676 United States;X-APPLE-RADIUS=500;X-TITLE=7531 Santiago Canyon Road:geo:-117.6676395,33.7434605
END:VEVENT
BEGIN:VEVENT
DTSTART;VALUE=DATE:20230812
DTEND;VALUE=DATE:20230813
DTSTAMP:20260422T040141
CREATED:20230627T221837Z
LAST-MODIFIED:20230712T033255Z
UID:10025296-1691798400-1691884799@voiceofoc.org
SUMMARY:Library of the Canyons: Craft Day All Day
DESCRIPTION:The Library of the Canyons hosts an all-day arts and crafts session every Monday and Saturday. The self-guided program is located in the children’s section. The program is for all ages but is specifically created for young children (preschool to third grade). \n\n\n	Related
URL:https://voiceofoc.org/event/oc-libraries-craft-day-all-day/2023-08-12/
LOCATION:Library of the Canyons\, 7531 Santiago Canyon Road\, Silverado\, CA\, 92676\, United States
GEO:33.7434605;-117.6676395
X-APPLE-STRUCTURED-LOCATION;VALUE=URI;X-ADDRESS=Library of the Canyons 7531 Santiago Canyon Road Silverado CA 92676 United States;X-APPLE-RADIUS=500;X-TITLE=7531 Santiago Canyon Road:geo:-117.6676395,33.7434605
END:VEVENT
BEGIN:VEVENT
DTSTART;VALUE=DATE:20230805
DTEND;VALUE=DATE:20230806
DTSTAMP:20260422T040141
CREATED:20230627T221837Z
LAST-MODIFIED:20230712T033255Z
UID:10025295-1691193600-1691279999@voiceofoc.org
SUMMARY:Library of the Canyons: Craft Day All Day
DESCRIPTION:The Library of the Canyons hosts an all-day arts and crafts session every Monday and Saturday. The self-guided program is located in the children’s section. The program is for all ages but is specifically created for young children (preschool to third grade). \n\n\n	Related
URL:https://voiceofoc.org/event/oc-libraries-craft-day-all-day/2023-08-05/
LOCATION:Library of the Canyons\, 7531 Santiago Canyon Road\, Silverado\, CA\, 92676\, United States
GEO:33.7434605;-117.6676395
X-APPLE-STRUCTURED-LOCATION;VALUE=URI;X-ADDRESS=Library of the Canyons 7531 Santiago Canyon Road Silverado CA 92676 United States;X-APPLE-RADIUS=500;X-TITLE=7531 Santiago Canyon Road:geo:-117.6676395,33.7434605
END:VEVENT
BEGIN:VEVENT
DTSTART;VALUE=DATE:20230729
DTEND;VALUE=DATE:20230730
DTSTAMP:20260422T040141
CREATED:20230627T221837Z
LAST-MODIFIED:20230712T033255Z
UID:10025294-1690588800-1690675199@voiceofoc.org
SUMMARY:Library of the Canyons: Craft Day All Day
DESCRIPTION:The Library of the Canyons hosts an all-day arts and crafts session every Monday and Saturday. The self-guided program is located in the children’s section. The program is for all ages but is specifically created for young children (preschool to third grade). \n\n\n	Related
URL:https://voiceofoc.org/event/oc-libraries-craft-day-all-day/2023-07-29/
LOCATION:Library of the Canyons\, 7531 Santiago Canyon Road\, Silverado\, CA\, 92676\, United States
GEO:33.7434605;-117.6676395
X-APPLE-STRUCTURED-LOCATION;VALUE=URI;X-ADDRESS=Library of the Canyons 7531 Santiago Canyon Road Silverado CA 92676 United States;X-APPLE-RADIUS=500;X-TITLE=7531 Santiago Canyon Road:geo:-117.6676395,33.7434605
END:VEVENT
BEGIN:VEVENT
DTSTART;VALUE=DATE:20230722
DTEND;VALUE=DATE:20230723
DTSTAMP:20260422T040141
CREATED:20230627T221837Z
LAST-MODIFIED:20230712T033255Z
UID:10025293-1689984000-1690070399@voiceofoc.org
SUMMARY:Library of the Canyons: Craft Day All Day
DESCRIPTION:The Library of the Canyons hosts an all-day arts and crafts session every Monday and Saturday. The self-guided program is located in the children’s section. The program is for all ages but is specifically created for young children (preschool to third grade). \n\n\n	Related
URL:https://voiceofoc.org/event/oc-libraries-craft-day-all-day/2023-07-22/
LOCATION:Library of the Canyons\, 7531 Santiago Canyon Road\, Silverado\, CA\, 92676\, United States
GEO:33.7434605;-117.6676395
X-APPLE-STRUCTURED-LOCATION;VALUE=URI;X-ADDRESS=Library of the Canyons 7531 Santiago Canyon Road Silverado CA 92676 United States;X-APPLE-RADIUS=500;X-TITLE=7531 Santiago Canyon Road:geo:-117.6676395,33.7434605
END:VEVENT
BEGIN:VEVENT
DTSTART;VALUE=DATE:20230715
DTEND;VALUE=DATE:20230716
DTSTAMP:20260422T040141
CREATED:20230627T221837Z
LAST-MODIFIED:20230712T033255Z
UID:10025292-1689379200-1689465599@voiceofoc.org
SUMMARY:Library of the Canyons: Craft Day All Day
DESCRIPTION:The Library of the Canyons hosts an all-day arts and crafts session every Monday and Saturday. The self-guided program is located in the children’s section. The program is for all ages but is specifically created for young children (preschool to third grade). \n\n\n	Related
URL:https://voiceofoc.org/event/oc-libraries-craft-day-all-day/2023-07-15/
LOCATION:Library of the Canyons\, 7531 Santiago Canyon Road\, Silverado\, CA\, 92676\, United States
GEO:33.7434605;-117.6676395
X-APPLE-STRUCTURED-LOCATION;VALUE=URI;X-ADDRESS=Library of the Canyons 7531 Santiago Canyon Road Silverado CA 92676 United States;X-APPLE-RADIUS=500;X-TITLE=7531 Santiago Canyon Road:geo:-117.6676395,33.7434605
END:VEVENT
BEGIN:VEVENT
DTSTART;VALUE=DATE:20230708
DTEND;VALUE=DATE:20230709
DTSTAMP:20260422T040141
CREATED:20230627T221837Z
LAST-MODIFIED:20230712T033255Z
UID:10025291-1688774400-1688860799@voiceofoc.org
SUMMARY:Library of the Canyons: Craft Day All Day
DESCRIPTION:The Library of the Canyons hosts an all-day arts and crafts session every Monday and Saturday. The self-guided program is located in the children’s section. The program is for all ages but is specifically created for young children (preschool to third grade). \n\n\n	Related
URL:https://voiceofoc.org/event/oc-libraries-craft-day-all-day/2023-07-08/
LOCATION:Library of the Canyons\, 7531 Santiago Canyon Road\, Silverado\, CA\, 92676\, United States
GEO:33.7434605;-117.6676395
X-APPLE-STRUCTURED-LOCATION;VALUE=URI;X-ADDRESS=Library of the Canyons 7531 Santiago Canyon Road Silverado CA 92676 United States;X-APPLE-RADIUS=500;X-TITLE=7531 Santiago Canyon Road:geo:-117.6676395,33.7434605
END:VEVENT
END:VCALENDAR