BEGIN:VCALENDAR
VERSION:2.0
PRODID:-//Voice of OC - ECPv6.15.20//NONSGML v1.0//EN
CALSCALE:GREGORIAN
METHOD:PUBLISH
X-ORIGINAL-URL:https://voiceofoc.org
X-WR-CALDESC:Events for Voice of OC
REFRESH-INTERVAL;VALUE=DURATION:PT1H
X-Robots-Tag:noindex
X-PUBLISHED-TTL:PT1H
BEGIN:VTIMEZONE
TZID:America/Los_Angeles
BEGIN:DAYLIGHT
TZOFFSETFROM:-0800
TZOFFSETTO:-0700
TZNAME:PDT
DTSTART:20220313T100000
END:DAYLIGHT
BEGIN:STANDARD
TZOFFSETFROM:-0700
TZOFFSETTO:-0800
TZNAME:PST
DTSTART:20221106T090000
END:STANDARD
BEGIN:DAYLIGHT
TZOFFSETFROM:-0800
TZOFFSETTO:-0700
TZNAME:PDT
DTSTART:20230312T100000
END:DAYLIGHT
BEGIN:STANDARD
TZOFFSETFROM:-0700
TZOFFSETTO:-0800
TZNAME:PST
DTSTART:20231105T090000
END:STANDARD
BEGIN:DAYLIGHT
TZOFFSETFROM:-0800
TZOFFSETTO:-0700
TZNAME:PDT
DTSTART:20240310T100000
END:DAYLIGHT
BEGIN:STANDARD
TZOFFSETFROM:-0700
TZOFFSETTO:-0800
TZNAME:PST
DTSTART:20241103T090000
END:STANDARD
END:VTIMEZONE
BEGIN:VEVENT
DTSTART;TZID=America/Los_Angeles:20230722T080000
DTEND;TZID=America/Los_Angeles:20230722T103000
DTSTAMP:20260423T203618
CREATED:20230629T034459Z
LAST-MODIFIED:20230629T034459Z
UID:10026445-1690012800-1690021800@voiceofoc.org
SUMMARY:OC Parks: Slow-Paced Mountain Bike Ride
DESCRIPTION:This 13-mile bike ride is slow-paced and meant for beginner riders that have some experience in mountain biking and want to develop their riding abilities. The ride will start by climbing Hicks Haul Road and continue climbing on East Loma. The entire route is in the Limestone Canyon Nature Preserve. \nRegistration and a signed liability waiver are required for this event. Learn more and register here. \nDate: Saturday\, July 22\, 2023 \nTime: 8 a.m. to 10:30 a.m. \nArea: Limestone Canyon Nature Preserve \nStaging Area: Augustine trailhead \n\n\n	Related
URL:https://voiceofoc.org/event/oc-parks-slow-paced-mountain-bike-ride/
LOCATION:Limestone Canyon Nature Preserve\, Silverado\, CA\, 92676\, United States
GEO:33.7481369;-117.6406523
END:VEVENT
BEGIN:VEVENT
DTSTART;TZID=America/Los_Angeles:20230722T063000
DTEND;TZID=America/Los_Angeles:20230722T090000
DTSTAMP:20260423T203618
CREATED:20230629T033947Z
LAST-MODIFIED:20230629T033947Z
UID:10026443-1690007400-1690016400@voiceofoc.org
SUMMARY:OC Parks: Advanced Cardio Hike
DESCRIPTION:This eight-mile hike is a fast-paced trek through Limestone Canyon. There is a 1000-foot elevation change and the hike will last about 2.5 hours. This is a challenging hike meant for adults (minimum age 18). \nRegistration and a signed liability waiver are required for this event. Learn more and register here. \nDate: Saturday\, July 22\, 2023 \nTime: 6:30 a.m. to 9 a.m. \nArea: Limestone Canyon Nature Preserve \nStaging Area: Augustine trailhead \n\n\n	Related
URL:https://voiceofoc.org/event/oc-parks-advanced-cardio-hike/
LOCATION:Limestone Canyon Nature Preserve\, Silverado\, CA\, 92676\, United States
GEO:33.7481369;-117.6406523
END:VEVENT
BEGIN:VEVENT
DTSTART;TZID=America/Los_Angeles:20230716T170000
DTEND;TZID=America/Los_Angeles:20230716T193000
DTSTAMP:20260423T203618
CREATED:20230629T033246Z
LAST-MODIFIED:20230629T033246Z
UID:10026442-1689526800-1689535800@voiceofoc.org
SUMMARY:OC Parks: Evening Adult Beginner Mountain Bike Ride
DESCRIPTION:This beginner mountain bike ride is eight miles. Riders should be at least 18 and have a minimum of six months of trail experience. It will be about 2.5 hours of ride time. \nRegistration and a signed liability waiver are required for this event. Learn more and register here. \nDate: Saturday\, July 16\, 2023 \nTime: 5 p..m. to 7:30 p.m. \nArea: Limestone Canyon Nature Preserve \nStaging Area: Augustine trailhead \n\n\n	Related
URL:https://voiceofoc.org/event/oc-parks-evening-adult-beginner-mountain-bike-ride/
LOCATION:Limestone Canyon Nature Preserve\, Silverado\, CA\, 92676\, United States
GEO:33.7481369;-117.6406523
END:VEVENT
END:VCALENDAR