BEGIN:VCALENDAR
VERSION:2.0
PRODID:-//Voice of OC - ECPv6.15.20//NONSGML v1.0//EN
CALSCALE:GREGORIAN
METHOD:PUBLISH
X-WR-CALNAME:Voice of OC
X-ORIGINAL-URL:https://voiceofoc.org
X-WR-CALDESC:Events for Voice of OC
REFRESH-INTERVAL;VALUE=DURATION:PT1H
X-Robots-Tag:noindex
X-PUBLISHED-TTL:PT1H
BEGIN:VTIMEZONE
TZID:America/Los_Angeles
BEGIN:DAYLIGHT
TZOFFSETFROM:-0800
TZOFFSETTO:-0700
TZNAME:PDT
DTSTART:20220313T100000
END:DAYLIGHT
BEGIN:STANDARD
TZOFFSETFROM:-0700
TZOFFSETTO:-0800
TZNAME:PST
DTSTART:20221106T090000
END:STANDARD
BEGIN:DAYLIGHT
TZOFFSETFROM:-0800
TZOFFSETTO:-0700
TZNAME:PDT
DTSTART:20230312T100000
END:DAYLIGHT
BEGIN:STANDARD
TZOFFSETFROM:-0700
TZOFFSETTO:-0800
TZNAME:PST
DTSTART:20231105T090000
END:STANDARD
BEGIN:DAYLIGHT
TZOFFSETFROM:-0800
TZOFFSETTO:-0700
TZNAME:PDT
DTSTART:20240310T100000
END:DAYLIGHT
BEGIN:STANDARD
TZOFFSETFROM:-0700
TZOFFSETTO:-0800
TZNAME:PST
DTSTART:20241103T090000
END:STANDARD
END:VTIMEZONE
BEGIN:VEVENT
DTSTART;TZID=America/Los_Angeles:20230913T190000
DTEND;TZID=America/Los_Angeles:20230913T210000
DTSTAMP:20260423T180749
CREATED:20200911T220514Z
LAST-MODIFIED:20240719T171900Z
UID:10023447-1694631600-1694638800@voiceofoc.org
SUMMARY:Rancho Santa Margarita City Council Meeting
DESCRIPTION:The Rancho Santa Margarita City Council generally meets on the second and fourth Wednesday of each month. \nThis meeting schedule can change\, particularly in months with national holidays\, so be sure to check the status of a meeting at the agenda link below. Make sure to check the agency’s website also for the latest protocols on in-person and/or virtual attendance. \nLATEST AGENDAS AND MINUTES: CLICK HERE \nMEETING TIME: The council’s regular meeting typically begins at 7 p.m. If there are any closed session items\, that portion of the meeting is held toward the end of the council’s regular meeting. \nMEETING LOCATION: City Hall 22112 El Paseo Rancho Santa Margarita\, CA 92688 \nPUBLIC COMMENT: To submit a written comment for an upcoming meeting\, residents should email City Clerk Amy Diaz at adiaz@cityofrsm.org by 4:30 p.m. the day of the meeting. Written comments will not be read at the meetings.  \nThose who physically attend must fill out a speaker request form and submit it to the city clerk at the meeting. Public comments are limited to three minutes.  \nCURRENT OFFICIALS: Click here to see and contact the current members. \n\n\n	Related
URL:https://voiceofoc.org/event/rancho-santa-margarita-city-council-meeting-2/2023-09-13/
LOCATION:Rancho Santa Margarita City Hall\, 22112 El Paseo\, Rancho Santa Margarita \, CA\, 92688\, United States
CATEGORIES:City Governments,Rancho Santa Margarita
ATTACH;FMTTYPE=image/jpeg:https://voiceofoc.org/wp-content/uploads/2020/10/©JessicaRuiz_2019_Rancho_Santa_Margarita-6.jpg
GEO:33.6419366;-117.594582
X-APPLE-STRUCTURED-LOCATION;VALUE=URI;X-ADDRESS=DESCRIPTION:The Rancho Santa Margarita City Council generally meets on the second and fourth Wednesday of each month. \nThis meeting schedule can change particularly in months with national holidays so be sure to check the status of a meeting at the agenda link below. Make sure to check the agency’s website also for the latest protocols on in-person and/or virtual attendance. \nLATEST AGENDAS AND MINUTES: CLICK HERE \nMEETING TIME: The council’s regular meeting typically begins at 7 p.m. If there are any closed session items that portion of the meeting is held toward the end of the council’s regular meeting. \nMEETING  City Hall 22112 El Paseo Rancho Santa Margarita CA 92688 \nPUBLIC COMMENT: To submit a written comment for an upcoming meeting residents should email City Clerk Amy Diaz at adiaz@cityofrsm.org by 4:30 p.m. the day of the meeting. Written comments will not be read at the meetings.  \nThose who physically attend must fill out a speaker request form and submit it to the city clerk at the meeting. Public comments are limited to three minutes.  \nCURRENT OFFICIALS: Click here to see and contact the current members. \n\n\n	Related;X-APPLE-RADIUS=500;X-TITLE=22112 El Paseo:geo:-117.594582,33.6419366
END:VEVENT
BEGIN:VEVENT
DTSTART;TZID=America/Los_Angeles:20230809T190000
DTEND;TZID=America/Los_Angeles:20230809T210000
DTSTAMP:20260423T180749
CREATED:20200911T220514Z
LAST-MODIFIED:20240719T171900Z
UID:10023446-1691607600-1691614800@voiceofoc.org
SUMMARY:Rancho Santa Margarita City Council Meeting
DESCRIPTION:The Rancho Santa Margarita City Council generally meets on the second and fourth Wednesday of each month. \nThis meeting schedule can change\, particularly in months with national holidays\, so be sure to check the status of a meeting at the agenda link below. Make sure to check the agency’s website also for the latest protocols on in-person and/or virtual attendance. \nLATEST AGENDAS AND MINUTES: CLICK HERE \nMEETING TIME: The council’s regular meeting typically begins at 7 p.m. If there are any closed session items\, that portion of the meeting is held toward the end of the council’s regular meeting. \nMEETING LOCATION: City Hall 22112 El Paseo Rancho Santa Margarita\, CA 92688 \nPUBLIC COMMENT: To submit a written comment for an upcoming meeting\, residents should email City Clerk Amy Diaz at adiaz@cityofrsm.org by 4:30 p.m. the day of the meeting. Written comments will not be read at the meetings.  \nThose who physically attend must fill out a speaker request form and submit it to the city clerk at the meeting. Public comments are limited to three minutes.  \nCURRENT OFFICIALS: Click here to see and contact the current members. \n\n\n	Related
URL:https://voiceofoc.org/event/rancho-santa-margarita-city-council-meeting-2/2023-08-09/
LOCATION:Rancho Santa Margarita City Hall\, 22112 El Paseo\, Rancho Santa Margarita \, CA\, 92688\, United States
CATEGORIES:City Governments,Rancho Santa Margarita
ATTACH;FMTTYPE=image/jpeg:https://voiceofoc.org/wp-content/uploads/2020/10/©JessicaRuiz_2019_Rancho_Santa_Margarita-6.jpg
GEO:33.6419366;-117.594582
X-APPLE-STRUCTURED-LOCATION;VALUE=URI;X-ADDRESS=DESCRIPTION:The Rancho Santa Margarita City Council generally meets on the second and fourth Wednesday of each month. \nThis meeting schedule can change particularly in months with national holidays so be sure to check the status of a meeting at the agenda link below. Make sure to check the agency’s website also for the latest protocols on in-person and/or virtual attendance. \nLATEST AGENDAS AND MINUTES: CLICK HERE \nMEETING TIME: The council’s regular meeting typically begins at 7 p.m. If there are any closed session items that portion of the meeting is held toward the end of the council’s regular meeting. \nMEETING  City Hall 22112 El Paseo Rancho Santa Margarita CA 92688 \nPUBLIC COMMENT: To submit a written comment for an upcoming meeting residents should email City Clerk Amy Diaz at adiaz@cityofrsm.org by 4:30 p.m. the day of the meeting. Written comments will not be read at the meetings.  \nThose who physically attend must fill out a speaker request form and submit it to the city clerk at the meeting. Public comments are limited to three minutes.  \nCURRENT OFFICIALS: Click here to see and contact the current members. \n\n\n	Related;X-APPLE-RADIUS=500;X-TITLE=22112 El Paseo:geo:-117.594582,33.6419366
END:VEVENT
BEGIN:VEVENT
DTSTART;TZID=America/Los_Angeles:20230712T190000
DTEND;TZID=America/Los_Angeles:20230712T210000
DTSTAMP:20260423T180749
CREATED:20200911T220514Z
LAST-MODIFIED:20240719T171900Z
UID:10023445-1689188400-1689195600@voiceofoc.org
SUMMARY:Rancho Santa Margarita City Council Meeting
DESCRIPTION:The Rancho Santa Margarita City Council generally meets on the second and fourth Wednesday of each month. \nThis meeting schedule can change\, particularly in months with national holidays\, so be sure to check the status of a meeting at the agenda link below. Make sure to check the agency’s website also for the latest protocols on in-person and/or virtual attendance. \nLATEST AGENDAS AND MINUTES: CLICK HERE \nMEETING TIME: The council’s regular meeting typically begins at 7 p.m. If there are any closed session items\, that portion of the meeting is held toward the end of the council’s regular meeting. \nMEETING LOCATION: City Hall 22112 El Paseo Rancho Santa Margarita\, CA 92688 \nPUBLIC COMMENT: To submit a written comment for an upcoming meeting\, residents should email City Clerk Amy Diaz at adiaz@cityofrsm.org by 4:30 p.m. the day of the meeting. Written comments will not be read at the meetings.  \nThose who physically attend must fill out a speaker request form and submit it to the city clerk at the meeting. Public comments are limited to three minutes.  \nCURRENT OFFICIALS: Click here to see and contact the current members. \n\n\n	Related
URL:https://voiceofoc.org/event/rancho-santa-margarita-city-council-meeting-2/2023-07-12/
LOCATION:Rancho Santa Margarita City Hall\, 22112 El Paseo\, Rancho Santa Margarita \, CA\, 92688\, United States
CATEGORIES:City Governments,Rancho Santa Margarita
ATTACH;FMTTYPE=image/jpeg:https://voiceofoc.org/wp-content/uploads/2020/10/©JessicaRuiz_2019_Rancho_Santa_Margarita-6.jpg
GEO:33.6419366;-117.594582
X-APPLE-STRUCTURED-LOCATION;VALUE=URI;X-ADDRESS=DESCRIPTION:The Rancho Santa Margarita City Council generally meets on the second and fourth Wednesday of each month. \nThis meeting schedule can change particularly in months with national holidays so be sure to check the status of a meeting at the agenda link below. Make sure to check the agency’s website also for the latest protocols on in-person and/or virtual attendance. \nLATEST AGENDAS AND MINUTES: CLICK HERE \nMEETING TIME: The council’s regular meeting typically begins at 7 p.m. If there are any closed session items that portion of the meeting is held toward the end of the council’s regular meeting. \nMEETING  City Hall 22112 El Paseo Rancho Santa Margarita CA 92688 \nPUBLIC COMMENT: To submit a written comment for an upcoming meeting residents should email City Clerk Amy Diaz at adiaz@cityofrsm.org by 4:30 p.m. the day of the meeting. Written comments will not be read at the meetings.  \nThose who physically attend must fill out a speaker request form and submit it to the city clerk at the meeting. Public comments are limited to three minutes.  \nCURRENT OFFICIALS: Click here to see and contact the current members. \n\n\n	Related;X-APPLE-RADIUS=500;X-TITLE=22112 El Paseo:geo:-117.594582,33.6419366
END:VEVENT
BEGIN:VEVENT
DTSTART;TZID=America/Los_Angeles:20230628T190000
DTEND;TZID=America/Los_Angeles:20230628T210000
DTSTAMP:20260423T180749
CREATED:20241007T224942Z
LAST-MODIFIED:20241223T180835Z
UID:10023478-1687978800-1687986000@voiceofoc.org
SUMMARY:Rancho Santa Margarita City Council Meeting
DESCRIPTION:The Rancho Santa Margarita City Council generally meets on the second and fourth Wednesday of each month. \nThis meeting schedule can change\, particularly in months with national holidays\, so be sure to check the status of a meeting at the agenda link below. Make sure to check the agency’s website also for the latest protocols on in-person and/or virtual attendance. \nLATEST AGENDAS AND MINUTES: CLICK HERE \nMEETING TIME: The council’s regular meeting typically begins at 7 p.m. If there are any closed session items\, that portion of the meeting is held toward the end of the council’s regular meeting. \nMEETING LOCATION: City Hall 22112 El Paseo Rancho Santa Margarita\, CA 92688 \nPUBLIC COMMENT: To submit a written comment for an upcoming meeting\, residents should email City Clerk Amy Diaz at adiaz@cityofrsm.org by 4:30 p.m. the day of the meeting. Written comments will not be read at the meetings.  \nThose who physically attend must fill out a speaker request form and submit it to the city clerk at the meeting. Public comments are limited to three minutes.  \nCURRENT OFFICIALS: Click here to see and contact the current members. \n\n\n	Related
URL:https://voiceofoc.org/event/rancho-santa-margarita-city-council-meeting-2-2/
LOCATION:Rancho Santa Margarita City Hall\, 22112 El Paseo\, Rancho Santa Margarita \, CA\, 92688\, United States
CATEGORIES:City Governments,Rancho Santa Margarita
ATTACH;FMTTYPE=image/jpeg:https://voiceofoc.org/wp-content/uploads/2020/10/©JessicaRuiz_2019_Rancho_Santa_Margarita-6.jpg
GEO:33.6419366;-117.594582
X-APPLE-STRUCTURED-LOCATION;VALUE=URI;X-ADDRESS=DESCRIPTION:The Rancho Santa Margarita City Council generally meets on the second and fourth Wednesday of each month. \nThis meeting schedule can change particularly in months with national holidays so be sure to check the status of a meeting at the agenda link below. Make sure to check the agency’s website also for the latest protocols on in-person and/or virtual attendance. \nLATEST AGENDAS AND MINUTES: CLICK HERE \nMEETING TIME: The council’s regular meeting typically begins at 7 p.m. If there are any closed session items that portion of the meeting is held toward the end of the council’s regular meeting. \nMEETING  City Hall 22112 El Paseo Rancho Santa Margarita CA 92688 \nPUBLIC COMMENT: To submit a written comment for an upcoming meeting residents should email City Clerk Amy Diaz at adiaz@cityofrsm.org by 4:30 p.m. the day of the meeting. Written comments will not be read at the meetings.  \nThose who physically attend must fill out a speaker request form and submit it to the city clerk at the meeting. Public comments are limited to three minutes.  \nCURRENT OFFICIALS: Click here to see and contact the current members. \n\n\n	Related;X-APPLE-RADIUS=500;X-TITLE=22112 El Paseo:geo:-117.594582,33.6419366
END:VEVENT
BEGIN:VEVENT
DTSTART;TZID=America/Los_Angeles:20230614T190000
DTEND;TZID=America/Los_Angeles:20230614T210000
DTSTAMP:20260423T180749
CREATED:20200911T220514Z
LAST-MODIFIED:20240719T171900Z
UID:10023444-1686769200-1686776400@voiceofoc.org
SUMMARY:Rancho Santa Margarita City Council Meeting
DESCRIPTION:The Rancho Santa Margarita City Council generally meets on the second and fourth Wednesday of each month. \nThis meeting schedule can change\, particularly in months with national holidays\, so be sure to check the status of a meeting at the agenda link below. Make sure to check the agency’s website also for the latest protocols on in-person and/or virtual attendance. \nLATEST AGENDAS AND MINUTES: CLICK HERE \nMEETING TIME: The council’s regular meeting typically begins at 7 p.m. If there are any closed session items\, that portion of the meeting is held toward the end of the council’s regular meeting. \nMEETING LOCATION: City Hall 22112 El Paseo Rancho Santa Margarita\, CA 92688 \nPUBLIC COMMENT: To submit a written comment for an upcoming meeting\, residents should email City Clerk Amy Diaz at adiaz@cityofrsm.org by 4:30 p.m. the day of the meeting. Written comments will not be read at the meetings.  \nThose who physically attend must fill out a speaker request form and submit it to the city clerk at the meeting. Public comments are limited to three minutes.  \nCURRENT OFFICIALS: Click here to see and contact the current members. \n\n\n	Related
URL:https://voiceofoc.org/event/rancho-santa-margarita-city-council-meeting-2/2023-06-14/
LOCATION:Rancho Santa Margarita City Hall\, 22112 El Paseo\, Rancho Santa Margarita \, CA\, 92688\, United States
CATEGORIES:City Governments,Rancho Santa Margarita
ATTACH;FMTTYPE=image/jpeg:https://voiceofoc.org/wp-content/uploads/2020/10/©JessicaRuiz_2019_Rancho_Santa_Margarita-6.jpg
GEO:33.6419366;-117.594582
X-APPLE-STRUCTURED-LOCATION;VALUE=URI;X-ADDRESS=DESCRIPTION:The Rancho Santa Margarita City Council generally meets on the second and fourth Wednesday of each month. \nThis meeting schedule can change particularly in months with national holidays so be sure to check the status of a meeting at the agenda link below. Make sure to check the agency’s website also for the latest protocols on in-person and/or virtual attendance. \nLATEST AGENDAS AND MINUTES: CLICK HERE \nMEETING TIME: The council’s regular meeting typically begins at 7 p.m. If there are any closed session items that portion of the meeting is held toward the end of the council’s regular meeting. \nMEETING  City Hall 22112 El Paseo Rancho Santa Margarita CA 92688 \nPUBLIC COMMENT: To submit a written comment for an upcoming meeting residents should email City Clerk Amy Diaz at adiaz@cityofrsm.org by 4:30 p.m. the day of the meeting. Written comments will not be read at the meetings.  \nThose who physically attend must fill out a speaker request form and submit it to the city clerk at the meeting. Public comments are limited to three minutes.  \nCURRENT OFFICIALS: Click here to see and contact the current members. \n\n\n	Related;X-APPLE-RADIUS=500;X-TITLE=22112 El Paseo:geo:-117.594582,33.6419366
END:VEVENT
END:VCALENDAR