BEGIN:VCALENDAR
VERSION:2.0
PRODID:-//Voice of OC - ECPv6.15.20//NONSGML v1.0//EN
CALSCALE:GREGORIAN
METHOD:PUBLISH
X-WR-CALNAME:Voice of OC
X-ORIGINAL-URL:https://voiceofoc.org
X-WR-CALDESC:Events for Voice of OC
REFRESH-INTERVAL;VALUE=DURATION:PT1H
X-Robots-Tag:noindex
X-PUBLISHED-TTL:PT1H
BEGIN:VTIMEZONE
TZID:America/Los_Angeles
BEGIN:DAYLIGHT
TZOFFSETFROM:-0800
TZOFFSETTO:-0700
TZNAME:PDT
DTSTART:20220313T100000
END:DAYLIGHT
BEGIN:STANDARD
TZOFFSETFROM:-0700
TZOFFSETTO:-0800
TZNAME:PST
DTSTART:20221106T090000
END:STANDARD
BEGIN:DAYLIGHT
TZOFFSETFROM:-0800
TZOFFSETTO:-0700
TZNAME:PDT
DTSTART:20230312T100000
END:DAYLIGHT
BEGIN:STANDARD
TZOFFSETFROM:-0700
TZOFFSETTO:-0800
TZNAME:PST
DTSTART:20231105T090000
END:STANDARD
BEGIN:DAYLIGHT
TZOFFSETFROM:-0800
TZOFFSETTO:-0700
TZNAME:PDT
DTSTART:20240310T100000
END:DAYLIGHT
BEGIN:STANDARD
TZOFFSETFROM:-0700
TZOFFSETTO:-0800
TZNAME:PST
DTSTART:20241103T090000
END:STANDARD
END:VTIMEZONE
BEGIN:VEVENT
DTSTART;TZID=America/Los_Angeles:20230704T120000
DTEND;TZID=America/Los_Angeles:20230704T223000
DTSTAMP:20260419T192723
CREATED:20230627T230724Z
LAST-MODIFIED:20230627T230724Z
UID:10025453-1688472000-1688509800@voiceofoc.org
SUMMARY:San Juan Capistrano: Fourth of July Celebration and Summer Carnival
DESCRIPTION:Time: 12-10:30 p.m. \nLocation: San Juan Capistrano Sports Park — 255925 Camino Del Avion \n  \nSan Juan Capistrano presents the July 4 celebration and carnival with food\, exhibit booths\, live music\, alcohol and games for the whole family. The fireworks show begins at 9 p.m. \nThere is on-site and street parking available. There is also a free trolley service to bring guests to the carnival. See the event flyer for more details on the trolley stops. \n\n\n	Related
URL:https://voiceofoc.org/event/san-juan-capistrano-fourth-of-july-celebration-and-summer-carnival/
LOCATION:San Juan Capistrano Sports Park\, 255925 Camino Del Avion\, San Juan Capistrano\, CA\, 92629\, United States
GEO:33.4871207;-117.6797733
X-APPLE-STRUCTURED-LOCATION;VALUE=URI;X-ADDRESS=San Juan Capistrano Sports Park 255925 Camino Del Avion San Juan Capistrano CA 92629 United States;X-APPLE-RADIUS=500;X-TITLE=255925 Camino Del Avion:geo:-117.6797733,33.4871207
END:VEVENT
END:VCALENDAR