BEGIN:VCALENDAR
VERSION:2.0
PRODID:-//Voice of OC - ECPv6.15.20//NONSGML v1.0//EN
CALSCALE:GREGORIAN
METHOD:PUBLISH
X-WR-CALNAME:Voice of OC
X-ORIGINAL-URL:https://voiceofoc.org
X-WR-CALDESC:Events for Voice of OC
REFRESH-INTERVAL;VALUE=DURATION:PT1H
X-Robots-Tag:noindex
X-PUBLISHED-TTL:PT1H
BEGIN:VTIMEZONE
TZID:America/Los_Angeles
BEGIN:DAYLIGHT
TZOFFSETFROM:-0800
TZOFFSETTO:-0700
TZNAME:PDT
DTSTART:20220313T100000
END:DAYLIGHT
BEGIN:STANDARD
TZOFFSETFROM:-0700
TZOFFSETTO:-0800
TZNAME:PST
DTSTART:20221106T090000
END:STANDARD
BEGIN:DAYLIGHT
TZOFFSETFROM:-0800
TZOFFSETTO:-0700
TZNAME:PDT
DTSTART:20230312T100000
END:DAYLIGHT
BEGIN:STANDARD
TZOFFSETFROM:-0700
TZOFFSETTO:-0800
TZNAME:PST
DTSTART:20231105T090000
END:STANDARD
BEGIN:DAYLIGHT
TZOFFSETFROM:-0800
TZOFFSETTO:-0700
TZNAME:PDT
DTSTART:20240310T100000
END:DAYLIGHT
BEGIN:STANDARD
TZOFFSETFROM:-0700
TZOFFSETTO:-0800
TZNAME:PST
DTSTART:20241103T090000
END:STANDARD
END:VTIMEZONE
BEGIN:VEVENT
DTSTART;TZID=America/Los_Angeles:20230919T183000
DTEND;TZID=America/Los_Angeles:20230919T203000
DTSTAMP:20260420T200806
CREATED:20210316T015937Z
LAST-MODIFIED:20240702T183310Z
UID:10024231-1695148200-1695155400@voiceofoc.org
SUMMARY:Yorba Linda City Council Meeting
DESCRIPTION:The Yorba Linda City Council generally meets on the first and third Tuesday of each month. \nThis meeting schedule can change\, particularly in months with national holidays\, so be sure to check the status of a meeting at the agenda link below. Make sure to check the agency’s website also for the latest protocols on in-person and/or virtual attendance. \nLATEST AGENDAS AND MINUTES: CLICK HERE \nMEETING TIME: The council’s regular meeting typically begins at 6:30 p.m. If there are any closed session items\, that portion of the meeting usually begins at 5:30 p.m. \nMEETING LOCATION: Yorba Linda City Council Chambers 4845 Casa Loma Avenue Yorba Linda\, CA 92886. \nMeetings are accessible to the public via cable channel 3\, channel 99 AT&T U-VERSE and live on the city’s website. \nPUBLIC COMMENT: Residents that wish to comment on agenda items can email the City Clerk at cityclerk@yorbalindaca.gov and specify the following information: full name\, city of residence\, phone number\, public comment or agenda item number\, subject and written comments. All comments must be emailed to the city clerk no later than 3 p.m. on the day of the meeting. Written comments will become public record and will be read during the meeting. \nResidents can also address agenda items in person during the public comment section of the council meeting. There is a five-minute limit for each speaker. \nCURRENT OFFICIALS: Click here to see and contact the current members. \n\n\n	Related
URL:https://voiceofoc.org/event/yorba-linda-city-council-meeting-3/2023-09-19/
LOCATION:Yorba Linda City Council Chambers\, 4845 Casa Loma Avenue\, Yorba Linda\, CA\, 92885\, United States
CATEGORIES:City Governments,Yorba Linda
ATTACH;FMTTYPE=image/jpeg:https://voiceofoc.org/wp-content/uploads/2021/03/Yorba_Linda-5.EDIT_.jpg
GEO:33.891104;-117.8249592
X-APPLE-STRUCTURED-LOCATION;VALUE=URI;X-ADDRESS=DESCRIPTION:The Yorba Linda City Council generally meets on the first and third Tuesday of each month. \nThis meeting schedule can change particularly in months with national holidays so be sure to check the status of a meeting at the agenda link below. Make sure to check the agency’s website also for the latest protocols on in-person and/or virtual attendance. \nLATEST AGENDAS AND MINUTES: CLICK HERE \nMEETING TIME: The council’s regular meeting typically begins at 6:30 p.m. If there are any closed session items that portion of the meeting usually begins at 5:30 p.m. \nMEETING  Yorba Linda City Council Chambers 4845 Casa Loma Avenue Yorba Linda CA 92886. \nMeetings are accessible to the public via cable channel 3 channel 99 AT&T U-VERSE and live on the city’s website. \nPUBLIC COMMENT: Residents that wish to comment on agenda items can email the City Clerk at cityclerk@yorbalindaca.gov and specify the following information: full name city of residence phone number public comment or agenda item number subject and written comments. All comments must be emailed to the city clerk no later than 3 p.m. on the day of the meeting. Written comments will become public record and will be read during the meeting. \nResidents can also address agenda items in person during the public comment section of the council meeting. There is a five-minute limit for each speaker. \nCURRENT OFFICIALS: Click here to see and contact the current members. \n\n\n	Related;X-APPLE-RADIUS=500;X-TITLE=4845 Casa Loma Avenue:geo:-117.8249592,33.891104
END:VEVENT
BEGIN:VEVENT
DTSTART;TZID=America/Los_Angeles:20230815T183000
DTEND;TZID=America/Los_Angeles:20230815T203000
DTSTAMP:20260420T200806
CREATED:20210316T015937Z
LAST-MODIFIED:20240702T183310Z
UID:10024230-1692124200-1692131400@voiceofoc.org
SUMMARY:Yorba Linda City Council Meeting
DESCRIPTION:The Yorba Linda City Council generally meets on the first and third Tuesday of each month. \nThis meeting schedule can change\, particularly in months with national holidays\, so be sure to check the status of a meeting at the agenda link below. Make sure to check the agency’s website also for the latest protocols on in-person and/or virtual attendance. \nLATEST AGENDAS AND MINUTES: CLICK HERE \nMEETING TIME: The council’s regular meeting typically begins at 6:30 p.m. If there are any closed session items\, that portion of the meeting usually begins at 5:30 p.m. \nMEETING LOCATION: Yorba Linda City Council Chambers 4845 Casa Loma Avenue Yorba Linda\, CA 92886. \nMeetings are accessible to the public via cable channel 3\, channel 99 AT&T U-VERSE and live on the city’s website. \nPUBLIC COMMENT: Residents that wish to comment on agenda items can email the City Clerk at cityclerk@yorbalindaca.gov and specify the following information: full name\, city of residence\, phone number\, public comment or agenda item number\, subject and written comments. All comments must be emailed to the city clerk no later than 3 p.m. on the day of the meeting. Written comments will become public record and will be read during the meeting. \nResidents can also address agenda items in person during the public comment section of the council meeting. There is a five-minute limit for each speaker. \nCURRENT OFFICIALS: Click here to see and contact the current members. \n\n\n	Related
URL:https://voiceofoc.org/event/yorba-linda-city-council-meeting-3/2023-08-15/
LOCATION:Yorba Linda City Council Chambers\, 4845 Casa Loma Avenue\, Yorba Linda\, CA\, 92885\, United States
CATEGORIES:City Governments,Yorba Linda
ATTACH;FMTTYPE=image/jpeg:https://voiceofoc.org/wp-content/uploads/2021/03/Yorba_Linda-5.EDIT_.jpg
GEO:33.891104;-117.8249592
X-APPLE-STRUCTURED-LOCATION;VALUE=URI;X-ADDRESS=DESCRIPTION:The Yorba Linda City Council generally meets on the first and third Tuesday of each month. \nThis meeting schedule can change particularly in months with national holidays so be sure to check the status of a meeting at the agenda link below. Make sure to check the agency’s website also for the latest protocols on in-person and/or virtual attendance. \nLATEST AGENDAS AND MINUTES: CLICK HERE \nMEETING TIME: The council’s regular meeting typically begins at 6:30 p.m. If there are any closed session items that portion of the meeting usually begins at 5:30 p.m. \nMEETING  Yorba Linda City Council Chambers 4845 Casa Loma Avenue Yorba Linda CA 92886. \nMeetings are accessible to the public via cable channel 3 channel 99 AT&T U-VERSE and live on the city’s website. \nPUBLIC COMMENT: Residents that wish to comment on agenda items can email the City Clerk at cityclerk@yorbalindaca.gov and specify the following information: full name city of residence phone number public comment or agenda item number subject and written comments. All comments must be emailed to the city clerk no later than 3 p.m. on the day of the meeting. Written comments will become public record and will be read during the meeting. \nResidents can also address agenda items in person during the public comment section of the council meeting. There is a five-minute limit for each speaker. \nCURRENT OFFICIALS: Click here to see and contact the current members. \n\n\n	Related;X-APPLE-RADIUS=500;X-TITLE=4845 Casa Loma Avenue:geo:-117.8249592,33.891104
END:VEVENT
BEGIN:VEVENT
DTSTART;TZID=America/Los_Angeles:20230801T183000
DTEND;TZID=America/Los_Angeles:20230801T203000
DTSTAMP:20260420T200806
CREATED:20241007T225003Z
LAST-MODIFIED:20250107T184103Z
UID:10024262-1690914600-1690921800@voiceofoc.org
SUMMARY:Yorba Linda City Council Meeting
DESCRIPTION:The Yorba Linda City Council generally meets on the first and third Tuesday of each month. \nThis meeting schedule can change\, particularly in months with national holidays\, so be sure to check the status of a meeting at the agenda link below. Make sure to check the agency’s website also for the latest protocols on in-person and/or virtual attendance. \nLATEST AGENDAS AND MINUTES: CLICK HERE \nMEETING TIME: The council’s regular meeting typically begins at 6:30 p.m. If there are any closed session items\, that portion of the meeting usually begins at 5:30 p.m. \nMEETING LOCATION: Yorba Linda City Council Chambers 4845 Casa Loma Avenue Yorba Linda\, CA 92886. \nMeetings are accessible to the public via cable channel 3\, channel 99 AT&T U-VERSE and live on the city’s website. \nPUBLIC COMMENT: Residents that wish to comment on agenda items can email the City Clerk at cityclerk@yorbalindaca.gov and specify the following information: full name\, city of residence\, phone number\, public comment or agenda item number\, subject and written comments. All comments must be emailed to the city clerk no later than 3 p.m. on the day of the meeting. Written comments will become public record and will be read during the meeting. \nResidents can also address agenda items in person during the public comment section of the council meeting. There is a five-minute limit for each speaker. \nCURRENT OFFICIALS: Click here to see and contact the current members. \n\n\n	Related
URL:https://voiceofoc.org/event/yorba-linda-city-council-meeting-3-2/
LOCATION:Yorba Linda City Council Chambers\, 4845 Casa Loma Avenue\, Yorba Linda\, CA\, 92885\, United States
CATEGORIES:City Governments,Yorba Linda
ATTACH;FMTTYPE=image/jpeg:https://voiceofoc.org/wp-content/uploads/2021/03/Yorba_Linda-5.EDIT_.jpg
GEO:33.891104;-117.8249592
X-APPLE-STRUCTURED-LOCATION;VALUE=URI;X-ADDRESS=DESCRIPTION:The Yorba Linda City Council generally meets on the first and third Tuesday of each month. \nThis meeting schedule can change particularly in months with national holidays so be sure to check the status of a meeting at the agenda link below. Make sure to check the agency’s website also for the latest protocols on in-person and/or virtual attendance. \nLATEST AGENDAS AND MINUTES: CLICK HERE \nMEETING TIME: The council’s regular meeting typically begins at 6:30 p.m. If there are any closed session items that portion of the meeting usually begins at 5:30 p.m. \nMEETING  Yorba Linda City Council Chambers 4845 Casa Loma Avenue Yorba Linda CA 92886. \nMeetings are accessible to the public via cable channel 3 channel 99 AT&T U-VERSE and live on the city’s website. \nPUBLIC COMMENT: Residents that wish to comment on agenda items can email the City Clerk at cityclerk@yorbalindaca.gov and specify the following information: full name city of residence phone number public comment or agenda item number subject and written comments. All comments must be emailed to the city clerk no later than 3 p.m. on the day of the meeting. Written comments will become public record and will be read during the meeting. \nResidents can also address agenda items in person during the public comment section of the council meeting. There is a five-minute limit for each speaker. \nCURRENT OFFICIALS: Click here to see and contact the current members. \n\n\n	Related;X-APPLE-RADIUS=500;X-TITLE=4845 Casa Loma Avenue:geo:-117.8249592,33.891104
END:VEVENT
BEGIN:VEVENT
DTSTART;TZID=America/Los_Angeles:20230718T183000
DTEND;TZID=America/Los_Angeles:20230718T203000
DTSTAMP:20260420T200806
CREATED:20210316T015937Z
LAST-MODIFIED:20240702T183310Z
UID:10024229-1689705000-1689712200@voiceofoc.org
SUMMARY:Yorba Linda City Council Meeting
DESCRIPTION:The Yorba Linda City Council generally meets on the first and third Tuesday of each month. \nThis meeting schedule can change\, particularly in months with national holidays\, so be sure to check the status of a meeting at the agenda link below. Make sure to check the agency’s website also for the latest protocols on in-person and/or virtual attendance. \nLATEST AGENDAS AND MINUTES: CLICK HERE \nMEETING TIME: The council’s regular meeting typically begins at 6:30 p.m. If there are any closed session items\, that portion of the meeting usually begins at 5:30 p.m. \nMEETING LOCATION: Yorba Linda City Council Chambers 4845 Casa Loma Avenue Yorba Linda\, CA 92886. \nMeetings are accessible to the public via cable channel 3\, channel 99 AT&T U-VERSE and live on the city’s website. \nPUBLIC COMMENT: Residents that wish to comment on agenda items can email the City Clerk at cityclerk@yorbalindaca.gov and specify the following information: full name\, city of residence\, phone number\, public comment or agenda item number\, subject and written comments. All comments must be emailed to the city clerk no later than 3 p.m. on the day of the meeting. Written comments will become public record and will be read during the meeting. \nResidents can also address agenda items in person during the public comment section of the council meeting. There is a five-minute limit for each speaker. \nCURRENT OFFICIALS: Click here to see and contact the current members. \n\n\n	Related
URL:https://voiceofoc.org/event/yorba-linda-city-council-meeting-3/2023-07-18/
LOCATION:Yorba Linda City Council Chambers\, 4845 Casa Loma Avenue\, Yorba Linda\, CA\, 92885\, United States
CATEGORIES:City Governments,Yorba Linda
ATTACH;FMTTYPE=image/jpeg:https://voiceofoc.org/wp-content/uploads/2021/03/Yorba_Linda-5.EDIT_.jpg
GEO:33.891104;-117.8249592
X-APPLE-STRUCTURED-LOCATION;VALUE=URI;X-ADDRESS=DESCRIPTION:The Yorba Linda City Council generally meets on the first and third Tuesday of each month. \nThis meeting schedule can change particularly in months with national holidays so be sure to check the status of a meeting at the agenda link below. Make sure to check the agency’s website also for the latest protocols on in-person and/or virtual attendance. \nLATEST AGENDAS AND MINUTES: CLICK HERE \nMEETING TIME: The council’s regular meeting typically begins at 6:30 p.m. If there are any closed session items that portion of the meeting usually begins at 5:30 p.m. \nMEETING  Yorba Linda City Council Chambers 4845 Casa Loma Avenue Yorba Linda CA 92886. \nMeetings are accessible to the public via cable channel 3 channel 99 AT&T U-VERSE and live on the city’s website. \nPUBLIC COMMENT: Residents that wish to comment on agenda items can email the City Clerk at cityclerk@yorbalindaca.gov and specify the following information: full name city of residence phone number public comment or agenda item number subject and written comments. All comments must be emailed to the city clerk no later than 3 p.m. on the day of the meeting. Written comments will become public record and will be read during the meeting. \nResidents can also address agenda items in person during the public comment section of the council meeting. There is a five-minute limit for each speaker. \nCURRENT OFFICIALS: Click here to see and contact the current members. \n\n\n	Related;X-APPLE-RADIUS=500;X-TITLE=4845 Casa Loma Avenue:geo:-117.8249592,33.891104
END:VEVENT
BEGIN:VEVENT
DTSTART;TZID=America/Los_Angeles:20230620T183000
DTEND;TZID=America/Los_Angeles:20230620T203000
DTSTAMP:20260420T200806
CREATED:20210316T015937Z
LAST-MODIFIED:20240702T183310Z
UID:10024228-1687285800-1687293000@voiceofoc.org
SUMMARY:Yorba Linda City Council Meeting
DESCRIPTION:The Yorba Linda City Council generally meets on the first and third Tuesday of each month. \nThis meeting schedule can change\, particularly in months with national holidays\, so be sure to check the status of a meeting at the agenda link below. Make sure to check the agency’s website also for the latest protocols on in-person and/or virtual attendance. \nLATEST AGENDAS AND MINUTES: CLICK HERE \nMEETING TIME: The council’s regular meeting typically begins at 6:30 p.m. If there are any closed session items\, that portion of the meeting usually begins at 5:30 p.m. \nMEETING LOCATION: Yorba Linda City Council Chambers 4845 Casa Loma Avenue Yorba Linda\, CA 92886. \nMeetings are accessible to the public via cable channel 3\, channel 99 AT&T U-VERSE and live on the city’s website. \nPUBLIC COMMENT: Residents that wish to comment on agenda items can email the City Clerk at cityclerk@yorbalindaca.gov and specify the following information: full name\, city of residence\, phone number\, public comment or agenda item number\, subject and written comments. All comments must be emailed to the city clerk no later than 3 p.m. on the day of the meeting. Written comments will become public record and will be read during the meeting. \nResidents can also address agenda items in person during the public comment section of the council meeting. There is a five-minute limit for each speaker. \nCURRENT OFFICIALS: Click here to see and contact the current members. \n\n\n	Related
URL:https://voiceofoc.org/event/yorba-linda-city-council-meeting-3/2023-06-20/
LOCATION:Yorba Linda City Council Chambers\, 4845 Casa Loma Avenue\, Yorba Linda\, CA\, 92885\, United States
CATEGORIES:City Governments,Yorba Linda
ATTACH;FMTTYPE=image/jpeg:https://voiceofoc.org/wp-content/uploads/2021/03/Yorba_Linda-5.EDIT_.jpg
GEO:33.891104;-117.8249592
X-APPLE-STRUCTURED-LOCATION;VALUE=URI;X-ADDRESS=DESCRIPTION:The Yorba Linda City Council generally meets on the first and third Tuesday of each month. \nThis meeting schedule can change particularly in months with national holidays so be sure to check the status of a meeting at the agenda link below. Make sure to check the agency’s website also for the latest protocols on in-person and/or virtual attendance. \nLATEST AGENDAS AND MINUTES: CLICK HERE \nMEETING TIME: The council’s regular meeting typically begins at 6:30 p.m. If there are any closed session items that portion of the meeting usually begins at 5:30 p.m. \nMEETING  Yorba Linda City Council Chambers 4845 Casa Loma Avenue Yorba Linda CA 92886. \nMeetings are accessible to the public via cable channel 3 channel 99 AT&T U-VERSE and live on the city’s website. \nPUBLIC COMMENT: Residents that wish to comment on agenda items can email the City Clerk at cityclerk@yorbalindaca.gov and specify the following information: full name city of residence phone number public comment or agenda item number subject and written comments. All comments must be emailed to the city clerk no later than 3 p.m. on the day of the meeting. Written comments will become public record and will be read during the meeting. \nResidents can also address agenda items in person during the public comment section of the council meeting. There is a five-minute limit for each speaker. \nCURRENT OFFICIALS: Click here to see and contact the current members. \n\n\n	Related;X-APPLE-RADIUS=500;X-TITLE=4845 Casa Loma Avenue:geo:-117.8249592,33.891104
END:VEVENT
END:VCALENDAR